BEGIN:VCALENDAR
VERSION:2.0
PRODID:-//Events - ECPv6.15.20//NONSGML v1.0//EN
CALSCALE:GREGORIAN
METHOD:PUBLISH
X-WR-CALNAME:Events
X-ORIGINAL-URL:https://events.ucsc.edu
X-WR-CALDESC:Events for Events
REFRESH-INTERVAL;VALUE=DURATION:PT1H
X-Robots-Tag:noindex
X-PUBLISHED-TTL:PT1H
BEGIN:VTIMEZONE
TZID:America/Los_Angeles
BEGIN:DAYLIGHT
TZOFFSETFROM:-0800
TZOFFSETTO:-0700
TZNAME:PDT
DTSTART:20250309T100000
END:DAYLIGHT
BEGIN:STANDARD
TZOFFSETFROM:-0700
TZOFFSETTO:-0800
TZNAME:PST
DTSTART:20251102T090000
END:STANDARD
BEGIN:DAYLIGHT
TZOFFSETFROM:-0800
TZOFFSETTO:-0700
TZNAME:PDT
DTSTART:20260308T100000
END:DAYLIGHT
BEGIN:STANDARD
TZOFFSETFROM:-0700
TZOFFSETTO:-0800
TZNAME:PST
DTSTART:20261101T090000
END:STANDARD
BEGIN:DAYLIGHT
TZOFFSETFROM:-0800
TZOFFSETTO:-0700
TZNAME:PDT
DTSTART:20270314T100000
END:DAYLIGHT
BEGIN:STANDARD
TZOFFSETFROM:-0700
TZOFFSETTO:-0800
TZNAME:PST
DTSTART:20271107T090000
END:STANDARD
END:VTIMEZONE
BEGIN:VEVENT
DTSTART;TZID=America/Los_Angeles:20260501T150000
DTEND;TZID=America/Los_Angeles:20260501T170000
DTSTAMP:20260422T232611
CREATED:20260422T204348Z
LAST-MODIFIED:20260423T005713Z
UID:10013951-1777647600-1777654800@events.ucsc.edu
SUMMARY:Meet the Campus Mobile Crisis Team
DESCRIPTION:The UC Santa Cruz Campus Mobile Crisis Team (CMCT) will be at the SHOP RAVE Ready Event at Porter College Quad on May 1 from 3–5 PM. Drop by to meet the CMCT team\, learn more about the services they offer\, and connect in a welcoming space. Enjoy some treats while you’re there and take the opportunity to get familiar with your campus resources. \nThis event is supported by Student Health Services for Mental Health Awareness Month. You are invited to engage in a variety of campus-wide activities focused on mental health and wellness. Learn about support services\, discover ways to help a friend in need\, and explore strategies to care for your own well-being. Information is available on the Mental Health Month Event Calendar. \nYou Belong Here: The programs and services described here are open to all\, consistent with state and federal law\, as well as the University of California’s nondiscrimination policies. Every initiative—whether a student service\, faculty program\, or community event—is designed to be accessible\, inclusive\, and respectful of all identities. \nTo learn more\, please visit UC Nondiscrimination Statement or Nondiscrimination Policy for UC Publications.
URL:https://events.ucsc.edu/event/meet-the-campus-mobile-crisis-team/
LOCATION:Porter College Quad
ATTACH;FMTTYPE=image/png:https://events.ucsc.edu/wp-content/uploads/2026/04/CMCT-cal-e1776903922734.png
END:VEVENT
END:VCALENDAR