BEGIN:VCALENDAR
VERSION:2.0
PRODID:-//Events - ECPv6.15.20//NONSGML v1.0//EN
CALSCALE:GREGORIAN
METHOD:PUBLISH
X-WR-CALNAME:Events
X-ORIGINAL-URL:https://events.ucsc.edu
X-WR-CALDESC:Events for Events
REFRESH-INTERVAL;VALUE=DURATION:PT1H
X-Robots-Tag:noindex
X-PUBLISHED-TTL:PT1H
BEGIN:VTIMEZONE
TZID:America/Los_Angeles
BEGIN:DAYLIGHT
TZOFFSETFROM:-0800
TZOFFSETTO:-0700
TZNAME:PDT
DTSTART:20250309T100000
END:DAYLIGHT
BEGIN:STANDARD
TZOFFSETFROM:-0700
TZOFFSETTO:-0800
TZNAME:PST
DTSTART:20251102T090000
END:STANDARD
BEGIN:DAYLIGHT
TZOFFSETFROM:-0800
TZOFFSETTO:-0700
TZNAME:PDT
DTSTART:20260308T100000
END:DAYLIGHT
BEGIN:STANDARD
TZOFFSETFROM:-0700
TZOFFSETTO:-0800
TZNAME:PST
DTSTART:20261101T090000
END:STANDARD
BEGIN:DAYLIGHT
TZOFFSETFROM:-0800
TZOFFSETTO:-0700
TZNAME:PDT
DTSTART:20270314T100000
END:DAYLIGHT
BEGIN:STANDARD
TZOFFSETFROM:-0700
TZOFFSETTO:-0800
TZNAME:PST
DTSTART:20271107T090000
END:STANDARD
END:VTIMEZONE
BEGIN:VEVENT
DTSTART;TZID=America/Los_Angeles:20260414T120000
DTEND;TZID=America/Los_Angeles:20260414T130000
DTSTAMP:20260424T051250
CREATED:20260407T191646Z
LAST-MODIFIED:20260407T191800Z
UID:10012064-1776168000-1776171600@events.ucsc.edu
SUMMARY:Nursing School Info Session with UPENN and Johns Hopkins
DESCRIPTION:University of Pennsylvania and Johns Hopkins Schools of Nursing each offer accelerated nursing programs for individuals looking to transition to the field from non-nursing degrees. \nWe will cover program overview\, admissions and career outcomes. \nHumanities 1 – Room 202 \nRegister now! \n  \nYOU BELONG HERE\nPrograms and services are open to all\, consistent with state and federal law\, as well as the University of California’s nondiscrimination policies. Every initiative—whether a student service\, faculty program\, or community event—is designed to be accessible\, inclusive\, and respectful of all identities. To learn more\, please visit UC Nondiscrimination Statement or Nondiscrimination Policy for UC Publications.
URL:https://events.ucsc.edu/event/nursing-school-info-session-with-upenn-and-johns-hopkins/
LOCATION:Humanities 1 Building\, 257 Cowell-Stevenson Road\, Santa Cruz\, CA\, 95064\, United States
CATEGORIES:Lectures & Presentations,Meetings & Conferences,Seminars
ATTACH;FMTTYPE=image/png:https://events.ucsc.edu/wp-content/uploads/2026/04/Screenshot-2026-04-07-at-12.08.20-PM-scaled.png
GEO:36.9979834;-122.0555164
X-APPLE-STRUCTURED-LOCATION;VALUE=URI;X-ADDRESS=Humanities 1 Building 257 Cowell-Stevenson Road Santa Cruz CA 95064 United States;X-APPLE-RADIUS=500;X-TITLE=257 Cowell-Stevenson Road:geo:-122.0555164,36.9979834
END:VEVENT
BEGIN:VEVENT
DTSTART;TZID=America/Los_Angeles:20260414T130000
DTEND;TZID=America/Los_Angeles:20260414T170000
DTSTAMP:20260424T051250
CREATED:20260410T064650Z
LAST-MODIFIED:20260410T064650Z
UID:10012091-1776171600-1776186000@events.ucsc.edu
SUMMARY:Gen AI Dev Tools Bootcamp with AWS
DESCRIPTION:Are you curious about generative AI development tools and vibe coding? \nJoin us for an excitng in-person boot camp where you will take part in a hands-on lab that will introduce you to the fundamentals of this rapidly growing field. \nHere’s the tentative schedule: \n1:00 – 1:45 – Intro to AI/ML \n1:45 – 2:45 – Hands-on developers workshop \n3:00 – 3:20 – Student demos \n3:20 – 3:50 – Career panel \n3:50 – 4:00 – Kahoot and closing (with giveaways) \n  \nIMPORTANT NOTE: Because participants will be given a temporary AWS account\, all attendees MUST register in advance!!! That means that registration will close on April 6th\, no exceptions! \nIf you have disability-related needs\, please contact the Career Success office at csuccess@ucsc.edu or (831) 459-4420 as soon as possible. \n  \nYOU BELONG HERE\nPrograms and services are open to all\, consistent with state and federal law\, as well as the University of California’s nondiscrimination policies. Every initiative—whether a student service\, faculty program\, or community event—is designed to be accessible\, inclusive\, and respectful of all identities. To learn more\, please visit UC Nondiscrimination Statement or Nondiscrimination Policy for UC Publications.
URL:https://events.ucsc.edu/event/gen-ai-dev-tools-bootcamp-with-aws/
LOCATION:Engineering 2\, Engineering 2 1156 High Street\, Santa Cruz\, CA\, 95064
CATEGORIES:Undergraduate
ATTACH;FMTTYPE=image/png:https://events.ucsc.edu/wp-content/uploads/2026/04/BE-logomark_localist.png
GEO:37.0009723;-122.0632371
X-APPLE-STRUCTURED-LOCATION;VALUE=URI;X-ADDRESS=Engineering 2 Engineering 2 1156 High Street Santa Cruz CA 95064;X-APPLE-RADIUS=500;X-TITLE=Engineering 2 1156 High Street:geo:-122.0632371,37.0009723
END:VEVENT
BEGIN:VEVENT
DTSTART;TZID=America/Los_Angeles:20260414T160000
DTEND;TZID=America/Los_Angeles:20260414T170000
DTSTAMP:20260424T051250
CREATED:20260407T191115Z
LAST-MODIFIED:20260408T203231Z
UID:10012063-1776182400-1776186000@events.ucsc.edu
SUMMARY:Prepare for the Fair with COOP Careers
DESCRIPTION:Join us for an in-person workshop with COOP Careers about elevating your professional brand – just in time to prepare for the Spring Career & Internship Fair. \nThis session will help students craft a compelling professional pitch\, tailor their resume to stand out to employers\, and network meaningfully with industry professionals. Don’t miss this chance to get fair-ready and set yourself up for success! \nRegister now! \nYOU BELONG HERE\nPrograms and services are open to all\, consistent with state and federal law\, as well as the University of California’s nondiscrimination policies. Every initiative—whether a student service\, faculty program\, or community event—is designed to be accessible\, inclusive\, and respectful of all identities. To learn more\, please visit UC Nondiscrimination Statement or Nondiscrimination Policy for UC Publications.
URL:https://events.ucsc.edu/event/prepare-for-the-fair-with-coop-careers/
LOCATION:Career Success Student Lounge (125 Hahn)\, 1156 High Street\, Santa Cruz\, CA\, 95064\, United States
CATEGORIES:Meetings & Conferences,Seminars,Training,Undergraduate,Workshop
ATTACH;FMTTYPE=image/png:https://events.ucsc.edu/wp-content/uploads/2026/04/Screenshot-2026-04-07-at-12.09.12-PM.png
GEO:36.9834948;-122.0564004
X-APPLE-STRUCTURED-LOCATION;VALUE=URI;X-ADDRESS=Career Success Student Lounge (125 Hahn) 1156 High Street Santa Cruz CA 95064 United States;X-APPLE-RADIUS=500;X-TITLE=1156 High Street:geo:-122.0564004,36.9834948
END:VEVENT
END:VCALENDAR