BEGIN:VCALENDAR
VERSION:2.0
PRODID:-//Events - ECPv6.15.20//NONSGML v1.0//EN
CALSCALE:GREGORIAN
METHOD:PUBLISH
X-WR-CALNAME:Events
X-ORIGINAL-URL:https://events.ucsc.edu
X-WR-CALDESC:Events for Events
REFRESH-INTERVAL;VALUE=DURATION:PT1H
X-Robots-Tag:noindex
X-PUBLISHED-TTL:PT1H
BEGIN:VTIMEZONE
TZID:America/Los_Angeles
BEGIN:DAYLIGHT
TZOFFSETFROM:-0800
TZOFFSETTO:-0700
TZNAME:PDT
DTSTART:20240310T100000
END:DAYLIGHT
BEGIN:STANDARD
TZOFFSETFROM:-0700
TZOFFSETTO:-0800
TZNAME:PST
DTSTART:20241103T090000
END:STANDARD
BEGIN:DAYLIGHT
TZOFFSETFROM:-0800
TZOFFSETTO:-0700
TZNAME:PDT
DTSTART:20250309T100000
END:DAYLIGHT
BEGIN:STANDARD
TZOFFSETFROM:-0700
TZOFFSETTO:-0800
TZNAME:PST
DTSTART:20251102T090000
END:STANDARD
BEGIN:DAYLIGHT
TZOFFSETFROM:-0800
TZOFFSETTO:-0700
TZNAME:PDT
DTSTART:20260308T100000
END:DAYLIGHT
BEGIN:STANDARD
TZOFFSETFROM:-0700
TZOFFSETTO:-0800
TZNAME:PST
DTSTART:20261101T090000
END:STANDARD
BEGIN:DAYLIGHT
TZOFFSETFROM:-0800
TZOFFSETTO:-0700
TZNAME:PDT
DTSTART:20270314T100000
END:DAYLIGHT
BEGIN:STANDARD
TZOFFSETFROM:-0700
TZOFFSETTO:-0800
TZNAME:PST
DTSTART:20271107T090000
END:STANDARD
END:VTIMEZONE
BEGIN:VEVENT
DTSTART;TZID=America/Los_Angeles:20260311T170000
DTEND;TZID=America/Los_Angeles:20260311T200000
DTSTAMP:20260420T201227
CREATED:20260212T215502Z
LAST-MODIFIED:20260212T215502Z
UID:10009213-1773248400-1773259200@events.ucsc.edu
SUMMARY:College Night: Made By Human Hands
DESCRIPTION:Oakes and Rachel Carson Colleges\, in collaboration with UCSC Dining\, present Made By Human Hands. Join us Wednesday\, March 11\, from 5–8 p.m. at the Rachel Carson/Oakes Dining Hall for a night of fun\, community\, and a special themed menu. Standard dining hall entry pricing applies\, and all students\, faculty\, and staff are invited. \nPlease note: The dining hall will be closed from 2–5 p.m. for event preparation. \nLearn more about College Nights at dining.ucsc.edu/events. \n___________________________________________________________________________________________________________________ \nYou Belong Here: The programs and services described here are open to all\, consistent with state and federal law\, as well as the University of California’s nondiscrimination policies. Every initiative—whether a student service\, faculty program\, or community event—is designed to be accessible\, inclusive\, and respectful of all identities. \nTo learn more\, please visit UC Nondiscrimination Statement or Nondiscrimination Policy for UC Publications.How to Use the Statement Across Communication Channels
URL:https://events.ucsc.edu/event/college-night-made-by-human-hands/
LOCATION:Rachel Carson/Oakes Dining Hall
ATTACH;FMTTYPE=image/png:https://events.ucsc.edu/wp-content/uploads/2025/11/College-Nights-6-Events-Calendar.png
END:VEVENT
BEGIN:VEVENT
DTSTART;TZID=America/Los_Angeles:20260223T170000
DTEND;TZID=America/Los_Angeles:20260223T200000
DTSTAMP:20260420T201227
CREATED:20251216T203224Z
LAST-MODIFIED:20260126T213935Z
UID:10005852-1771866000-1771876800@events.ucsc.edu
SUMMARY:College Night: Camp Snoopy
DESCRIPTION:Merrill College\, in collaboration with UCSC Dining\, present Peanuts (not the food) college night. Join us Monday\, February 23\, from 5–8 p.m. at the Crown/Merrill Dining Hall for a night of activities\, fun\, community\, and a special themed menu. Standard dining hall entry pricing applies\, and all students\, faculty\, and staff are invited. \nPlease note: The dining hall will be closed from 2–5 p.m. for event preparation. \nLearn more about College Nights at dining.ucsc.edu/events. \n__________________________________________________________________________________________________ \nYou Belong Here: The programs and services described here are open to all\, consistent with state and federal law\, as well as the University of California’s nondiscrimination policies. Every initiative—whether a student service\, faculty program\, or community event—is designed to be accessible\, inclusive\, and respectful of all identities. \nTo learn more\, please visit UC Nondiscrimination Statement or Nondiscrimination Policy for UC Publications.How to Use the Statement Across Communication Channels
URL:https://events.ucsc.edu/event/college-night-peanuts-not-the-food/
LOCATION:Crown/Merrill Dining Hall
CATEGORIES:Social Gathering
ATTACH;FMTTYPE=image/jpeg:https://events.ucsc.edu/wp-content/uploads/2025/10/College-Nights-1-Events-Calendar-e1760394043332.jpeg
END:VEVENT
BEGIN:VEVENT
DTSTART;TZID=America/Los_Angeles:20260212T170000
DTEND;TZID=America/Los_Angeles:20260212T190000
DTSTAMP:20260420T201227
CREATED:20260120T215703Z
LAST-MODIFIED:20260212T214621Z
UID:10008681-1770915600-1770922800@events.ucsc.edu
SUMMARY:College Night: Games
DESCRIPTION:Porter College\, in collaboration with UCSC Dining\, present a Games-themed college night. Join us Thursday\, February 12\, from 5–7 p.m. at the Porter/Kresge Dining Hall for a night of activities featuring 4 car Mario Cart races\, fun\, community\, and a special themed menu. Standard dining hall entry pricing applies\, and all students\, faculty\, and staff are invited. \nPlease note: The dining hall will be closed from 2–5 p.m. for event preparation. \nLearn more about College Nights at dining.ucsc.edu/events. \n__________________________________________________________________________________________________ \nYou Belong Here: The programs and services described here are open to all\, consistent with state and federal law\, as well as the University of California’s nondiscrimination policies. Every initiative—whether a student service\, faculty program\, or community event—is designed to be accessible\, inclusive\, and respectful of all identities. \nTo learn more\, please visit UC Nondiscrimination Statement or Nondiscrimination Policy for UC Publications.How to Use the Statement Across Communication Channels
URL:https://events.ucsc.edu/event/college-night-games/
LOCATION:Porter/Kresge Dining Hall\, 411 Porter-Kresge Rd\, Santa Cruz\, CA\, 95064
CATEGORIES:Social Gathering
ATTACH;FMTTYPE=image/png:https://events.ucsc.edu/wp-content/uploads/2025/11/College-Nights-6-Events-Calendar.png
GEO:36.9942863;-122.0658527
X-APPLE-STRUCTURED-LOCATION;VALUE=URI;X-ADDRESS=Porter/Kresge Dining Hall 411 Porter-Kresge Rd Santa Cruz CA 95064;X-APPLE-RADIUS=500;X-TITLE=411 Porter-Kresge Rd:geo:-122.0658527,36.9942863
END:VEVENT
BEGIN:VEVENT
DTSTART;TZID=America/Los_Angeles:20260205T170000
DTEND;TZID=America/Los_Angeles:20260205T200000
DTSTAMP:20260420T201227
CREATED:20260107T181944Z
LAST-MODIFIED:20260107T181944Z
UID:10008328-1770310800-1770321600@events.ucsc.edu
SUMMARY:College Night: I Love NYC
DESCRIPTION:Cowell and Stevenson Colleges\, in collaboration with UCSC Dining\, present “I Love NYC” – a cultural celebration of New York City\, the foods and cultures that make it up. Join us Thursday\, February 5\, from 5–8 p.m. at the Cowell/Stevenson Dining Hall for a night of activities\, fun\, community\, and a special themed menu. Standard dining hall entry pricing applies\, and all students\, faculty\, and staff are invited. \nPlease note: The dining hall will be closed from 2–5 p.m. for event preparation. \nLearn more about College Nights at dining.ucsc.edu/events. \n___________________________________________________________________________________________________________________ \nYou Belong Here: The programs and services described here are open to all\, consistent with state and federal law\, as well as the University of California’s nondiscrimination policies. Every initiative—whether a student service\, faculty program\, or community event—is designed to be accessible\, inclusive\, and respectful of all identities. \nTo learn more\, please visit UC Nondiscrimination Statement or Nondiscrimination Policy for UC Publications.How to Use the Statement Across Communication Channels
URL:https://events.ucsc.edu/event/college-night-i-love-nyc/
LOCATION:Cowell/Stevenson Dining Hall\, 520 Cowell-Stevenson Road\, Santa Cruz\, CA\, 95064\, United States
ATTACH;FMTTYPE=image/png:https://events.ucsc.edu/wp-content/uploads/2025/10/College-Nights-3-Events-Calendar.png
GEO:36.9968119;-122.0530381
X-APPLE-STRUCTURED-LOCATION;VALUE=URI;X-ADDRESS=Cowell/Stevenson Dining Hall 520 Cowell-Stevenson Road Santa Cruz CA 95064 United States;X-APPLE-RADIUS=500;X-TITLE=520 Cowell-Stevenson Road:geo:-122.0530381,36.9968119
END:VEVENT
BEGIN:VEVENT
DTSTART;TZID=America/Los_Angeles:20251203T170000
DTEND;TZID=America/Los_Angeles:20251203T200000
DTSTAMP:20260420T201227
CREATED:20251014T180552Z
LAST-MODIFIED:20251014T180552Z
UID:10004814-1764781200-1764792000@events.ucsc.edu
SUMMARY:College Night: Pop Music Around the World - KPop Demon Hunters
DESCRIPTION:Oakes and Rachel Carson Colleges\, in collaboration with UCSC Dining\, present Pop Music Around the World – KPop Demon Hunters. Join us Wednesday\, December 3\, from 5–8 p.m. at the Rachel Carson/Oakes Dining Hall for a night of pop music\, fun\, community\, and a special themed menu. Standard dining hall entry pricing applies\, and all students\, faculty\, and staff are invited. \nPlease note: The dining hall will be closed from 2–5 p.m. for event preparation. \nLearn more about College Nights at dining.ucsc.edu/events. \n___________________________________________________________________________________________________________________ \nYou Belong Here: The programs and services described here are open to all\, consistent with state and federal law\, as well as the University of California’s nondiscrimination policies. Every initiative—whether a student service\, faculty program\, or community event—is designed to be accessible\, inclusive\, and respectful of all identities. \nTo learn more\, please visit UC Nondiscrimination Statement or Nondiscrimination Policy for UC Publications.How to Use the Statement Across Communication Channels
URL:https://events.ucsc.edu/event/college-night-pop-music-around-the-world-kpop-demon-hunters/
LOCATION:Rachel Carson/Oakes Dining Hall
ATTACH;FMTTYPE=image/jpeg:https://events.ucsc.edu/wp-content/uploads/2025/10/College-Nights-1-Events-Calendar-e1760394043332.jpeg
END:VEVENT
BEGIN:VEVENT
DTSTART;TZID=America/Los_Angeles:20251203T170000
DTEND;TZID=America/Los_Angeles:20251203T200000
DTSTAMP:20260420T201227
CREATED:20251014T173433Z
LAST-MODIFIED:20251107T235308Z
UID:10004813-1764781200-1764792000@events.ucsc.edu
SUMMARY:College Night: One Planet\, One Home
DESCRIPTION:College Nine and John R. Lewis College\, in collaboration with UCSC Dining\, present “One Planet\, One Home” a conservation college night during International Education Week. Join us Wednesday\, December 3 from 5–8 p.m. at the College Nine/John R. Lewis Dining Hall for a night of activities\, fun\, community\, and a special themed menu. There will be a screening of the animated film Wall-E\, an exploration of conservation efforts around the globe\, and tablers offering up information. Standard dining hall entry pricing applies\, and all students\, faculty\, and staff are invited. \nPlease note: The dining hall will be closed from 2–5 p.m. for event preparation. \nLearn more about College Nights at dining.ucsc.edu/events. \n__________________________________________________________________________________________________ \nYou Belong Here: The programs and services described here are open to all\, consistent with state and federal law\, as well as the University of California’s nondiscrimination policies. Every initiative—whether a student service\, faculty program\, or community event—is designed to be accessible\, inclusive\, and respectful of all identities. \nTo learn more\, please visit UC Nondiscrimination Statement or Nondiscrimination Policy for UC Publications.How to Use the Statement Across Communication Channels
URL:https://events.ucsc.edu/event/college-night-one-planet/
LOCATION:College Nine and John R. Lewis Dining Hall
CATEGORIES:Social Gathering
ATTACH;FMTTYPE=image/png:https://events.ucsc.edu/wp-content/uploads/2025/10/College-Nights-5-Events-Calendar.png
END:VEVENT
BEGIN:VEVENT
DTSTART;TZID=America/Los_Angeles:20251119T170000
DTEND;TZID=America/Los_Angeles:20251119T190000
DTSTAMP:20260420T201227
CREATED:20251103T192143Z
LAST-MODIFIED:20251103T192143Z
UID:10005023-1763571600-1763578800@events.ucsc.edu
SUMMARY:College Night: Arts
DESCRIPTION:Porter College\, in collaboration with UCSC Dining\, present an Arts themed College Night. Join us Thursday\, November 13\, from 5–7 p.m. at the Porter/Kresge Dining Hall for a night of activities\, fun\, community\, and a special themed menu. Standard dining hall entry pricing applies\, and all students\, faculty\, and staff are invited. \nPlease note: The dining hall will be closed from 2–5 p.m. for event preparation. \nLearn more about College Nights at dining.ucsc.edu/events. \n__________________________________________________________________________________________________ \nYou Belong Here: The programs and services described here are open to all\, consistent with state and federal law\, as well as the University of California’s nondiscrimination policies. Every initiative—whether a student service\, faculty program\, or community event—is designed to be accessible\, inclusive\, and respectful of all identities. \nTo learn more\, please visit UC Nondiscrimination Statement or Nondiscrimination Policy for UC Publications.How to Use the Statement Across Communication Channels
URL:https://events.ucsc.edu/event/college-night-arts/
LOCATION:Porter/Kresge Dining Hall\, 411 Porter-Kresge Rd\, Santa Cruz\, CA\, 95064
CATEGORIES:Social Gathering
ATTACH;FMTTYPE=image/png:https://events.ucsc.edu/wp-content/uploads/2025/10/College-Nights-3-Events-Calendar.png
GEO:36.9942863;-122.0658527
X-APPLE-STRUCTURED-LOCATION;VALUE=URI;X-ADDRESS=Porter/Kresge Dining Hall 411 Porter-Kresge Rd Santa Cruz CA 95064;X-APPLE-RADIUS=500;X-TITLE=411 Porter-Kresge Rd:geo:-122.0658527,36.9942863
END:VEVENT
BEGIN:VEVENT
DTSTART;TZID=America/Los_Angeles:20251113T170000
DTEND;TZID=America/Los_Angeles:20251113T190000
DTSTAMP:20260420T201227
CREATED:20251103T191553Z
LAST-MODIFIED:20251113T224930Z
UID:10005022-1763053200-1763060400@events.ucsc.edu
SUMMARY:College Night: Cozy Cabin with KC
DESCRIPTION:Kresge College\, in collaboration with UCSC Dining\, present Cozy Cabin with KC. Join us Thursday\, November 13\, from 5–7 p.m. at the Porter/Kresge Dining Hall for a night of activities\, fun\, community\, and a special themed menu. Standard dining hall entry pricing applies\, and all students\, faculty\, and staff are invited. \nPlease note: The dining hall will be closed from 2–5 p.m. for event preparation. \nLearn more about College Nights at dining.ucsc.edu/events. \n__________________________________________________________________________________________________ \nYou Belong Here: The programs and services described here are open to all\, consistent with state and federal law\, as well as the University of California’s nondiscrimination policies. Every initiative—whether a student service\, faculty program\, or community event—is designed to be accessible\, inclusive\, and respectful of all identities. \nTo learn more\, please visit UC Nondiscrimination Statement or Nondiscrimination Policy for UC Publications.
URL:https://events.ucsc.edu/event/college-night-cozy-cabin-with-kc/
LOCATION:Porter/Kresge Dining Hall\, 411 Porter-Kresge Rd\, Santa Cruz\, CA\, 95064
CATEGORIES:Social Gathering
ATTACH;FMTTYPE=image/png:https://events.ucsc.edu/wp-content/uploads/2025/11/College-Nights-6-Events-Calendar.png
GEO:36.9942863;-122.0658527
X-APPLE-STRUCTURED-LOCATION;VALUE=URI;X-ADDRESS=Porter/Kresge Dining Hall 411 Porter-Kresge Rd Santa Cruz CA 95064;X-APPLE-RADIUS=500;X-TITLE=411 Porter-Kresge Rd:geo:-122.0658527,36.9942863
END:VEVENT
BEGIN:VEVENT
DTSTART;TZID=America/Los_Angeles:20251028T170000
DTEND;TZID=America/Los_Angeles:20251028T200000
DTSTAMP:20260420T201227
CREATED:20251013T221900Z
LAST-MODIFIED:20251013T222116Z
UID:10004812-1761670800-1761681600@events.ucsc.edu
SUMMARY:College Night: Over the Merrill Hill
DESCRIPTION:Merrill College\, in collaboration with UCSC Dining\, present Over the Merrill Hill! Join us Tuesday\, October 28\, from 5–8 p.m. at the Crown/Merrill Dining Hall for a night of activities\, fun\, community\, and a special themed menu. Standard dining hall entry pricing applies\, and all students\, faculty\, and staff are invited. \nPlease note: The dining hall will be closed from 2–5 p.m. for event preparation. \nLearn more about College Nights at dining.ucsc.edu/events. \n__________________________________________________________________________________________________ \nYou Belong Here: The programs and services described here are open to all\, consistent with state and federal law\, as well as the University of California’s nondiscrimination policies. Every initiative—whether a student service\, faculty program\, or community event—is designed to be accessible\, inclusive\, and respectful of all identities. \nTo learn more\, please visit UC Nondiscrimination Statement or Nondiscrimination Policy for UC Publications.How to Use the Statement Across Communication Channels
URL:https://events.ucsc.edu/event/college-night-over-the-merrill-hill/
LOCATION:Cowell/Stevenson Dining Hall\, 520 Cowell-Stevenson Road\, Santa Cruz\, CA\, 95064\, United States
CATEGORIES:Social Gathering
ATTACH;FMTTYPE=image/jpeg:https://events.ucsc.edu/wp-content/uploads/2025/10/College-Nights-1-Events-Calendar-e1760394043332.jpeg
GEO:36.9968119;-122.0530381
X-APPLE-STRUCTURED-LOCATION;VALUE=URI;X-ADDRESS=Cowell/Stevenson Dining Hall 520 Cowell-Stevenson Road Santa Cruz CA 95064 United States;X-APPLE-RADIUS=500;X-TITLE=520 Cowell-Stevenson Road:geo:-122.0530381,36.9968119
END:VEVENT
BEGIN:VEVENT
DTSTART;TZID=America/Los_Angeles:20251023T170000
DTEND;TZID=America/Los_Angeles:20251023T200000
DTSTAMP:20260420T201227
CREATED:20251006T234728Z
LAST-MODIFIED:20251013T224343Z
UID:10004243-1761238800-1761249600@events.ucsc.edu
SUMMARY:College Night: 831 Night Market
DESCRIPTION:Cowell and Stevenson Colleges\, in collaboration with UCSC Dining\, present the first College Night of the year! Join us Thursday\, October 23\, from 5–8 p.m. at the Cowell/Stevenson Dining Hall for a night of activities\, fun\, community\, and a special themed menu. Standard dining hall entry pricing applies\, and all students\, faculty\, and staff are invited. \nPlease note: The dining hall will be closed from 2–5 p.m. for event preparation. \nLearn more about College Nights at dining.ucsc.edu/events. \n___________________________________________________________________________________________________________________ \nYou Belong Here: The programs and services described here are open to all\, consistent with state and federal law\, as well as the University of California’s nondiscrimination policies. Every initiative—whether a student service\, faculty program\, or community event—is designed to be accessible\, inclusive\, and respectful of all identities. \nTo learn more\, please visit UC Nondiscrimination Statement or Nondiscrimination Policy for UC Publications.How to Use the Statement Across Communication Channels
URL:https://events.ucsc.edu/event/college-night-831-night-market/
LOCATION:Cowell/Stevenson Dining Hall\, 520 Cowell-Stevenson Road\, Santa Cruz\, CA\, 95064\, United States
ATTACH;FMTTYPE=image/png:https://events.ucsc.edu/wp-content/uploads/2025/10/College-Nights-4-Events-Calendar-1-e1759794303199.png
GEO:36.9968119;-122.0530381
X-APPLE-STRUCTURED-LOCATION;VALUE=URI;X-ADDRESS=Cowell/Stevenson Dining Hall 520 Cowell-Stevenson Road Santa Cruz CA 95064 United States;X-APPLE-RADIUS=500;X-TITLE=520 Cowell-Stevenson Road:geo:-122.0530381,36.9968119
END:VEVENT
END:VCALENDAR