BEGIN:VCALENDAR
VERSION:2.0
PRODID:-//Events - ECPv6.15.20//NONSGML v1.0//EN
CALSCALE:GREGORIAN
METHOD:PUBLISH
X-ORIGINAL-URL:https://events.ucsc.edu
X-WR-CALDESC:Events for Events
REFRESH-INTERVAL;VALUE=DURATION:PT1H
X-Robots-Tag:noindex
X-PUBLISHED-TTL:PT1H
BEGIN:VTIMEZONE
TZID:America/Los_Angeles
BEGIN:DAYLIGHT
TZOFFSETFROM:-0800
TZOFFSETTO:-0700
TZNAME:PDT
DTSTART:20250309T100000
END:DAYLIGHT
BEGIN:STANDARD
TZOFFSETFROM:-0700
TZOFFSETTO:-0800
TZNAME:PST
DTSTART:20251102T090000
END:STANDARD
BEGIN:DAYLIGHT
TZOFFSETFROM:-0800
TZOFFSETTO:-0700
TZNAME:PDT
DTSTART:20260308T100000
END:DAYLIGHT
BEGIN:STANDARD
TZOFFSETFROM:-0700
TZOFFSETTO:-0800
TZNAME:PST
DTSTART:20261101T090000
END:STANDARD
BEGIN:DAYLIGHT
TZOFFSETFROM:-0800
TZOFFSETTO:-0700
TZNAME:PDT
DTSTART:20270314T100000
END:DAYLIGHT
BEGIN:STANDARD
TZOFFSETFROM:-0700
TZOFFSETTO:-0800
TZNAME:PST
DTSTART:20271107T090000
END:STANDARD
END:VTIMEZONE
BEGIN:VEVENT
DTSTART;TZID=America/Los_Angeles:20260126T133000
DTEND;TZID=America/Los_Angeles:20260126T150000
DTSTAMP:20260420T230124
CREATED:20251218T232339Z
LAST-MODIFIED:20260223T203112Z
UID:10007667-1769434200-1769439600@events.ucsc.edu
SUMMARY:Career Success Drop-In Coaching at the EOP Office - Winter 2026
DESCRIPTION:Drop-in with Career Coach & Engagement Specialist Bridge Kennedy to discuss Career Exploration\, Job Search Strategy\, Interview Prep\, Grad School Prep\, or whatever’s on your mind related to your career success! \nTime: 1:30pm – 3:00pm \nDates: Mondays\, Weeks 2\, 4\, 6\, & 8 of Winter Quarter 2026 \n1/12\, 1/26\, 2/9\, 2/23 \nLocation: Academic Resource Center\, EOP Lounge \nYOU BELONG HERE\nPrograms and services are open to all\, consistent with state and federal law\, as well as the University of California’s nondiscrimination policies. Every initiative—whether a student service\, faculty program\, or community event—is designed to be accessible\, inclusive\, and respectful of all identities. To learn more\, please visit UC Nondiscrimination Statement or Nondiscrimination Policy for UC Publications.
URL:https://events.ucsc.edu/event/career-success-drop-in-coaching-at-the-eop-office-winter-2026/2026-01-26/
LOCATION:Academic Resources Center (ARC)\, 408 McHenry Road\, Santa Cruz\, CA\, 95064
CATEGORIES:Drop-In Support
ATTACH;FMTTYPE=image/png:https://events.ucsc.edu/wp-content/uploads/2025/12/EOP-Drop-in-W26.png
GEO:36.9944159;-122.0593762
X-APPLE-STRUCTURED-LOCATION;VALUE=URI;X-ADDRESS=Academic Resources Center (ARC) 408 McHenry Road Santa Cruz CA 95064;X-APPLE-RADIUS=500;X-TITLE=408 McHenry Road:geo:-122.0593762,36.9944159
END:VEVENT
BEGIN:VEVENT
DTSTART;TZID=America/Los_Angeles:20260126T173000
DTEND;TZID=America/Los_Angeles:20260126T183000
DTSTAMP:20260420T230124
CREATED:20260105T224004Z
LAST-MODIFIED:20260223T203011Z
UID:10008286-1769448600-1769452200@events.ucsc.edu
SUMMARY:Gaining Experiences to Help Prepare for Your Pre-Health Journey
DESCRIPTION:Join us to learn what types of experiences you can do to prepare you for your healthcare journey. We will also provide strategies on how to gain experience and how to leverage it for your professional healthcare applications. This session is for students who are interested in applying to medical or other professional healthcare programs. The session will have a presentation and time for Q&A. \nWe will provide captions for the presentation. If you have disability-related needs\, please contact the Career Success office at csuccess@ucsc.edu or (831) 459-4420 as soon as possible. \nYOU BELONG HERE\nPrograms and services are open to all\, consistent with state and federal law\, as well as the University of California’s nondiscrimination policies. Every initiative—whether a student service\, faculty program\, or community event—is designed to be accessible\, inclusive\, and respectful of all identities. To learn more\, please visit UC Nondiscrimination Statement or Nondiscrimination Policy for UC Publications.
URL:https://events.ucsc.edu/event/gaining-experiences-to-help-prepare-for-your-pre-health-journey/
ATTACH;FMTTYPE=image/png:https://events.ucsc.edu/wp-content/uploads/2025/10/Career-Success-Banner-with-Photos.png
LOCATION:https://ucsc.joinhandshake.com/events/1881563/share_preview
END:VEVENT
END:VCALENDAR