BEGIN:VCALENDAR
VERSION:2.0
PRODID:-//Events - ECPv6.15.20//NONSGML v1.0//EN
CALSCALE:GREGORIAN
METHOD:PUBLISH
X-WR-CALNAME:Events
X-ORIGINAL-URL:https://events.ucsc.edu
X-WR-CALDESC:Events for Events
REFRESH-INTERVAL;VALUE=DURATION:PT1H
X-Robots-Tag:noindex
X-PUBLISHED-TTL:PT1H
BEGIN:VTIMEZONE
TZID:America/Los_Angeles
BEGIN:DAYLIGHT
TZOFFSETFROM:-0800
TZOFFSETTO:-0700
TZNAME:PDT
DTSTART:20250309T100000
END:DAYLIGHT
BEGIN:STANDARD
TZOFFSETFROM:-0700
TZOFFSETTO:-0800
TZNAME:PST
DTSTART:20251102T090000
END:STANDARD
BEGIN:DAYLIGHT
TZOFFSETFROM:-0800
TZOFFSETTO:-0700
TZNAME:PDT
DTSTART:20260308T100000
END:DAYLIGHT
BEGIN:STANDARD
TZOFFSETFROM:-0700
TZOFFSETTO:-0800
TZNAME:PST
DTSTART:20261101T090000
END:STANDARD
BEGIN:DAYLIGHT
TZOFFSETFROM:-0800
TZOFFSETTO:-0700
TZNAME:PDT
DTSTART:20270314T100000
END:DAYLIGHT
BEGIN:STANDARD
TZOFFSETFROM:-0700
TZOFFSETTO:-0800
TZNAME:PST
DTSTART:20271107T090000
END:STANDARD
END:VTIMEZONE
BEGIN:VEVENT
DTSTART;TZID=America/Los_Angeles:20260209T133000
DTEND;TZID=America/Los_Angeles:20260209T150000
DTSTAMP:20260421T062342
CREATED:20251218T232339Z
LAST-MODIFIED:20260223T203112Z
UID:10007668-1770643800-1770649200@events.ucsc.edu
SUMMARY:Career Success Drop-In Coaching at the EOP Office - Winter 2026
DESCRIPTION:Drop-in with Career Coach & Engagement Specialist Bridge Kennedy to discuss Career Exploration\, Job Search Strategy\, Interview Prep\, Grad School Prep\, or whatever’s on your mind related to your career success! \nTime: 1:30pm – 3:00pm \nDates: Mondays\, Weeks 2\, 4\, 6\, & 8 of Winter Quarter 2026 \n1/12\, 1/26\, 2/9\, 2/23 \nLocation: Academic Resource Center\, EOP Lounge \nYOU BELONG HERE\nPrograms and services are open to all\, consistent with state and federal law\, as well as the University of California’s nondiscrimination policies. Every initiative—whether a student service\, faculty program\, or community event—is designed to be accessible\, inclusive\, and respectful of all identities. To learn more\, please visit UC Nondiscrimination Statement or Nondiscrimination Policy for UC Publications.
URL:https://events.ucsc.edu/event/career-success-drop-in-coaching-at-the-eop-office-winter-2026/2026-02-09/
LOCATION:Academic Resources Center (ARC)\, 408 McHenry Road\, Santa Cruz\, CA\, 95064
CATEGORIES:Drop-In Support
ATTACH;FMTTYPE=image/png:https://events.ucsc.edu/wp-content/uploads/2025/12/EOP-Drop-in-W26.png
GEO:36.9944159;-122.0593762
X-APPLE-STRUCTURED-LOCATION;VALUE=URI;X-ADDRESS=Academic Resources Center (ARC) 408 McHenry Road Santa Cruz CA 95064;X-APPLE-RADIUS=500;X-TITLE=408 McHenry Road:geo:-122.0593762,36.9944159
END:VEVENT
BEGIN:VEVENT
DTSTART;TZID=America/Los_Angeles:20260211T100000
DTEND;TZID=America/Los_Angeles:20260211T120000
DTSTAMP:20260421T062342
CREATED:20260206T232226Z
LAST-MODIFIED:20260206T235435Z
UID:10009173-1770804000-1770811200@events.ucsc.edu
SUMMARY:Continuing Student Housing Info Session
DESCRIPTION:Interested in university housing for next year?\nJoin us for an information session about university housing options for the 2026-27 academic year. Led by knowledgeable housing staff\, this is a great opportunity to learn about the different housing options available\, the housing application and Room Selection processes\, ways to improve your chances of getting a space\, and more. \nThe session will be held on Zoom and will include breakout rooms for individual colleges and housing communities\, allowing you to get more specific information about your housing options. \nDate: Wednesday\, Feb. 11\, 2026 \nTime: 10 a.m.–12 noon \nLocation: Zoom (register here) \n  \nYou Belong Here: The programs and services described here are open to all\, consistent with state and federal law\, as well as the University of California’s nondiscrimination policies. Every initiative—whether a student service\, faculty program\, or community event—is designed to be accessible\, inclusive\, and respectful of all identities. \nTo learn more\, please visit UC Nondiscrimination Statement or Nondiscrimination Policy for UC Publications.
URL:https://events.ucsc.edu/event/housing-info-session-1/
CATEGORIES:Undergraduate,Workshop
ATTACH;FMTTYPE=image/jpeg:https://events.ucsc.edu/wp-content/uploads/2026/02/Housing-Web-Banner-Images-11.jpg
LOCATION:https://ucsc.zoom.us/meeting/register/NkGSdQM0RNK0VmYaXUeiNA
END:VEVENT
BEGIN:VEVENT
DTSTART;TZID=America/Los_Angeles:20260211T173000
DTEND;TZID=America/Los_Angeles:20260211T173000
DTSTAMP:20260421T062342
CREATED:20260206T235925Z
LAST-MODIFIED:20260206T235925Z
UID:10009176-1770831000-1770831000@events.ucsc.edu
SUMMARY:Meet a Roomie: Oakes/Rachel Carson
DESCRIPTION:Looking for roommates for next year?\nHoping to add a roommate to a group or to join a group? Attend a Meet a Roomie event to connect with other continuing students who are interested in living in the Oakes or Rachel Carson communities for the 2026-27 academic year. \nThis is a casual\, in-person opportunity to meet potential roommates and start forming your housing group before the application and Room Selection process begins. \nDate: Wednesday\, Feb. 11\, 2026 \nTime: 5:30 p.m. \nLocation: Oakes Learning Center (map) \n  \nYou Belong Here: The programs and services described here are open to all\, consistent with state and federal law\, as well as the University of California’s nondiscrimination policies. Every initiative—whether a student service\, faculty program\, or community event—is designed to be accessible\, inclusive\, and respectful of all identities. \nTo learn more\, please visit UC Nondiscrimination Statement or Nondiscrimination Policy for UC Publications.
URL:https://events.ucsc.edu/event/meet-a-roomie-oakes-rachel-carson/
LOCATION:Oakes Learning Center
CATEGORIES:Undergraduate,Workshop
ATTACH;FMTTYPE=image/jpeg:https://events.ucsc.edu/wp-content/uploads/2026/02/housing-banner-05-1-1536x886-1.jpg
GEO:36.9893947;-122.0635155
END:VEVENT
BEGIN:VEVENT
DTSTART;TZID=America/Los_Angeles:20260211T180000
DTEND;TZID=America/Los_Angeles:20260211T180000
DTSTAMP:20260421T062342
CREATED:20260207T000321Z
LAST-MODIFIED:20260207T000321Z
UID:10009179-1770832800-1770832800@events.ucsc.edu
SUMMARY:Meet a Roomie: The Village
DESCRIPTION:Looking for roommates for next year?\nHoping to add a roommate to a group or to join a group? Attend a Meet a Roomie event to connect with other continuing students who are interested in living in The Village for the 2026-27 academic year. \nThis is a casual\, in-person opportunity to meet potential roommates and start forming your housing group before the application and Room Selection process begins. \nDate: Wednesday\, Feb. 11\, 2026 \nTime: 6 p.m. \nLocation: The Village (map) Community Lounge (F5) \n  \nYou Belong Here: The programs and services described here are open to all\, consistent with state and federal law\, as well as the University of California’s nondiscrimination policies. Every initiative—whether a student service\, faculty program\, or community event—is designed to be accessible\, inclusive\, and respectful of all identities. \nTo learn more\, please visit UC Nondiscrimination Statement or Nondiscrimination Policy for UC Publications.
URL:https://events.ucsc.edu/event/meet-a-roomie-the-village/
CATEGORIES:Undergraduate,Workshop
ATTACH;FMTTYPE=image/jpeg:https://events.ucsc.edu/wp-content/uploads/2026/02/housing-banner-05-1-1536x886-1.jpg
END:VEVENT
BEGIN:VEVENT
DTSTART;TZID=America/Los_Angeles:20260212T150000
DTEND;TZID=America/Los_Angeles:20260212T170000
DTSTAMP:20260421T062342
CREATED:20260206T232340Z
LAST-MODIFIED:20260206T235458Z
UID:10009174-1770908400-1770915600@events.ucsc.edu
SUMMARY:Continuing Student Housing Info Session
DESCRIPTION:Interested in university housing for next year?\nJoin us for an information session about university housing options for the 2026-27 academic year. Led by knowledgeable housing staff\, this is a great opportunity to learn about the different housing options available\, the housing application and Room Selection processes\, ways to improve your chances of getting a space\, and more. \nThe session will be held on Zoom and will include breakout rooms for individual colleges and housing communities\, allowing you to get more specific information about your housing options. \nDate: Thursday\, Feb. 12\, 2026 \nTime: 3–5 p.m. \nLocation: Zoom (register here) \n  \nYou Belong Here: The programs and services described here are open to all\, consistent with state and federal law\, as well as the University of California’s nondiscrimination policies. Every initiative—whether a student service\, faculty program\, or community event—is designed to be accessible\, inclusive\, and respectful of all identities. \nTo learn more\, please visit UC Nondiscrimination Statement or Nondiscrimination Policy for UC Publications.
URL:https://events.ucsc.edu/event/housing-info-session/
CATEGORIES:Undergraduate,Workshop
ATTACH;FMTTYPE=image/jpeg:https://events.ucsc.edu/wp-content/uploads/2026/02/Housing-Web-Banner-Images-11.jpg
LOCATION:https://ucsc.zoom.us/meeting/register/bcdl0dS0QyGjAWjSZpxl4w
END:VEVENT
BEGIN:VEVENT
DTSTART;TZID=America/Los_Angeles:20260212T170000
DTEND;TZID=America/Los_Angeles:20260212T170000
DTSTAMP:20260421T062342
CREATED:20260207T000002Z
LAST-MODIFIED:20260207T000002Z
UID:10009177-1770915600-1770915600@events.ucsc.edu
SUMMARY:Meet a Roomie: Porter/Kresge/Redwood Grove
DESCRIPTION:Looking for roommates for next year?\nHoping to add a roommate to a group or to join a group? Attend a Meet a Roomie event to connect with other continuing students who are interested in living in the Porter\, Kresge\, or Redwood Grove communities for the 2026-27 academic year. \nThis is a casual\, in-person opportunity to meet potential roommates and start forming your housing group before the application and Room Selection process begins. \nDate: Thursday\, Feb. 12\, 2026 \nTime: 5 p.m. \nLocation: Porter I-Lounge (map) \n  \nYou Belong Here: The programs and services described here are open to all\, consistent with state and federal law\, as well as the University of California’s nondiscrimination policies. Every initiative—whether a student service\, faculty program\, or community event—is designed to be accessible\, inclusive\, and respectful of all identities. \nTo learn more\, please visit UC Nondiscrimination Statement or Nondiscrimination Policy for UC Publications.
URL:https://events.ucsc.edu/event/meet-a-roomie-porter-kresge-redwood-grove/
LOCATION:Porter I-Lounge
CATEGORIES:Undergraduate,Workshop
ATTACH;FMTTYPE=image/jpeg:https://events.ucsc.edu/wp-content/uploads/2026/02/housing-banner-05-1-1536x886-1.jpg
END:VEVENT
BEGIN:VEVENT
DTSTART;TZID=America/Los_Angeles:20260212T180000
DTEND;TZID=America/Los_Angeles:20260212T180000
DTSTAMP:20260421T062342
CREATED:20260207T000031Z
LAST-MODIFIED:20260207T000031Z
UID:10009178-1770919200-1770919200@events.ucsc.edu
SUMMARY:Meet a Roomie: Crown/Merrill
DESCRIPTION:Looking for roommates for next year?\nHoping to add a roommate to a group or to join a group? Attend a Meet a Roomie event to connect with other continuing students who are interested in living in the Crown or Merrill communities for the 2026-27 academic year. \nThis is a casual\, in-person opportunity to meet potential roommates and start forming your housing group before the application and Room Selection process begins. \nDate: Thursday\, Feb. 12\, 2026 \nTime: 6 p.m. \nLocation: Cultural Center at Merrill (map) \n  \nYou Belong Here: The programs and services described here are open to all\, consistent with state and federal law\, as well as the University of California’s nondiscrimination policies. Every initiative—whether a student service\, faculty program\, or community event—is designed to be accessible\, inclusive\, and respectful of all identities. \nTo learn more\, please visit UC Nondiscrimination Statement or Nondiscrimination Policy for UC Publications.
URL:https://events.ucsc.edu/event/meet-a-roomie-crown-merrill/
LOCATION:Cultural Center – Merrill College\, 641 Merrill Rd\, Santa Cruz\, 95064\, United States
CATEGORIES:Undergraduate,Workshop
ATTACH;FMTTYPE=image/jpeg:https://events.ucsc.edu/wp-content/uploads/2026/02/housing-banner-05-1-1536x886-1.jpg
GEO:37.0003908;-122.0534175
X-APPLE-STRUCTURED-LOCATION;VALUE=URI;X-ADDRESS=Cultural Center – Merrill College 641 Merrill Rd Santa Cruz 95064 United States;X-APPLE-RADIUS=500;X-TITLE=641 Merrill Rd:geo:-122.0534175,37.0003908
END:VEVENT
BEGIN:VEVENT
DTSTART;TZID=America/Los_Angeles:20260213T133000
DTEND;TZID=America/Los_Angeles:20260213T153000
DTSTAMP:20260421T062342
CREATED:20260206T232433Z
LAST-MODIFIED:20260206T235518Z
UID:10009175-1770989400-1770996600@events.ucsc.edu
SUMMARY:Continuing Student Housing Info Session
DESCRIPTION:Interested in university housing for next year?\nJoin us for an information session about university housing options for the 2026-27 academic year. Led by knowledgeable housing staff\, this is a great opportunity to learn about the different housing options available\, the housing application and Room Selection processes\, ways to improve your chances of getting a space\, and more. \nThe session will be held on Zoom and will include breakout rooms for individual colleges and housing communities\, allowing you to get more specific information about your housing options. \nDate: Friday\, Feb. 13\, 2026 \nTime: 1:30–3:30 p.m. \nLocation: Zoom (register here) \n  \nYou Belong Here: The programs and services described here are open to all\, consistent with state and federal law\, as well as the University of California’s nondiscrimination policies. Every initiative—whether a student service\, faculty program\, or community event—is designed to be accessible\, inclusive\, and respectful of all identities. \nTo learn more\, please visit UC Nondiscrimination Statement or Nondiscrimination Policy for UC Publications.
URL:https://events.ucsc.edu/event/housing-info-session-3/
CATEGORIES:Undergraduate,Workshop
ATTACH;FMTTYPE=image/jpeg:https://events.ucsc.edu/wp-content/uploads/2026/02/Housing-Web-Banner-Images-11.jpg
LOCATION:https://ucsc.zoom.us/meeting/register/sxabolpGQPaeHTaIxCE_iw
END:VEVENT
END:VCALENDAR