BEGIN:VCALENDAR
VERSION:2.0
PRODID:-//Events - ECPv6.15.20//NONSGML v1.0//EN
CALSCALE:GREGORIAN
METHOD:PUBLISH
X-ORIGINAL-URL:https://events.ucsc.edu
X-WR-CALDESC:Events for Events
REFRESH-INTERVAL;VALUE=DURATION:PT1H
X-Robots-Tag:noindex
X-PUBLISHED-TTL:PT1H
BEGIN:VTIMEZONE
TZID:America/Los_Angeles
BEGIN:DAYLIGHT
TZOFFSETFROM:-0800
TZOFFSETTO:-0700
TZNAME:PDT
DTSTART:20250309T100000
END:DAYLIGHT
BEGIN:STANDARD
TZOFFSETFROM:-0700
TZOFFSETTO:-0800
TZNAME:PST
DTSTART:20251102T090000
END:STANDARD
BEGIN:DAYLIGHT
TZOFFSETFROM:-0800
TZOFFSETTO:-0700
TZNAME:PDT
DTSTART:20260308T100000
END:DAYLIGHT
BEGIN:STANDARD
TZOFFSETFROM:-0700
TZOFFSETTO:-0800
TZNAME:PST
DTSTART:20261101T090000
END:STANDARD
BEGIN:DAYLIGHT
TZOFFSETFROM:-0800
TZOFFSETTO:-0700
TZNAME:PDT
DTSTART:20270314T100000
END:DAYLIGHT
BEGIN:STANDARD
TZOFFSETFROM:-0700
TZOFFSETTO:-0800
TZNAME:PST
DTSTART:20271107T090000
END:STANDARD
END:VTIMEZONE
BEGIN:VEVENT
DTSTART;TZID=America/Los_Angeles:20260223T133000
DTEND;TZID=America/Los_Angeles:20260223T150000
DTSTAMP:20260420T185103
CREATED:20251218T232339Z
LAST-MODIFIED:20260223T203112Z
UID:10007669-1771853400-1771858800@events.ucsc.edu
SUMMARY:Career Success Drop-In Coaching at the EOP Office - Winter 2026
DESCRIPTION:Drop-in with Career Coach & Engagement Specialist Bridge Kennedy to discuss Career Exploration\, Job Search Strategy\, Interview Prep\, Grad School Prep\, or whatever’s on your mind related to your career success! \nTime: 1:30pm – 3:00pm \nDates: Mondays\, Weeks 2\, 4\, 6\, & 8 of Winter Quarter 2026 \n1/12\, 1/26\, 2/9\, 2/23 \nLocation: Academic Resource Center\, EOP Lounge \nYOU BELONG HERE\nPrograms and services are open to all\, consistent with state and federal law\, as well as the University of California’s nondiscrimination policies. Every initiative—whether a student service\, faculty program\, or community event—is designed to be accessible\, inclusive\, and respectful of all identities. To learn more\, please visit UC Nondiscrimination Statement or Nondiscrimination Policy for UC Publications.
URL:https://events.ucsc.edu/event/career-success-drop-in-coaching-at-the-eop-office-winter-2026/2026-02-23/
LOCATION:Academic Resources Center (ARC)\, 408 McHenry Road\, Santa Cruz\, CA\, 95064
CATEGORIES:Drop-In Support
ATTACH;FMTTYPE=image/png:https://events.ucsc.edu/wp-content/uploads/2025/12/EOP-Drop-in-W26.png
GEO:36.9944159;-122.0593762
X-APPLE-STRUCTURED-LOCATION;VALUE=URI;X-ADDRESS=Academic Resources Center (ARC) 408 McHenry Road Santa Cruz CA 95064;X-APPLE-RADIUS=500;X-TITLE=408 McHenry Road:geo:-122.0593762,36.9944159
END:VEVENT
BEGIN:VEVENT
DTSTART;TZID=America/Los_Angeles:20260223T170000
DTEND;TZID=America/Los_Angeles:20260223T180000
DTSTAMP:20260420T185103
CREATED:20260221T040533Z
LAST-MODIFIED:20260223T230546Z
UID:10009266-1771866000-1771869600@events.ucsc.edu
SUMMARY:Bay Tree Building Renovation Information Session
DESCRIPTION:Drop in to learn more about the Bay Tree Building Renovation and campus resources for meeting rooms\, tabling\, and events during the renovation. \nDate: February 23\nTime: 5–6 p.m. via Zoom (Zoom link) \n__________________________________________________________________________________________________ \nYou Belong Here: The programs and services described here are open to all\, consistent with state and federal law\, as well as the University of California’s nondiscrimination policies. Every initiative—whether a student service\, faculty program\, or community event—is designed to be accessible\, inclusive\, and respectful of all identities. \nTo learn more\, please visit UC Nondiscrimination Statement or Nondiscrimination Policy for UC Publications.
URL:https://events.ucsc.edu/event/bay-tree-building-renovation-information-session/
CATEGORIES:Meetings & Conferences
ATTACH;FMTTYPE=image/jpeg:https://events.ucsc.edu/wp-content/uploads/2025/11/Bay-Tree-renovation-info-session-event.jpg
LOCATION:https://events.ucsc.edu/event/bay-tree-building-renovation-information-session/
END:VEVENT
BEGIN:VEVENT
DTSTART;TZID=America/Los_Angeles:20260224T183000
DTEND;TZID=America/Los_Angeles:20260224T200000
DTSTAMP:20260420T185103
CREATED:20260213T231809Z
LAST-MODIFIED:20260224T224509Z
UID:10009232-1771957800-1771963200@events.ucsc.edu
SUMMARY:Expanding the Narrative
DESCRIPTION:Join AA/PIRC and USS on Tuesday\, February 24th from 6:30-8pm at Terry Freitas Commons for a teach-in and art build exploring how different Asian communities are affected by U.S. immigration policies. \nWe will talk about the diversity of Asian experiences with immigration\, how fictions like the “model minority myth” and “perfect immigrant narrative” harm Asian communities\, and where we can move forward from here. \nFree food will be provided! RSVP at bit.ly/aapirc-immigration. \nYou Belong Here: The programs and services described here are open to all\, consistent with state and federal law\, as well as the University of California’s nondiscrimination policies. Every initiative—whether a student service\, faculty program\, or community event—is designed to be accessible\, inclusive\, and respectful of all identities. \nTo learn more\, please visit UC Nondiscrimination Statement or Nondiscrimination Policy for UC Publications.
URL:https://events.ucsc.edu/event/expanding-the-narrative/
ATTACH;FMTTYPE=image/png:https://events.ucsc.edu/wp-content/uploads/2026/02/1.png
END:VEVENT
BEGIN:VEVENT
DTSTART;TZID=America/Los_Angeles:20260226T130000
DTEND;TZID=America/Los_Angeles:20260226T140000
DTSTAMP:20260420T185103
CREATED:20260225T174734Z
LAST-MODIFIED:20260225T174734Z
UID:10009278-1772110800-1772114400@events.ucsc.edu
SUMMARY:Black on the Block
DESCRIPTION:Join the African American Resource & Cultural Center every Thursday from 1–2 p.m.\, at the front of the Ethnic Resource Center for Black on the Block\, a weekly tabling and engagement space. \nStop by to learn about campus resources\, upcoming programs\, and ways to get involved. It’s a casual\, welcoming space to ask questions\, make connections\, and build community. All are welcome. \nYou Belong Here: The programs and services described here are open to all\, consistent with state and federal law\, as well as the University of California’s nondiscrimination policies. Every initiative—whether a student service\, faculty program\, or community event—is designed to be accessible\, inclusive\, and respectful of all identities. \nTo learn more\, please visit UC Nondiscrimination Statement or Nondiscrimination Policy for UC Publications.
URL:https://events.ucsc.edu/event/black-on-the-block/2026-02-26/
LOCATION:Crown Provost House\, 660 Crown Service Road\, Santa Cruz\, CA\, 95064
CATEGORIES:Social Gathering
ATTACH;FMTTYPE=image/png:https://events.ucsc.edu/wp-content/uploads/2026/02/BLACK-ON-THE-BLOCK-WINTER-940-x-557-px.png
GEO:37.0004921;-122.054609
X-APPLE-STRUCTURED-LOCATION;VALUE=URI;X-ADDRESS=Crown Provost House 660 Crown Service Road Santa Cruz CA 95064;X-APPLE-RADIUS=500;X-TITLE=660 Crown Service Road:geo:-122.054609,37.0004921
END:VEVENT
BEGIN:VEVENT
DTSTART;TZID=America/Los_Angeles:20260226T150000
DTEND;TZID=America/Los_Angeles:20260226T150000
DTSTAMP:20260420T185103
CREATED:20260220T191833Z
LAST-MODIFIED:20260220T192736Z
UID:10009259-1772118000-1772118000@events.ucsc.edu
SUMMARY:Coast-to-Coast Men's Basketball Conference Tournament - Quarterfinals
DESCRIPTION:The Coast-to-Coast Men’s Basketball Conference Tournament is coming to Santa Cruz!  \nThe Banana Slugs are set to host the five-game tournament February 26-28\, welcoming University of Mary Washington\, Christopher Newport University\, Salisbury University\, and Warren Wilson College to the West Coast!  \n\nQuarterfinals are Thursday\, Feb. 26 at Kaiser Permanente Arena. Tip-off is 3 p.m.\nSemifinals will take place Friday\, Feb. 27 at West Field House. Game #1 tips off at 3 p.m. and game #2 at 6 p.m.\nThe championship game will be Saturday\, Feb. 28 at Kaiser Permanente Arena\, with tip-off at 5 p.m.\n\nStudents\, staff\, faculty\, and the Santa Cruz community are invited to attend. With fans traveling from across the country\, it’s set to be a high-energy weekend of championship basketball. \nTickets: $15 for Adults\, $5 for students (with ID) and youth (k-12)\, kids under 5 are free.
URL:https://events.ucsc.edu/event/coast-to-coast-mens-basketball-conference-tournament-quarterfinals/
LOCATION:Kaiser Permanente Arena\, 140 Front St\, Santa Cruz\, CA\, 95060\, United States
CATEGORIES:Sporting Events
ATTACH;FMTTYPE=image/jpeg:https://events.ucsc.edu/wp-content/uploads/2026/02/MBB-Conference-Championships-Campus-Calendar2.jpg
END:VEVENT
BEGIN:VEVENT
DTSTART;TZID=America/Los_Angeles:20260226T203000
DTEND;TZID=America/Los_Angeles:20260226T220000
DTSTAMP:20260420T185103
CREATED:20260226T232639Z
LAST-MODIFIED:20260226T232639Z
UID:10009363-1772137800-1772143200@events.ucsc.edu
SUMMARY:Movies to let you "Think Different": Just Mercy
DESCRIPTION:Join Porter College for a screening of Just Mercy  \nWhether it’s just entertainment and a study break\, or you want to let your mind stretch in a different direction from your classes and homework.  We hope you might find these films engaging. \nPopcorn\, hot tea\, and cocoa will be provided. \n  \nYou Belong Here: The programs and services described here are open to all\, consistent with state and federal law\, as well as the University of California’s nondiscrimination policies. Every initiative—whether a student service\, faculty program\, or community event—is designed to be accessible\, inclusive\, and respectful of all identities. \nTo learn more\, please visit UC Nondiscrimination Statement or Nondiscrimination Policy for UC Publications.
URL:https://events.ucsc.edu/event/movies-to-let-you-think-different-just-mercy-2/
LOCATION:Porter/Kresge Dining Hall\, 411 Porter-Kresge Rd\, Santa Cruz\, CA\, 95064
CATEGORIES:Screening
ATTACH;FMTTYPE=image/png:https://events.ucsc.edu/wp-content/uploads/2026/02/rainbowsgiving-1.png
GEO:36.9942863;-122.0658527
X-APPLE-STRUCTURED-LOCATION;VALUE=URI;X-ADDRESS=Porter/Kresge Dining Hall 411 Porter-Kresge Rd Santa Cruz CA 95064;X-APPLE-RADIUS=500;X-TITLE=411 Porter-Kresge Rd:geo:-122.0658527,36.9942863
END:VEVENT
BEGIN:VEVENT
DTSTART;TZID=America/Los_Angeles:20260227T150000
DTEND;TZID=America/Los_Angeles:20260227T150000
DTSTAMP:20260420T185103
CREATED:20260220T192402Z
LAST-MODIFIED:20260220T192729Z
UID:10009260-1772204400-1772204400@events.ucsc.edu
SUMMARY:Coast-to-Coast Men's Basketball Conference Tournament - Semifinals Game #1
DESCRIPTION:The Coast-to-Coast Men’s Basketball Conference Tournament is coming to Santa Cruz!  \nThe Banana Slugs are set to host the five-game tournament February 26-28\, welcoming University of Mary Washington\, Christopher Newport University\, Salisbury University\, and Warren Wilson College to the West Coast!  \n\nQuarterfinals are Thursday\, Feb. 26 at Kaiser Permanente Arena. Tip-off is 3 p.m.\nSemifinals will take place Friday\, Feb. 27 at West Field House. Game #1 tips off at 3 p.m. and game #2 at 6 p.m.\nThe championship game will be Saturday\, Feb. 28 at Kaiser Permanente Arena\, with tip-off at 5 p.m.\n\nStudents\, staff\, faculty\, and the Santa Cruz community are invited to attend. With fans traveling from across the country\, it’s set to be a high-energy weekend of championship basketball. \nTickets: $15 for Adults\, $5 for students (with ID) and youth (k-12)\, kids under 5 are free.
URL:https://events.ucsc.edu/event/coast-to-coast-mens-basketball-conference-tournament-semifinals-game-1/
LOCATION:West Field House\, Rachel Carson College Service Road\, Santa Cruz\, CA\, 95064
CATEGORIES:Sporting Events
ATTACH;FMTTYPE=image/jpeg:https://events.ucsc.edu/wp-content/uploads/2026/02/MBB-Conference-Championships-Campus-Calendar2.jpg
GEO:36.990694;-122.0645055
X-APPLE-STRUCTURED-LOCATION;VALUE=URI;X-ADDRESS=West Field House Rachel Carson College Service Road Santa Cruz CA 95064;X-APPLE-RADIUS=500;X-TITLE=Rachel Carson College Service Road:geo:-122.0645055,36.990694
END:VEVENT
BEGIN:VEVENT
DTSTART;TZID=America/Los_Angeles:20260227T180000
DTEND;TZID=America/Los_Angeles:20260227T210000
DTSTAMP:20260420T185103
CREATED:20260220T192422Z
LAST-MODIFIED:20260220T192711Z
UID:10009261-1772215200-1772226000@events.ucsc.edu
SUMMARY:Coast-to-Coast Men's Basketball Conference Tournament - Semifinals Game #2
DESCRIPTION:The Coast-to-Coast Men’s Basketball Conference Tournament is coming to Santa Cruz!  \nThe Banana Slugs are set to host the five-game tournament February 26-28\, welcoming University of Mary Washington\, Christopher Newport University\, Salisbury University\, and Warren Wilson College to the West Coast!  \n\nQuarterfinals are Thursday\, Feb. 26 at Kaiser Permanente Arena. Tip-off is 3 p.m.\nSemifinals will take place Friday\, Feb. 27 at West Field House. Game #1 tips off at 3 p.m. and game #2 at 6 p.m.\nThe championship game will be Saturday\, Feb. 28 at Kaiser Permanente Arena\, with tip-off at 5 p.m.\n\nStudents\, staff\, faculty\, and the Santa Cruz community are invited to attend. With fans traveling from across the country\, it’s set to be a high-energy weekend of championship basketball. \nTickets: $15 for Adults\, $5 for students (with ID) and youth (k-12)\, kids under 5 are free.
URL:https://events.ucsc.edu/event/coast-to-coast-mens-basketball-conference-tournament-semifinals-game-2/
LOCATION:West Field House\, Rachel Carson College Service Road\, Santa Cruz\, CA\, 95064
CATEGORIES:Sporting Events
ATTACH;FMTTYPE=image/jpeg:https://events.ucsc.edu/wp-content/uploads/2026/02/MBB-Conference-Championships-Campus-Calendar2.jpg
GEO:36.990694;-122.0645055
X-APPLE-STRUCTURED-LOCATION;VALUE=URI;X-ADDRESS=West Field House Rachel Carson College Service Road Santa Cruz CA 95064;X-APPLE-RADIUS=500;X-TITLE=Rachel Carson College Service Road:geo:-122.0645055,36.990694
END:VEVENT
BEGIN:VEVENT
DTSTART;TZID=America/Los_Angeles:20260227T180000
DTEND;TZID=America/Los_Angeles:20260227T213000
DTSTAMP:20260420T185103
CREATED:20260223T180846Z
LAST-MODIFIED:20260223T180846Z
UID:10009236-1772215200-1772227800@events.ucsc.edu
SUMMARY:Pachanga 2026: Noche de Baile
DESCRIPTION:Join El Centro\, the African American Resource and Cultural Center (AARCC)\, and Merrill College for our annual Noche de Baile as part of Pachanga 2026! For years\, El Centro and the AARCC have collaborated on Pachanga\, an annual event series during Black History Month focused on uplifting and celebrating AfroLatinidad. Each year\, the series culminates in a Noche de Baile\, where folks come together in community and dance. This year’s baile will be held on Friday\, February 27th from 6 PM to 9:30 PM at the Cultural Center at Merrill.  \nWe are excited to welcome Portsha Jefferson\, of Rara Tou Limen in Oakland\, CA\, who will be offering a live traditional Haitian dance workshop. Stick around for an open dance floor featuring beats from DJ Rianna! We will have delicious food\, refreshing beverages\, and an evening filled with música y comunidad! \nYou Belong Here: The programs and services described here are open to all\, consistent with state and federal law\, as well as the University of California’s nondiscrimination policies. Every initiative—whether a student service\, faculty program\, or community event—is designed to be accessible\, inclusive\, and respectful of all identities. \nTo learn more\, please visit UC Nondiscrimination Statement or Nondiscrimination Policy for UC Publications. \n 
URL:https://events.ucsc.edu/event/pachanga-2026-noche-de-baile/
LOCATION:Cultural Center – Merrill College\, 641 Merrill Rd\, Santa Cruz\, 95064\, United States
CATEGORIES:Social Gathering
ATTACH;FMTTYPE=image/png:https://events.ucsc.edu/wp-content/uploads/2026/02/pachanga-baile-feat-image.png
GEO:37.0003908;-122.0534175
X-APPLE-STRUCTURED-LOCATION;VALUE=URI;X-ADDRESS=Cultural Center – Merrill College 641 Merrill Rd Santa Cruz 95064 United States;X-APPLE-RADIUS=500;X-TITLE=641 Merrill Rd:geo:-122.0534175,37.0003908
END:VEVENT
BEGIN:VEVENT
DTSTART;TZID=America/Los_Angeles:20260227T190000
DTEND;TZID=America/Los_Angeles:20260227T210000
DTSTAMP:20260420T185103
CREATED:20260209T210227Z
LAST-MODIFIED:20260209T215405Z
UID:10009186-1772218800-1772226000@events.ucsc.edu
SUMMARY:Lunar New Year Santa Cruz Warriors Game
DESCRIPTION:The Division of Student Affairs & Success Leadership & Involvement is excited to partner with the Santa Cruz Warriors for a special Lunar New Year–themed game on Fri\, 2/27/26 at 7 p.m. at Kaiser Permanente Arena . \nDoors open at 6 p.m. \nTip-off at 7 p.m. \nBring your friends to cheer on the Sea Dubs as they take on the San Diego Clippers . Enjoy a special lion dance halftime performance\, community gathering\, and more! \nA limited number of FREE student tickets will be distributed first-come\, first-served at campus tabling pop-ups: \nWed\, Feb 11 | 1:30–3:30 PM | S&E Library \nFri\, Feb 13 | 1:30–2:30 PM | S&E Library \nWed\, Feb 18 | 1:30–3:30 PM | McHenry Library \nDon’t miss this chance to celebrate Lunar New Year and rep the Sea Dubs!
URL:https://events.ucsc.edu/event/lunar-new-year-santa-cruz-warriors-game/
LOCATION:Kaiser Permanente Arena\, 140 Front St\, Santa Cruz\, CA\, 95060\, United States
CATEGORIES:Sporting Events
ATTACH;FMTTYPE=image/png:https://events.ucsc.edu/wp-content/uploads/2026/02/Lunar-New-Year-Warriors-Game-3-Campus-Calendar.png
END:VEVENT
BEGIN:VEVENT
DTSTART;TZID=America/Los_Angeles:20260228T170000
DTEND;TZID=America/Los_Angeles:20260228T170000
DTSTAMP:20260420T185103
CREATED:20260220T192506Z
LAST-MODIFIED:20260220T192837Z
UID:10009262-1772298000-1772298000@events.ucsc.edu
SUMMARY:Coast-to-Coast Men's Basketball Conference Tournament - Championship
DESCRIPTION:The Coast-to-Coast Men’s Basketball Conference Tournament is coming to Santa Cruz!  \nThe Banana Slugs are set to host the five-game tournament February 26-28\, welcoming University of Mary Washington\, Christopher Newport University\, Salisbury University\, and Warren Wilson College to the West Coast!  \n\nQuarterfinals are Thursday\, Feb. 26 at Kaiser Permanente Arena. Tip-off is 3 p.m.\nSemifinals will take place Friday\, Feb. 27 at West Field House. Game #1 tips off at 3 p.m. and game #2 at 6 p.m.\nThe championship game will be Saturday\, Feb. 28 at Kaiser Permanente Arena\, with tip-off at 5 p.m.\n\nStudents\, staff\, faculty\, and the Santa Cruz community are invited to attend. With fans traveling from across the country\, it’s set to be a high-energy weekend of championship basketball. \nTickets: $15 for Adults\, $5 for students (with ID) and youth (k-12)\, kids under 5 are free.
URL:https://events.ucsc.edu/event/coast-to-coast-mens-basketball-conference-tournament-championship/
LOCATION:Kaiser Permanente Arena\, 140 Front St\, Santa Cruz\, CA\, 95060\, United States
CATEGORIES:Sporting Events
ATTACH;FMTTYPE=image/jpeg:https://events.ucsc.edu/wp-content/uploads/2026/02/MBB-Conference-Championships-Campus-Calendar2.jpg
END:VEVENT
END:VCALENDAR