BEGIN:VCALENDAR
VERSION:2.0
PRODID:-//Events - ECPv6.15.20//NONSGML v1.0//EN
CALSCALE:GREGORIAN
METHOD:PUBLISH
X-WR-CALNAME:Events
X-ORIGINAL-URL:https://events.ucsc.edu
X-WR-CALDESC:Events for Events
REFRESH-INTERVAL;VALUE=DURATION:PT1H
X-Robots-Tag:noindex
X-PUBLISHED-TTL:PT1H
BEGIN:VTIMEZONE
TZID:America/Los_Angeles
BEGIN:DAYLIGHT
TZOFFSETFROM:-0800
TZOFFSETTO:-0700
TZNAME:PDT
DTSTART:20250309T100000
END:DAYLIGHT
BEGIN:STANDARD
TZOFFSETFROM:-0700
TZOFFSETTO:-0800
TZNAME:PST
DTSTART:20251102T090000
END:STANDARD
BEGIN:DAYLIGHT
TZOFFSETFROM:-0800
TZOFFSETTO:-0700
TZNAME:PDT
DTSTART:20260308T100000
END:DAYLIGHT
BEGIN:STANDARD
TZOFFSETFROM:-0700
TZOFFSETTO:-0800
TZNAME:PST
DTSTART:20261101T090000
END:STANDARD
BEGIN:DAYLIGHT
TZOFFSETFROM:-0800
TZOFFSETTO:-0700
TZNAME:PDT
DTSTART:20270314T100000
END:DAYLIGHT
BEGIN:STANDARD
TZOFFSETFROM:-0700
TZOFFSETTO:-0800
TZNAME:PST
DTSTART:20271107T090000
END:STANDARD
END:VTIMEZONE
BEGIN:VEVENT
DTSTART;TZID=America/Los_Angeles:20260309T160000
DTEND;TZID=America/Los_Angeles:20260309T170000
DTSTAMP:20260420T173303
CREATED:20260217T230434Z
LAST-MODIFIED:20260217T230434Z
UID:10009244-1773072000-1773075600@events.ucsc.edu
SUMMARY:AM Seminar: Solution Discovery in Fluids with High Precision Using Neural Networks
DESCRIPTION:Presenter: Ching-Yao Lai\, Assistant Professor\, Stanford University \nDescription: I will discuss examples utilizing neural networks (NNs) to find solutions to partial differential equations (PDEs) that facilitate new discoveries. Despite being deemed universal function approximators\, neural networks\, in practice\, struggle to fit functions with sufficient accuracy for rigorous analysis. Here\, we developed multi-stage neural networks (Wang and Lai\, J. Comput. Phys. 2024) that can reduce the prediction error to nearly the machine precision of double-precision floating points within a finite number of iterations. We use accurate NNs to tackle the challenge of searching for singularities in fluid equations (Wang-Lai-Gómez-Serrano-Buckmaster\, Phys. Rev. Lett. 2023). Unstable singularities\, especially in dimensions greater than one\, are exceptionally elusive. With NNs we demonstrate the first discovery of smooth unstable self-similar singularities to unforced incompressible fluid equations (Wang et al.\, arXiv:2509.14185). The example illustrates how deep learning can be used to discover new and highly accurate numerical solutions to PDEs. \nBio: Ching-Yao Lai (Yao) is an Assistant Professor in the Department of Geophysics and an Affiliated Faculty of the Institute for Computational and Mathematical Engineering (ICME) at Stanford. Before joining Stanford\, she was an Assistant Professor at Princeton University. She received an undergraduate degree (2013) in Physics from National Taiwan University and a PhD (2018) in Mechanical and Aerospace Engineering from Princeton University. She completed her postdoctoral research at Columbia University where she received the Lamont Postdoctoral Fellowship. Her current research focuses on enhancing the representation of machine-learning models to tackle multiscale problems. She was the recipient of the 2023 Google Research Scholar Award\, the 2024 Sloan Research Fellowship\, and the 2025 NSF CAREER Award. \nHosted by: Applied Mathematics
URL:https://events.ucsc.edu/event/am-seminar-solution-discovery-in-fluids-with-high-precision-using-neural-networks/
LOCATION:CA
CATEGORIES:Lectures & Presentations,Seminars
ATTACH;FMTTYPE=image/jpeg:https://events.ucsc.edu/wp-content/uploads/2026/02/ph.d.-presentation-graphic-option2.jpg
END:VEVENT
END:VCALENDAR