BEGIN:VCALENDAR
VERSION:2.0
PRODID:-//Events - ECPv6.15.20//NONSGML v1.0//EN
CALSCALE:GREGORIAN
METHOD:PUBLISH
X-ORIGINAL-URL:https://events.ucsc.edu
X-WR-CALDESC:Events for Events
REFRESH-INTERVAL;VALUE=DURATION:PT1H
X-Robots-Tag:noindex
X-PUBLISHED-TTL:PT1H
BEGIN:VTIMEZONE
TZID:America/Los_Angeles
BEGIN:DAYLIGHT
TZOFFSETFROM:-0800
TZOFFSETTO:-0700
TZNAME:PDT
DTSTART:20250309T100000
END:DAYLIGHT
BEGIN:STANDARD
TZOFFSETFROM:-0700
TZOFFSETTO:-0800
TZNAME:PST
DTSTART:20251102T090000
END:STANDARD
BEGIN:DAYLIGHT
TZOFFSETFROM:-0800
TZOFFSETTO:-0700
TZNAME:PDT
DTSTART:20260308T100000
END:DAYLIGHT
BEGIN:STANDARD
TZOFFSETFROM:-0700
TZOFFSETTO:-0800
TZNAME:PST
DTSTART:20261101T090000
END:STANDARD
BEGIN:DAYLIGHT
TZOFFSETFROM:-0800
TZOFFSETTO:-0700
TZNAME:PDT
DTSTART:20270314T100000
END:DAYLIGHT
BEGIN:STANDARD
TZOFFSETFROM:-0700
TZOFFSETTO:-0800
TZNAME:PST
DTSTART:20271107T090000
END:STANDARD
END:VTIMEZONE
BEGIN:VEVENT
DTSTART;TZID=America/Los_Angeles:20260425T110000
DTEND;TZID=America/Los_Angeles:20260425T130000
DTSTAMP:20260425T040959
CREATED:20260424T204626Z
LAST-MODIFIED:20260424T204626Z
UID:10013958-1777114800-1777122000@events.ucsc.edu
SUMMARY:Pesticide Reality Tour
DESCRIPTION:                                                    \nWatsonville\, CA *Optional Transportation and Lunch Provided!!* \nJoin us to learn about the use and impacts of toxic pesticides on fields around Watsonville homes and schools. Attendees will learn about the movement to transition these fields to organic! \nRSVP Here: \n \nThis tour is created by UCSC Agroecology students and hosted by ENVS Dept. and CORA\, a Watsonville non-profit organization that is working to end pesticide use in Watsonville and Pajaro Valley.  \n 
URL:https://events.ucsc.edu/event/pesticide-reality-tour/
END:VEVENT
END:VCALENDAR