BEGIN:VCALENDAR
VERSION:2.0
PRODID:-//Events - ECPv6.15.20//NONSGML v1.0//EN
CALSCALE:GREGORIAN
METHOD:PUBLISH
X-WR-CALNAME:Events
X-ORIGINAL-URL:https://events.ucsc.edu
X-WR-CALDESC:Events for Events
REFRESH-INTERVAL;VALUE=DURATION:PT1H
X-Robots-Tag:noindex
X-PUBLISHED-TTL:PT1H
BEGIN:VTIMEZONE
TZID:America/Los_Angeles
BEGIN:DAYLIGHT
TZOFFSETFROM:-0800
TZOFFSETTO:-0700
TZNAME:PDT
DTSTART:20250309T100000
END:DAYLIGHT
BEGIN:STANDARD
TZOFFSETFROM:-0700
TZOFFSETTO:-0800
TZNAME:PST
DTSTART:20251102T090000
END:STANDARD
BEGIN:DAYLIGHT
TZOFFSETFROM:-0800
TZOFFSETTO:-0700
TZNAME:PDT
DTSTART:20260308T100000
END:DAYLIGHT
BEGIN:STANDARD
TZOFFSETFROM:-0700
TZOFFSETTO:-0800
TZNAME:PST
DTSTART:20261101T090000
END:STANDARD
BEGIN:DAYLIGHT
TZOFFSETFROM:-0800
TZOFFSETTO:-0700
TZNAME:PDT
DTSTART:20270314T100000
END:DAYLIGHT
BEGIN:STANDARD
TZOFFSETFROM:-0700
TZOFFSETTO:-0800
TZNAME:PST
DTSTART:20271107T090000
END:STANDARD
END:VTIMEZONE
BEGIN:VEVENT
DTSTART;TZID=America/Los_Angeles:20260303T090000
DTEND;TZID=America/Los_Angeles:20260303T110000
DTSTAMP:20260420T214950
CREATED:20260227T222948Z
LAST-MODIFIED:20260302T232302Z
UID:10009370-1772528400-1772535600@events.ucsc.edu
SUMMARY:Free Coffee\, Snacks\, & Conversation
DESCRIPTION:Enjoy a cup of coffee\, cocoa\, or tea\, and a breakfast snack with Merrill Provost McGuinness. Stay and chat with him and Poppy the Merrill Chihuahua\, or take it go.  \nSee you outside of the Merrill College office\, across from the Merrill Mailroom.
URL:https://events.ucsc.edu/event/free-coffee-snacks-conversation/2026-03-03/
LOCATION:Merrill College Office\, 641 Merrill Road\, Santa Cruz\, CA\, 95064
CATEGORIES:Social Gathering
ATTACH;FMTTYPE=image/png:https://events.ucsc.edu/wp-content/uploads/2026/02/March-Coffee-With-the-Provost-V2.png
GEO:37.0003908;-122.0534175
X-APPLE-STRUCTURED-LOCATION;VALUE=URI;X-ADDRESS=Merrill College Office 641 Merrill Road Santa Cruz CA 95064;X-APPLE-RADIUS=500;X-TITLE=641 Merrill Road:geo:-122.0534175,37.0003908
END:VEVENT
BEGIN:VEVENT
DTSTART;TZID=America/Los_Angeles:20260308T170000
DTEND;TZID=America/Los_Angeles:20260308T210000
DTSTAMP:20260420T214950
CREATED:20260217T183017Z
LAST-MODIFIED:20260225T000056Z
UID:10009239-1772989200-1773003600@events.ucsc.edu
SUMMARY:"The Cigarette Surfboard" screening with filmmaker Ben Judkins (Kresge '17)
DESCRIPTION:Join Banana Slug alumni filmmaker Ben Judkins (Kresge ’17\, film and digital media) and “ciggy board” creator Taylor Lane for a screening of their award-winning documentary\, The Cigarette Surfboard (presented by the California Coastal Commission‘s Whale Tail Grant). \n5:00-6:00 PM | alumni meet & greet with light refreshments\n6:00-7:35 PM | film screening\n7:35-8:30 PM | filmmaker discussion\n8:30-9:00 PM | mingle \nREGISTER\nABOUT THE FILM\nAfter a young designer realizes that a surfboard – which he crafted from thousands of littered cigarette butts picked up off California beaches – could captivate the eyes of millions across the globe\, he decides to use it as the impetus to do something more. The Cigarette Surfboards become a platform to spark ocean stewardship and the symbol of a campaign to hold Big Tobacco accountable for their toxic\, plastic waste. Surfing is the medium\, but the message is universal. \nSmall decisions and actions\, like littering a cigarette butt\, cumulatively can have a large impact\, for better or for worse. This immersive documentary provides viewers an up close experience of the ocean through surfers’ eyes\, to amplify a message of urgency and possibility regarding the ocean’s wellbeing. As our ocean faces mounting threats\, and surfing continues to grow\, we as surfers have a responsibility to protect it. \nABOUT THE FILMMAKER\nRaised in Northern California\, at age eight\, Ben Judkins found an old camcorder and discovered the medium to explore and create. After years of videotaping friends skateboarding and surfing\, Ben landed at the University of California\, Santa Cruz\, majoring in Film & Digital Media. His senior film “Marshall” earned the Dean’s Award\, and also won “Best Locally-Produced Work” at the 2017 Santa Cruz Film Festival. Ben is an avid surfer who believes in the power of visual storytelling to move people to action. The Cigarette Surfboard documentary is an opportunity to inspire a generation of surfers to be stewards of the sea.
URL:https://events.ucsc.edu/event/the-cigarette-surfboard-screening-with-filmmaker-ben-judkins-kresge-17/
LOCATION:CA
CATEGORIES:Screening
ATTACH;FMTTYPE=image/png:https://events.ucsc.edu/wp-content/uploads/2026/02/unnamed.png
END:VEVENT
BEGIN:VEVENT
DTSTART;TZID=America/Los_Angeles:20260310T090000
DTEND;TZID=America/Los_Angeles:20260310T110000
DTSTAMP:20260420T214950
CREATED:20260227T222948Z
LAST-MODIFIED:20260302T232302Z
UID:10009371-1773133200-1773140400@events.ucsc.edu
SUMMARY:Free Coffee\, Snacks\, & Conversation
DESCRIPTION:Enjoy a cup of coffee\, cocoa\, or tea\, and a breakfast snack with Merrill Provost McGuinness. Stay and chat with him and Poppy the Merrill Chihuahua\, or take it go.  \nSee you outside of the Merrill College office\, across from the Merrill Mailroom.
URL:https://events.ucsc.edu/event/free-coffee-snacks-conversation/2026-03-10/
LOCATION:Merrill College Office\, 641 Merrill Road\, Santa Cruz\, CA\, 95064
CATEGORIES:Social Gathering
ATTACH;FMTTYPE=image/png:https://events.ucsc.edu/wp-content/uploads/2026/02/March-Coffee-With-the-Provost-V2.png
GEO:37.0003908;-122.0534175
X-APPLE-STRUCTURED-LOCATION;VALUE=URI;X-ADDRESS=Merrill College Office 641 Merrill Road Santa Cruz CA 95064;X-APPLE-RADIUS=500;X-TITLE=641 Merrill Road:geo:-122.0534175,37.0003908
END:VEVENT
BEGIN:VEVENT
DTSTART;TZID=America/Los_Angeles:20260317T090000
DTEND;TZID=America/Los_Angeles:20260317T110000
DTSTAMP:20260420T214950
CREATED:20260227T222948Z
LAST-MODIFIED:20260302T232302Z
UID:10009372-1773738000-1773745200@events.ucsc.edu
SUMMARY:Free Coffee\, Snacks\, & Conversation
DESCRIPTION:Enjoy a cup of coffee\, cocoa\, or tea\, and a breakfast snack with Merrill Provost McGuinness. Stay and chat with him and Poppy the Merrill Chihuahua\, or take it go.  \nSee you outside of the Merrill College office\, across from the Merrill Mailroom.
URL:https://events.ucsc.edu/event/free-coffee-snacks-conversation/2026-03-17/
LOCATION:Merrill College Office\, 641 Merrill Road\, Santa Cruz\, CA\, 95064
CATEGORIES:Social Gathering
ATTACH;FMTTYPE=image/png:https://events.ucsc.edu/wp-content/uploads/2026/02/March-Coffee-With-the-Provost-V2.png
GEO:37.0003908;-122.0534175
X-APPLE-STRUCTURED-LOCATION;VALUE=URI;X-ADDRESS=Merrill College Office 641 Merrill Road Santa Cruz CA 95064;X-APPLE-RADIUS=500;X-TITLE=641 Merrill Road:geo:-122.0534175,37.0003908
END:VEVENT
BEGIN:VEVENT
DTSTART;TZID=America/Los_Angeles:20260324T090000
DTEND;TZID=America/Los_Angeles:20260324T110000
DTSTAMP:20260420T214950
CREATED:20260227T222948Z
LAST-MODIFIED:20260302T232302Z
UID:10009373-1774342800-1774350000@events.ucsc.edu
SUMMARY:Free Coffee\, Snacks\, & Conversation
DESCRIPTION:Enjoy a cup of coffee\, cocoa\, or tea\, and a breakfast snack with Merrill Provost McGuinness. Stay and chat with him and Poppy the Merrill Chihuahua\, or take it go.  \nSee you outside of the Merrill College office\, across from the Merrill Mailroom.
URL:https://events.ucsc.edu/event/free-coffee-snacks-conversation/2026-03-24/
LOCATION:Merrill College Office\, 641 Merrill Road\, Santa Cruz\, CA\, 95064
CATEGORIES:Social Gathering
ATTACH;FMTTYPE=image/png:https://events.ucsc.edu/wp-content/uploads/2026/02/March-Coffee-With-the-Provost-V2.png
GEO:37.0003908;-122.0534175
X-APPLE-STRUCTURED-LOCATION;VALUE=URI;X-ADDRESS=Merrill College Office 641 Merrill Road Santa Cruz CA 95064;X-APPLE-RADIUS=500;X-TITLE=641 Merrill Road:geo:-122.0534175,37.0003908
END:VEVENT
BEGIN:VEVENT
DTSTART;TZID=America/Los_Angeles:20260331T090000
DTEND;TZID=America/Los_Angeles:20260331T110000
DTSTAMP:20260420T214950
CREATED:20260227T222948Z
LAST-MODIFIED:20260302T232302Z
UID:10009374-1774947600-1774954800@events.ucsc.edu
SUMMARY:Free Coffee\, Snacks\, & Conversation
DESCRIPTION:Enjoy a cup of coffee\, cocoa\, or tea\, and a breakfast snack with Merrill Provost McGuinness. Stay and chat with him and Poppy the Merrill Chihuahua\, or take it go.  \nSee you outside of the Merrill College office\, across from the Merrill Mailroom.
URL:https://events.ucsc.edu/event/free-coffee-snacks-conversation/2026-03-31/
LOCATION:Merrill College Office\, 641 Merrill Road\, Santa Cruz\, CA\, 95064
CATEGORIES:Social Gathering
ATTACH;FMTTYPE=image/png:https://events.ucsc.edu/wp-content/uploads/2026/02/March-Coffee-With-the-Provost-V2.png
GEO:37.0003908;-122.0534175
X-APPLE-STRUCTURED-LOCATION;VALUE=URI;X-ADDRESS=Merrill College Office 641 Merrill Road Santa Cruz CA 95064;X-APPLE-RADIUS=500;X-TITLE=641 Merrill Road:geo:-122.0534175,37.0003908
END:VEVENT
BEGIN:VEVENT
DTSTART;TZID=America/Los_Angeles:20260331T180000
DTEND;TZID=America/Los_Angeles:20260331T193000
DTSTAMP:20260420T214950
CREATED:20260325T202436Z
LAST-MODIFIED:20260327T001715Z
UID:10011381-1774980000-1774985400@events.ucsc.edu
SUMMARY:Yoga as Healing Series
DESCRIPTION:Yoga as Healing is a 7-session trauma-informed yoga and mindfulness program hosted by UCSC’s CARE office. Spring Quarter classes will be held Tuesdays\, 6:00–7:30 p.m. from March 31–May 12. Classes are free for students. \nEach class facilitated by CARE Advocate Abbey Wise (she/ella)\, includes gentle\, trauma-informed movement\, breathwork\, meditation and reflective journaling to support survivors in reconnecting with their bodies\, building confidence and being present. Mats\, blocks\, blankets and journals are provided. Participants are encouraged to wear comfortable clothing and bring a water bottle. \nCARE aims to build a consistent group of 8-10 survivors who can attend all 7 classes to foster the community\, predictability and safety core to the trauma-informed structure of the program. \nIf you are interested in participating submit an application and a CARE Advocate will get back to you with further information. Location will be provided upon approval to participate. \nCheck out our schedule for the series: \n3/31   — Orientation and Intention\n4/7 — Safety & Grounding\n4/14   —Self-Care as Daily Practice\n4/21   — Embodied Boundaries\n4/28  — Self-Compassion\n5/5    — Inner Strength & Trust\n5/12  — Cultivating Community \nIf you have previously attended Yoga as Healing\, we would love to hear from you. Please complete our short\, anonymous survey —your feedback helps us grow and improve our programming.  \nYou Belong Here: The programs and services described here are open to all\, consistent with state and federal law\, as well as the University of California’s nondiscrimination policies. Every initiative—whether a student service\, faculty program\, or community event—is designed to be accessible\, inclusive\, and respectful of all identities. \nTo learn more\, please visit UC Nondiscrimination Statement or Nondiscrimination Policy for UC Publications. 
URL:https://events.ucsc.edu/event/yoga-as-healing/2026-03-31/
LOCATION:CA
CATEGORIES:Social Gathering,Undergraduate,Workshop
ATTACH;FMTTYPE=image/png:https://events.ucsc.edu/wp-content/uploads/2026/03/YAH-Calendar-image.png
END:VEVENT
END:VCALENDAR