BEGIN:VCALENDAR
VERSION:2.0
PRODID:-//Events - ECPv6.15.20//NONSGML v1.0//EN
CALSCALE:GREGORIAN
METHOD:PUBLISH
X-WR-CALNAME:Events
X-ORIGINAL-URL:https://events.ucsc.edu
X-WR-CALDESC:Events for Events
REFRESH-INTERVAL;VALUE=DURATION:PT1H
X-Robots-Tag:noindex
X-PUBLISHED-TTL:PT1H
BEGIN:VTIMEZONE
TZID:America/Los_Angeles
BEGIN:DAYLIGHT
TZOFFSETFROM:-0800
TZOFFSETTO:-0700
TZNAME:PDT
DTSTART:20250309T100000
END:DAYLIGHT
BEGIN:STANDARD
TZOFFSETFROM:-0700
TZOFFSETTO:-0800
TZNAME:PST
DTSTART:20251102T090000
END:STANDARD
BEGIN:DAYLIGHT
TZOFFSETFROM:-0800
TZOFFSETTO:-0700
TZNAME:PDT
DTSTART:20260308T100000
END:DAYLIGHT
BEGIN:STANDARD
TZOFFSETFROM:-0700
TZOFFSETTO:-0800
TZNAME:PST
DTSTART:20261101T090000
END:STANDARD
BEGIN:DAYLIGHT
TZOFFSETFROM:-0800
TZOFFSETTO:-0700
TZNAME:PDT
DTSTART:20270314T100000
END:DAYLIGHT
BEGIN:STANDARD
TZOFFSETFROM:-0700
TZOFFSETTO:-0800
TZNAME:PST
DTSTART:20271107T090000
END:STANDARD
END:VTIMEZONE
BEGIN:VEVENT
DTSTART;TZID=America/Los_Angeles:20260513T170000
DTEND;TZID=America/Los_Angeles:20260513T190000
DTSTAMP:20260425T042350
CREATED:20260424T204558Z
LAST-MODIFIED:20260424T204558Z
UID:10013976-1778691600-1778698800@events.ucsc.edu
SUMMARY:Sweet Send-Off Celebration
DESCRIPTION:Greetings\, International and Global Learning students!\nJoin us for a special celebration in recognition of our international students studying here at UCSC\, Global Learning alumni that have studied abroad/away\, and to those that are about to start their programs this summer and fall. \n\nWednesday\, May 13\, 2026 from 17:00 – 19:00 (5 pm – 7 pm) \n\nWe’ll be saying ‘bon voyage’ to our international exchange students that have been studying at UCSC and our new global learning students. Our global learning alumni will also be joining to join in our community space for reflection\, connection\, and storytelling!\n\nOur event will consist of:\n\n\nA panel for departing global learning students highlighting what it’s like to be on exchange and study abroad/away (led by our alumni and international students)\nOpportunities to connect with each other based on region of the world or study/your home institution\n\n\nPlease RSVP here by our deadline of Friday\, May 1 and let us know how you’d like to be involved. \nIf you have any questions\, email us at globallearning@ucsc.edu.
URL:https://events.ucsc.edu/event/sweet-send-off-celebration/
LOCATION:Rachel Carson College Red Room
CATEGORIES:Award(s) Ceremony
ATTACH;FMTTYPE=image/png:https://events.ucsc.edu/wp-content/uploads/2026/04/Screenshot-2026-04-22-at-13.12.15.png
END:VEVENT
END:VCALENDAR