BEGIN:VCALENDAR
VERSION:2.0
PRODID:-//Events - ECPv6.15.20//NONSGML v1.0//EN
CALSCALE:GREGORIAN
METHOD:PUBLISH
X-ORIGINAL-URL:https://events.ucsc.edu
X-WR-CALDESC:Events for Events
REFRESH-INTERVAL;VALUE=DURATION:PT1H
X-Robots-Tag:noindex
X-PUBLISHED-TTL:PT1H
BEGIN:VTIMEZONE
TZID:America/Los_Angeles
BEGIN:DAYLIGHT
TZOFFSETFROM:-0800
TZOFFSETTO:-0700
TZNAME:PDT
DTSTART:20250309T100000
END:DAYLIGHT
BEGIN:STANDARD
TZOFFSETFROM:-0700
TZOFFSETTO:-0800
TZNAME:PST
DTSTART:20251102T090000
END:STANDARD
BEGIN:DAYLIGHT
TZOFFSETFROM:-0800
TZOFFSETTO:-0700
TZNAME:PDT
DTSTART:20260308T100000
END:DAYLIGHT
BEGIN:STANDARD
TZOFFSETFROM:-0700
TZOFFSETTO:-0800
TZNAME:PST
DTSTART:20261101T090000
END:STANDARD
BEGIN:DAYLIGHT
TZOFFSETFROM:-0800
TZOFFSETTO:-0700
TZNAME:PDT
DTSTART:20270314T100000
END:DAYLIGHT
BEGIN:STANDARD
TZOFFSETFROM:-0700
TZOFFSETTO:-0800
TZNAME:PST
DTSTART:20271107T090000
END:STANDARD
END:VTIMEZONE
BEGIN:VEVENT
DTSTART;TZID=America/Los_Angeles:20260314T120000
DTEND;TZID=America/Los_Angeles:20260314T140000
DTSTAMP:20260420T060709
CREATED:20260303T215815Z
LAST-MODIFIED:20260303T215815Z
UID:10009377-1773489600-1773496800@events.ucsc.edu
SUMMARY:Planting for Hummingbirds
DESCRIPTION:Would you like to attract hummingbirds to your garden? Join us on the patio at Norrie’s Gift & Garden Shop where UC Master Gardeners will host a pop-up information booth to offer advice and answer questions about the best Arboretum plants to attract hummingbirds.  \nFlowers really are the best hummingbird feeders and these tiny birds are attracted to many of the Arboretum’s high-nectar-producing blossoms. We will provide handouts about which Arboretum plants are best to make your garden abuzz year-round. We’ll also have fun facts about these aerial acrobats and will raffle off a beautiful plant from our nursery – a nectar producer that is a favorite of hummingbirds. \nCome celebrate the wonders of our local hummingbirds and stock up on plants for your home garden.
URL:https://events.ucsc.edu/event/planting-for-hummingbirds/
ATTACH;FMTTYPE=image/jpeg:https://events.ucsc.edu/wp-content/uploads/2026/03/planting_hummingbirds_pop-up.jpg
END:VEVENT
BEGIN:VEVENT
DTSTART;TZID=America/Los_Angeles:20260328T110000
DTEND;TZID=America/Los_Angeles:20260328T130000
DTSTAMP:20260420T060709
CREATED:20260303T215826Z
LAST-MODIFIED:20260303T215826Z
UID:10009379-1774695600-1774702800@events.ucsc.edu
SUMMARY:Tips & Tricks for Photographing Birds - an informal workshop with Kevin Lohman
DESCRIPTION:Kevin Lohman is an award-winning wildlife photographer based in Santa Cruz\, California. One of his hummingbird photographs taken at the UC Santa Cruz Arboretum & Botanic Garden is among several of his images featured locally on a Santa Cruz METRO wildlife bus as part of the “One Ride at a Time” conservation campaign. His work has been published by National Geographic (online) and Outdoor Photographer\, and recognized in major competitions\, including the Audubon Photography Awards and Nature’s Best International Photography Awards. Lohman actively supports conservation organizations through the donation and use of his photography. \nBring your camera and join award-winning wildlife photographer Kevin Lohman for an informal\, “getting started” wildlife photography field workshop in the gardens. Designed for anyone with an interest in hummingbird photography\, this relaxed session will cover practical tips for finding\, observing\, and photographing these fast-moving birds\, along with guidance that applies to wildlife subjects more broadly. The workshop will take place outdoors and will run up to two hours. \nKevin Lohman is an award-winning wildlife photographer based in Santa Cruz\, California. One of his hummingbird photographs taken at the UC Santa Cruz Arboretum & Botanic Garden is among several of his images featured locally on a Santa Cruz METRO wildlife bus as part of the “One Ride at a Time” conservation campaign. His work has been published by National Geographic (online) and Outdoor Photographer\, and recognized in major competitions including the Audubon Photography Awards and Nature’s Best International Photography Awards. Lohman actively supports conservation organizations through the donation and use of his photography. \nBring your camera and join award-winning wildlife photographer Kevin Lohman for an informal\, “getting started” wildlife photography field workshop in the gardens. Designed for anyone with an interest in hummingbird photography\, this relaxed session will cover practical tips for finding\, observing\, and photographing these fast-moving birds\, along with guidance that applies to wildlife subjects more broadly. The workshop will take place outdoors and will run up to two hours.
URL:https://events.ucsc.edu/event/tips-tricks-for-photographing-birds-an-informal-workshop-with-kevin-lohman/
CATEGORIES:Workshop
ATTACH;FMTTYPE=image/jpeg:https://events.ucsc.edu/wp-content/uploads/2026/03/Kevin_Lohman_Outside.jpg
END:VEVENT
END:VCALENDAR