BEGIN:VCALENDAR
VERSION:2.0
PRODID:-//Events - ECPv6.15.20//NONSGML v1.0//EN
CALSCALE:GREGORIAN
METHOD:PUBLISH
X-WR-CALNAME:Events
X-ORIGINAL-URL:https://events.ucsc.edu
X-WR-CALDESC:Events for Events
REFRESH-INTERVAL;VALUE=DURATION:PT1H
X-Robots-Tag:noindex
X-PUBLISHED-TTL:PT1H
BEGIN:VTIMEZONE
TZID:America/Los_Angeles
BEGIN:DAYLIGHT
TZOFFSETFROM:-0800
TZOFFSETTO:-0700
TZNAME:PDT
DTSTART:20240310T100000
END:DAYLIGHT
BEGIN:STANDARD
TZOFFSETFROM:-0700
TZOFFSETTO:-0800
TZNAME:PST
DTSTART:20241103T090000
END:STANDARD
BEGIN:DAYLIGHT
TZOFFSETFROM:-0800
TZOFFSETTO:-0700
TZNAME:PDT
DTSTART:20250309T100000
END:DAYLIGHT
BEGIN:STANDARD
TZOFFSETFROM:-0700
TZOFFSETTO:-0800
TZNAME:PST
DTSTART:20251102T090000
END:STANDARD
BEGIN:DAYLIGHT
TZOFFSETFROM:-0800
TZOFFSETTO:-0700
TZNAME:PDT
DTSTART:20260308T100000
END:DAYLIGHT
BEGIN:STANDARD
TZOFFSETFROM:-0700
TZOFFSETTO:-0800
TZNAME:PST
DTSTART:20261101T090000
END:STANDARD
BEGIN:DAYLIGHT
TZOFFSETFROM:-0800
TZOFFSETTO:-0700
TZNAME:PDT
DTSTART:20270314T100000
END:DAYLIGHT
BEGIN:STANDARD
TZOFFSETFROM:-0700
TZOFFSETTO:-0800
TZNAME:PST
DTSTART:20271107T090000
END:STANDARD
END:VTIMEZONE
BEGIN:VEVENT
DTSTART;TZID=America/Los_Angeles:20251028T172000
DTEND;TZID=America/Los_Angeles:20251028T185500
DTSTAMP:20260422T000805
CREATED:20251022T234442Z
LAST-MODIFIED:20251022T235429Z
UID:10004993-1761672000-1761677700@events.ucsc.edu
SUMMARY:Mark Primack: The Truth in Drawing
DESCRIPTION:Join ART 10D: 2D Foundations for a Lecture by Mark Primack where he will present “Truth in Drawing\,” a talk on his recent drawing practice and experiences. Mark Primack (b.1951) is a Situationist who at times engages in drawing\, writing\, designing\, building\, critiquing and politicking. He holds degrees from the Rhode Island School of Design and the Architectural Association of London. He resides in Santa Cruz\, California\, where he has maintained an architectural practice for forty years while serving on various commission and the City Council. In 1978 he was awarded a special projects grant from the California Arts Council to document the World Famous Tree Circus\, but has supported his own work ever since. He lives\, works\, draws and gardens in spaces of his own design\, which he shares with landscape architect and artist Janet Pollock.\n— \nADMISSION\n– FREE and open to the public\n— \nPARKING\n– Parking by permit or ParkMobile\n– Arts Lot #126 is the closest parking lot to the event\n– Visitors with DMV placards or plates may park for free in DMV spaces\, Medical spaces\, or ParkMobile spaces without additional payment\, or in timed zones for longer than the posted time.\n– More information provided by UCSC Transportation & Parking Services (TAPS)\n—\nThis program is open to all members of the public consistent with state and federal law.
URL:https://events.ucsc.edu/event/mark-primack-the-truth-in-drawing/
LOCATION:Media Theater\, Experimental Theater\, Santa Cruz\, CA\, 95064
CATEGORIES:Lectures & Presentations
ATTACH;FMTTYPE=image/jpeg:https://events.ucsc.edu/wp-content/uploads/2025/10/PastedGraphic-1.jpg
GEO:36.9950492;-122.0616218
X-APPLE-STRUCTURED-LOCATION;VALUE=URI;X-ADDRESS=Media Theater Experimental Theater Santa Cruz CA 95064;X-APPLE-RADIUS=500;X-TITLE=Experimental Theater:geo:-122.0616218,36.9950492
END:VEVENT
BEGIN:VEVENT
DTSTART;TZID=America/Los_Angeles:20251112T191500
DTEND;TZID=America/Los_Angeles:20251112T204500
DTSTAMP:20260422T000805
CREATED:20251124T181650Z
LAST-MODIFIED:20251124T181650Z
UID:10005122-1762974900-1762980300@events.ucsc.edu
SUMMARY:Plenary Session for Crown Students: Chatbots on the Couch: AI\, Mental Health\, and the Ethics of Digital Empathy
DESCRIPTION:Location: Merrill/Crown Auditorium\nEvent Type: Panel Discussion / Plenary Session\nSponsor: Crown College\nOpen to: UCSC Students\, Faculty\, and Staff \n\nEvent Description: \nAs artificial intelligence increasingly shapes mental healthcare—from chatbots offering therapeutic support to algorithms detecting early signs of distress—we face urgent ethical questions about trust\, privacy\, bias\, and the future of human connection in care. \nJoin us for a compelling panel discussion featuring three distinguished experts who will explore the promises and perils of AI in mental health: \nPanelists: \nDr. Lisa A. Berkley – Director of Crown Resiliency Program and Founder Executive Director of the Center for Applied Values & Ethics in Advancing Technology (CAVEAT) at UCSC; Founder and President of the Institute for Inner Economy \nAlka Roy – Technology and product leader with deep expertise in Machine Learning/AI\, privacy\, and trust frameworks. Ms. Roy founded the Responsible Innovation Project\, serves on multiple open-source Responsible and Trusted AI committees\, and holds multiple patents for policy and security frameworks. She has received national recognition as a Rising Star and National Women of Color in Technology honoree. With degrees in both Electrical Engineering/Computer Science and an MFA in Creative Writing\, Ms. Roy brings a unique interdisciplinary perspective to questions of technology ethics and innovation. \nLinda MacDonald Glenn\, JD\, LLM\, Faculty at Crown College and co-founder of the Center for Applied Values and Ethics in Advancing Technologies (CAVEAT.UCSC.EDU) \nWhat We’ll Explore: \n\nWhen does AI complement human care\, and when does it replace it dangerously?\nHow do we address algorithmic bias in mental health interventions?\nWhat ethical guardrails are needed when bots mimic empathy?\nWho is accountable when AI-driven mental health tools cause harm?\n\nThis panel brings together perspectives from bioethics\, clinical practice\, student well-being\, and technology leadership to examine the real-world ethical challenges of AI deployment in mental healthcare—a topic of profound relevance given recent concerns about chatbot safety\, algorithmic bias\, and the commercialization of mental health technologies. \nThis event connects directly to critical questions about responsibility\, justice\, and the sociopolitical implications of emerging technologies. Come prepared to think critically about innovation that claims to heal—and to question whose interests are truly being served. \nAdmission: Free and open to the UCSC community \n 
URL:https://events.ucsc.edu/event/plenary-session-for-crown-students-chatbots-on-the-couch-ai-mental-health-and-the-ethics-of-digital-empathy/
LOCATION:Merrill Cultural Center\, 200 McLaughlin Dr\, Santa Cruz\, CA\, 95064
CATEGORIES:Social Gathering
ATTACH;FMTTYPE=image/png:https://events.ucsc.edu/wp-content/uploads/2025/11/Center-image-enhanced.png
GEO:36.999885;-122.0532636
X-APPLE-STRUCTURED-LOCATION;VALUE=URI;X-ADDRESS=Merrill Cultural Center 200 McLaughlin Dr Santa Cruz CA 95064;X-APPLE-RADIUS=500;X-TITLE=200 McLaughlin Dr:geo:-122.0532636,36.999885
END:VEVENT
BEGIN:VEVENT
DTSTART;TZID=America/Los_Angeles:20260204T160000
DTEND;TZID=America/Los_Angeles:20260204T173000
DTSTAMP:20260422T000805
CREATED:20260108T202204Z
LAST-MODIFIED:20260115T205542Z
UID:10008333-1770220800-1770226200@events.ucsc.edu
SUMMARY:VMCC Series: Yiman Wang
DESCRIPTION:In a lecture delivered by UC Santa Cruz Professor Yiman Wang\, this talk delves into Mao-era moving image culture that featured experimentation with public health\, horticulture\, and animal husbandry to unpack what cinematic experiments were developed\, how scientific experiments were conducted\, and in what ways they were intended to intertwine with the nation-wide experiment with rebuilding the new socialist human’s psyche and a new socio-political world. The talk also explores why such conjoined experiments often fell apart\, what one might gain by recentering the unruly human and more-than-human “raw material” that were experimented on\, and ultimately\, how the environmental turn in media studies could benefit from a study of socialist trifold cinematic-scientific-socio-political experimentations.\n—\nABOUT THE SPEAKER\nYiman Wang (Ph.D.\, Graduate Program in Literature\, Duke University) is Professor and Chair of Film & Digital Media at University of California\, Santa Cruz. She is author of Remaking Chinese Cinema: Through the Prism of Shanghai\, Hong Kong and Hollywood (University of Hawaii Press 2013)\, and To Be an Actress: Labor and Performance in Anna May Wong’s Cross-Media World (University of California Press 2024). She has published numerous articles in journals and edited volumes on topics of socialist environmental media\, feminist media histories\, ethnic border-crossing stardom\, eco-cinema\, Chinese cinema\, independent documentary\, film remakes and adaptations. She is editor of a special issue of Feminist Media Histories on Asian Feminist Media (2019)\, co-editor of an InFocus Dossier on Queering Asian Media in Journal of Cinema and Media Studies (2023)\, co-editor of Chinese Animation: Multiplicities in Motion (2025)\, associate editor of Journal of Chinese Cinemas\, and co-editor of the Global East Asian Screen Cultures book series published by Bloomsbury.\n—\nADMISSION\n– FREE and open to the public\n– Located in Porter College Rm. D245\n—\nPARKING\n– Lot 124 & 125 are the closest parking lots to the event.\n– Parking is by permit or ParkMobile.\n– Refer to TAPS for more parking information.\n—\nThis program is open to all members of the public consistent with state and federal law. \n 
URL:https://events.ucsc.edu/event/vmcc-series-yiman-wang/
LOCATION:Porter College\, D-Building\, Santa Cruz\, CA\, 95064
CATEGORIES:Lectures & Presentations
ATTACH;FMTTYPE=image/jpeg:https://events.ucsc.edu/wp-content/uploads/2026/01/yimanwang2-e1768323175206.jpeg
GEO:36.9923139;-122.0581762
X-APPLE-STRUCTURED-LOCATION;VALUE=URI;X-ADDRESS=Porter College D-Building Santa Cruz CA 95064;X-APPLE-RADIUS=500;X-TITLE=D-Building:geo:-122.0581762,36.9923139
END:VEVENT
BEGIN:VEVENT
DTSTART;TZID=America/Los_Angeles:20260211T180000
DTEND;TZID=America/Los_Angeles:20260211T193000
DTSTAMP:20260422T000805
CREATED:20260112T225135Z
LAST-MODIFIED:20260205T192552Z
UID:10008351-1770832800-1770838200@events.ucsc.edu
SUMMARY:California Firefighter Cancer Research Study Panel
DESCRIPTION:In the month of February\, The intersections of Climate Change lecture series will host a panel discussion with Dr. Shehnaz Hussain and Fire Captain Jamie Gabriel. They will discuss ongoing research in cancer being the leading cause of death among California firefighters and why preventative interventions remain elusive.\nThe Intersections of Climate Change Series is organized with the Friedlaender Lab in conjunction with Weather and the Whale.\n—\nADDITIONAL SERIES EVENTS\n– Thurs. Feb. 5\, 6:00 p.m: Intersections of Climate Change Lecture: Climate Justice and the Moss Landing Battery Fire\n– Wed. Feb. 11\, 6:00 p.m: The California Firefighter Cancer Research Study with Shehnaz Hussain and Fire Captain Jamie Gabriel\n– Thurs. Feb. 26\, 6:00 p.m: Intersections of Climate Change Performance: Electroacoustic Performance and Artist Talk with the Whale Liberation Front\n– Wed. March 4\, 6:00 p.m: Unexpected Returns: The Historic Entanglements of Fire\, Settlement\, and Stewardship in the Santa Cruz Mountains\n—\nADMISSION\n– FREE and open to the public\n—\nPARKING\n– The entrance to the Institute of the Arts and Sciences Galleries is on Delaware Street and has an accessibility ramp.\n– Convenient and free self-parking is available on Panetta Avenue and High Road\, immediately adjacent to the galleries.\n– Accessible parking is on High Road.\n—\nThis program is open to all members of the public consistent with state and federal law.
URL:https://events.ucsc.edu/event/california-firefighter-cancer-research-study-panel/
LOCATION:Institute of the Arts and Sciences\, 100 Panetta Ave\, Santa Cruz\, United States
CATEGORIES:Lectures & Presentations
ATTACH;FMTTYPE=image/png:https://events.ucsc.edu/wp-content/uploads/2026/01/IAS_firefighter-cancer_1200x762-Marketing-Cloud-Headline-image-for-Emails-2.png
GEO:36.9557939;-122.0505546
X-APPLE-STRUCTURED-LOCATION;VALUE=URI;X-ADDRESS=Institute of the Arts and Sciences 100 Panetta Ave Santa Cruz United States;X-APPLE-RADIUS=500;X-TITLE=100 Panetta Ave:geo:-122.0505546,36.9557939
END:VEVENT
BEGIN:VEVENT
DTSTART;TZID=America/Los_Angeles:20260304T180000
DTEND;TZID=America/Los_Angeles:20260304T193000
DTSTAMP:20260422T000805
CREATED:20260112T231120Z
LAST-MODIFIED:20260210T235227Z
UID:10008353-1772647200-1772652600@events.ucsc.edu
SUMMARY:Unexpected Returns: The Historic Entanglements of Fire\, Settlement\, and Stewardship in the Santa Cruz Mountains
DESCRIPTION:Join UCSC  faculty members Miriam Greenberg and Andrew Matthews as they discuss the deep regional histories of fire\, from indigenous burning\, settler ranching\, fire suppression\, and much more.\n \nThis event is part of Intersections of Climate Change\,  a series organized with the Friedlaender Lab in conjunction with Weather and the Whale.\n\nADMISSION\n– FREE and open to the public \nPARKING\n– The entrance to the Institute of the Arts and Sciences Galleries is on Delaware Street and has an accessibility ramp.\n– Convenient and free self-parking is available on Panetta Avenue and High Road\, immediately adjacent to the galleries.\n– Accessible parking is on High Road.\n—\nThis program is open to all members of the public consistent with state and federal law.
URL:https://events.ucsc.edu/event/unexpected-returns-the-historic-entanglements-of-fire-settlement-and-stewardship-in-the-santa-cruz-mountains/
LOCATION:Institute of the Arts and Sciences\, 100 Panetta Ave\, Santa Cruz\, United States
CATEGORIES:Lectures & Presentations
ATTACH;FMTTYPE=image/png:https://events.ucsc.edu/wp-content/uploads/2026/01/IAS_fire-in-SC-mtn_1200x762-Marketing-Cloud-Headline-image-for-Emails-3.png
GEO:36.9557939;-122.0505546
X-APPLE-STRUCTURED-LOCATION;VALUE=URI;X-ADDRESS=Institute of the Arts and Sciences 100 Panetta Ave Santa Cruz United States;X-APPLE-RADIUS=500;X-TITLE=100 Panetta Ave:geo:-122.0505546,36.9557939
END:VEVENT
BEGIN:VEVENT
DTSTART;TZID=America/Los_Angeles:20260401T160000
DTEND;TZID=America/Los_Angeles:20260401T173000
DTSTAMP:20260422T000805
CREATED:20260309T215653Z
LAST-MODIFIED:20260324T162156Z
UID:10011295-1775059200-1775064600@events.ucsc.edu
SUMMARY:VMCC Talk with Maggie Cao—Sepia: Biotic Media and Ocean Worlds
DESCRIPTION:Sepia is a term used to describe inks of a rich\, brown color\, but few know that this artistic usage is taken from the animal world\, where sepia refers to a genus of cuttlefish—a nod to the long history of extracting melanin fluid from cephalopods for drawing and writing. This talk uses cuttlefish ink as a vehicle for rethinking human-ocean relations in the mid nineteenth century\, tracing flows between Victor Hugo’s maritime drawings made in the Channel Islands to paleontological discoveries and scientific illustrations on nearby coastlines. During the nineteenth century\, the expansion of fisheries and the growth of marine biology fostered public interest in the strangeness of cephalopods\, or “devil fish\,” whose inkiness was associated with artistic creation. Experiments with biotic media\, the talk argues\, were efforts to conceptualize the nonhuman environment of the ocean. \nThis event is presented as part of the Visual & Media Cultures Colloquium (VMCC) Series.\n—\nADMISSION\n– FREE and open to the public\n– Located in Porter College Rm. D245\n—\nPARKING\n– Lot 124 & 125 are the closest parking lots to the event.\n– Parking is by permit or ParkMobile.\n– Refer to TAPS for more parking information.\n—\nThis program is open to all members of the public consistent with state and federal law. \n 
URL:https://events.ucsc.edu/event/vmcc-maggie-cao/
LOCATION:Porter College\, D-Building\, Santa Cruz\, CA\, 95064
CATEGORIES:Lectures & Presentations
ATTACH;FMTTYPE=image/jpeg:https://events.ucsc.edu/wp-content/uploads/2026/03/Sepia-Biotic-Media-and-Ocean-Worlds-e1773436376657.jpg
GEO:36.9923139;-122.0581762
X-APPLE-STRUCTURED-LOCATION;VALUE=URI;X-ADDRESS=Porter College D-Building Santa Cruz CA 95064;X-APPLE-RADIUS=500;X-TITLE=D-Building:geo:-122.0581762,36.9923139
END:VEVENT
BEGIN:VEVENT
DTSTART;TZID=America/Los_Angeles:20260415T190000
DTEND;TZID=America/Los_Angeles:20260415T203000
DTSTAMP:20260422T000805
CREATED:20260331T222852Z
LAST-MODIFIED:20260331T222852Z
UID:10011816-1776279600-1776285000@events.ucsc.edu
SUMMARY:Astrophysics: The Largest Unknowns and the Biggest Challenges
DESCRIPTION:UCSC Professor Alexie Leauthaud will discuss her groundbreaking work understanding the past and future of our universe. \nIn this exciting public lecture\, Professor Alexie Leauthaud will discuss some of the largest challenges and unknowns in Astrophysics. She will present the latest results on the nature of our universe\, including groundbreaking and prize-winning new results on the nature of dark energy. Leauthaud will discuss our current understanding of the basic ingredients of our Universe and will explain why recent results from the Dark Energy Spectroscopic Instrument Collaboration (DESI) collaboration made international headline news earlier this year. \nShe will speculate on what this might mean for the future of our Universe. Professor Leauthaud will discuss other top challenges facing the profession\, including political headwinds\, recent attacks on science and funding\, and will also explain why astronomers are increasingly becoming involved in the fight against climate change. She will discuss her own journey in recognizing the predicament of life on this blue planet will conclude with a big picture view of the challenges that lie ahead. \nThe Mandel Lecture is free and open to the public. Arrive early\, seating is limited. Register at this link to reserve your seat; registration will be also available at the door. \nThis public talk is presented by the UCSC Department of Astronomy & Astrophysics and UC Observatories\, and presented as part of the Mandel Lecture series\, which promotes public awareness of and appreciate for astronomy. We seek your help and support in keeping these lecture going. For more information on giving\, please visit https://astronomy.ucsc.edu/give/. \nFor more information or for disability-related needs\, please email ccarreir@ucsc.edu.
URL:https://events.ucsc.edu/event/astrophysics-the-largest-unknowns-and-the-biggest-challenges/
LOCATION:Rio Theater\, 1205 Soquel Avenue\, Santa Cruz\, 95062\, United States
CATEGORIES:Lectures & Presentations
ATTACH;FMTTYPE=image/png:https://events.ucsc.edu/wp-content/uploads/2026/03/mandel_lecture_2026_banner_final-2.png
GEO:36.9800079;-122.0104175
X-APPLE-STRUCTURED-LOCATION;VALUE=URI;X-ADDRESS=Rio Theater 1205 Soquel Avenue Santa Cruz 95062 United States;X-APPLE-RADIUS=500;X-TITLE=1205 Soquel Avenue:geo:-122.0104175,36.9800079
END:VEVENT
BEGIN:VEVENT
DTSTART;TZID=America/Los_Angeles:20260421T120000
DTEND;TZID=America/Los_Angeles:20260421T130000
DTSTAMP:20260422T000805
CREATED:20260316T161838Z
LAST-MODIFIED:20260408T220114Z
UID:10011334-1776772800-1776776400@events.ucsc.edu
SUMMARY:Campus to Career: Job Talk with Communications Manager David Coy
DESCRIPTION:Are you curious about the communications field\, but not quite sure what it entails? Join our job talk with UCSC alumnus David Coy\, a mission-driven communications professional. David will tell us about his journey into communications work and how he discovered his passion for helping impactful organizations craft compelling content. If you’re interested in careers in communications\, development\, marketing\, or social impact\, this event is for you! \n  \nAll students are welcome. The interview will last approximately 30 minutes\, followed by a 15-minute Q&A. \nWe will provide captions for the presentation. If you have disability-related needs\, please contact the Career Success office at mpelrine@ucsc.edu  as soon as possible. \n  \nLearn more about David: \nDavid Coy is a communications professional with a focus on the non-profit\, social enterprise\, and philanthropy sectors. He is currently Communications Manager for The Bar Association of San Francisco\, where he leads communication strategy and supports fundraising efforts. Prior to joining BASF\, David worked with mission-driven organizations in investment and philanthropy\, conservation\, and education. David graduated from UCSC in 2008 with a BA in History.\nYOU BELONG HERE\nPrograms and services are open to all\, consistent with state and federal law\, as well as the University of California’s nondiscrimination policies. Every initiative—whether a student service\, faculty program\, or community event—is designed to be accessible\, inclusive\, and respectful of all identities. To learn more\, please visit UC Nondiscrimination Statement or Nondiscrimination Policy for UC Publications.
URL:https://events.ucsc.edu/event/campus-to-career-job-talk-with-communications-manager-david-coy/
LOCATION:https://ucsc.zoom.us/j/2614256373?pwd=WVdISUN0Q3ZHTXhSak5VVWN5OVc3dz09
CATEGORIES:Lectures & Presentations
ATTACH;FMTTYPE=image/jpeg:https://events.ucsc.edu/wp-content/uploads/2026/03/David-Coy-LinkedIn.jpg
END:VEVENT
END:VCALENDAR