BEGIN:VCALENDAR
VERSION:2.0
PRODID:-//Events - ECPv6.15.20//NONSGML v1.0//EN
CALSCALE:GREGORIAN
METHOD:PUBLISH
X-WR-CALNAME:Events
X-ORIGINAL-URL:https://events.ucsc.edu
X-WR-CALDESC:Events for Events
REFRESH-INTERVAL;VALUE=DURATION:PT1H
X-Robots-Tag:noindex
X-PUBLISHED-TTL:PT1H
BEGIN:VTIMEZONE
TZID:America/Los_Angeles
BEGIN:DAYLIGHT
TZOFFSETFROM:-0800
TZOFFSETTO:-0700
TZNAME:PDT
DTSTART:20250309T100000
END:DAYLIGHT
BEGIN:STANDARD
TZOFFSETFROM:-0700
TZOFFSETTO:-0800
TZNAME:PST
DTSTART:20251102T090000
END:STANDARD
BEGIN:DAYLIGHT
TZOFFSETFROM:-0800
TZOFFSETTO:-0700
TZNAME:PDT
DTSTART:20260308T100000
END:DAYLIGHT
BEGIN:STANDARD
TZOFFSETFROM:-0700
TZOFFSETTO:-0800
TZNAME:PST
DTSTART:20261101T090000
END:STANDARD
BEGIN:DAYLIGHT
TZOFFSETFROM:-0800
TZOFFSETTO:-0700
TZNAME:PDT
DTSTART:20270314T100000
END:DAYLIGHT
BEGIN:STANDARD
TZOFFSETFROM:-0700
TZOFFSETTO:-0800
TZNAME:PST
DTSTART:20271107T090000
END:STANDARD
END:VTIMEZONE
BEGIN:VEVENT
DTSTART;TZID=America/Los_Angeles:20260521T170000
DTEND;TZID=America/Los_Angeles:20260521T190000
DTSTAMP:20260425T091152
CREATED:20260423T175731Z
LAST-MODIFIED:20260423T175731Z
UID:10013986-1779382800-1779390000@events.ucsc.edu
SUMMARY:Bites & Bytes: The College Night Directive
DESCRIPTION:Crown and Merrill Colleges\, in collaboration with UCSC Dining\, present “Bites & Bytes: The College Night Directive”. Step aboard the Axiom (AKA the Dining Hall) for a night where science fiction meets social responsibility\, featuring Wall-E movie trivia\, a special themed menu\, and more. Join us Thursday\, May 21 from 5–7 p.m. at the Crown/Merrill Dining Hall. Standard dining hall entry pricing applies\, and all students\, faculty\, and staff are invited. \nPlease note: The dining hall will be closed from 2–5 p.m. for event preparation. \nLearn more about College Nights at dining.ucsc.edu/events. \n__________________________________________________________________________________________________ \nYou Belong Here: The programs and services described here are open to all\, consistent with state and federal law\, as well as the University of California’s nondiscrimination policies. Every initiative—whether a student service\, faculty program\, or community event—is designed to be accessible\, inclusive\, and respectful of all identities. \nTo learn more\, please visit UC Nondiscrimination Statement or Nondiscrimination Policy for UC Publications.How to Use the Statement Across Communication Channels
URL:https://events.ucsc.edu/event/bites-bytes-the-college-night-directive/
LOCATION:College Nine and John R. Lewis Dining Hall
CATEGORIES:Social Gathering
ATTACH;FMTTYPE=image/png:https://events.ucsc.edu/wp-content/uploads/2025/10/College-Nights-5-Events-Calendar.png
END:VEVENT
END:VCALENDAR