BEGIN:VCALENDAR
VERSION:2.0
PRODID:-//Events - ECPv6.15.20//NONSGML v1.0//EN
CALSCALE:GREGORIAN
METHOD:PUBLISH
X-ORIGINAL-URL:https://events.ucsc.edu
X-WR-CALDESC:Events for Events
REFRESH-INTERVAL;VALUE=DURATION:PT1H
X-Robots-Tag:noindex
X-PUBLISHED-TTL:PT1H
BEGIN:VTIMEZONE
TZID:America/Los_Angeles
BEGIN:DAYLIGHT
TZOFFSETFROM:-0800
TZOFFSETTO:-0700
TZNAME:PDT
DTSTART:20250309T100000
END:DAYLIGHT
BEGIN:STANDARD
TZOFFSETFROM:-0700
TZOFFSETTO:-0800
TZNAME:PST
DTSTART:20251102T090000
END:STANDARD
BEGIN:DAYLIGHT
TZOFFSETFROM:-0800
TZOFFSETTO:-0700
TZNAME:PDT
DTSTART:20260308T100000
END:DAYLIGHT
BEGIN:STANDARD
TZOFFSETFROM:-0700
TZOFFSETTO:-0800
TZNAME:PST
DTSTART:20261101T090000
END:STANDARD
BEGIN:DAYLIGHT
TZOFFSETFROM:-0800
TZOFFSETTO:-0700
TZNAME:PDT
DTSTART:20270314T100000
END:DAYLIGHT
BEGIN:STANDARD
TZOFFSETFROM:-0700
TZOFFSETTO:-0800
TZNAME:PST
DTSTART:20271107T090000
END:STANDARD
END:VTIMEZONE
BEGIN:VEVENT
DTSTART;TZID=America/Los_Angeles:20260423T170000
DTEND;TZID=America/Los_Angeles:20260423T180000
DTSTAMP:20260423T101124
CREATED:20260324T154908Z
LAST-MODIFIED:20260324T192133Z
UID:10011366-1776963600-1776967200@events.ucsc.edu
SUMMARY:Artist Roundtable for EASP M.F.A. Exhibition—"Picking up Shells Amid a Tsunami"
DESCRIPTION:The culminating exhibition of the Environmental Art and Social Practice (EASP) M.F.A. program at UC Santa Cruz presents new projects—Picking up Shells Amid a Tsunami 쓰나미가 밀려오는데\, 조개나 줍고 있네—developed through concentrated inquiry over a two-year period and offers a window into the artists’ unique long-term research projects that expand beyond the gallery space.\n—\nFULL SCHEDULE OF EVENTS\n– Ongoing Exhibition: Thurs..\, April 2–Sat.\, May 2\, 2026\n– Opening Celebration: Thurs.\, April 2\, 5:00–7:00 p.m.\n– Artist Roundtable: Thurs.\, April 23\, 5:00–6:00 p.m.\n—\nADMISSION\n– FREE and open to the public\n– Gallery hours are Tues.–Sun.noon–5:00 p.m (closed Mondays)\n—\nPARKING\n– Lot 124 & 125 are the closest parking lots to the event.\n– Parking is by permit or ParkMobile.\n– Refer to TAPS for more parking information.\n—\nABOUT THE EXHIBITION\n– More exhibition information here.\n—\nThis program is open to all members of the public consistent with state and federal law.
URL:https://events.ucsc.edu/event/roundtable-easp-mfa-2026/
LOCATION:Mary Porter Sesnon Art Gallery\, Baskin Service Road\, Santa Cruz\, CA\, 95064
CATEGORIES:Exhibits,Lectures & Presentations,Social Gathering
ATTACH;FMTTYPE=image/jpeg:https://events.ucsc.edu/wp-content/uploads/2026/03/MFA-exhbition-webpage-placeholder.jpg
GEO:36.9946557;-122.0606254
X-APPLE-STRUCTURED-LOCATION;VALUE=URI;X-ADDRESS=Mary Porter Sesnon Art Gallery Baskin Service Road Santa Cruz CA 95064;X-APPLE-RADIUS=500;X-TITLE=Baskin Service Road:geo:-122.0606254,36.9946557
END:VEVENT
BEGIN:VEVENT
DTSTART;TZID=America/Los_Angeles:20260610T190000
DTEND;TZID=America/Los_Angeles:20260610T210000
DTSTAMP:20260423T101124
CREATED:20260422T185737Z
LAST-MODIFIED:20260422T185737Z
UID:10013974-1781118000-1781125200@events.ucsc.edu
SUMMARY:SocDoc MFA Thesis Screening
DESCRIPTION:The Social Documentation MFA Thesis Screening is a yearly event held by the Film and Digital Media Department. This event is part of the Social Documentation MFA program\, and involves second-year students presenting a 20-minute documentary film they have produced while in the program. Films are screened sequentially at the Del Mar Theater\, with a Q&A with the student filmmakers at the end.\n—\nADMISSION\n– FREE and open to the public\n—\nPARKING\nNearby Parking Lots\n– Lot No. 3: The Cedar/Church Garage 800 Cedar St (270 feet W)\n– Soquel Front Garage 601 Front St (444 feet SE)\n– Lot No. 8: The Pearl Alley Parking Lot 710 Cedar St (525 feet SW)\n– Lot No. 16: The Sentinel Parking Lot 204 Church St (575 feet W)\n—\nThis program is open to all members of the public consistent with state and federal law.
URL:https://events.ucsc.edu/event/socdoc-mfa-thesis-screening/
LOCATION:Landmark’s Del Mar Theatre
CATEGORIES:Film Screening,Lectures & Presentations
ATTACH;FMTTYPE=image/jpeg:https://events.ucsc.edu/wp-content/uploads/2026/04/delmarsocdoc-e1776883923859.jpg
GEO:36.9724809;-122.0280062
END:VEVENT
END:VCALENDAR