BEGIN:VCALENDAR
VERSION:2.0
PRODID:-//Events - ECPv6.15.20//NONSGML v1.0//EN
CALSCALE:GREGORIAN
METHOD:PUBLISH
X-ORIGINAL-URL:https://events.ucsc.edu
X-WR-CALDESC:Events for Events
REFRESH-INTERVAL;VALUE=DURATION:PT1H
X-Robots-Tag:noindex
X-PUBLISHED-TTL:PT1H
BEGIN:VTIMEZONE
TZID:America/Los_Angeles
BEGIN:DAYLIGHT
TZOFFSETFROM:-0800
TZOFFSETTO:-0700
TZNAME:PDT
DTSTART:20250309T100000
END:DAYLIGHT
BEGIN:STANDARD
TZOFFSETFROM:-0700
TZOFFSETTO:-0800
TZNAME:PST
DTSTART:20251102T090000
END:STANDARD
BEGIN:DAYLIGHT
TZOFFSETFROM:-0800
TZOFFSETTO:-0700
TZNAME:PDT
DTSTART:20260308T100000
END:DAYLIGHT
BEGIN:STANDARD
TZOFFSETFROM:-0700
TZOFFSETTO:-0800
TZNAME:PST
DTSTART:20261101T090000
END:STANDARD
BEGIN:DAYLIGHT
TZOFFSETFROM:-0800
TZOFFSETTO:-0700
TZNAME:PDT
DTSTART:20270314T100000
END:DAYLIGHT
BEGIN:STANDARD
TZOFFSETFROM:-0700
TZOFFSETTO:-0800
TZNAME:PST
DTSTART:20271107T090000
END:STANDARD
END:VTIMEZONE
BEGIN:VEVENT
DTSTART;TZID=America/Los_Angeles:20260128T150000
DTEND;TZID=America/Los_Angeles:20260128T170000
DTSTAMP:20260419T190611
CREATED:20260105T180503Z
LAST-MODIFIED:20260105T180503Z
UID:10008161-1769612400-1769619600@events.ucsc.edu
SUMMARY:Decolonizing Education with Annamarie Chavez
DESCRIPTION:Join our conversation with\, fourth-year UCSC student Annamarie Chavez as she aims to spread awareness around colonial practices within higher educational systems like universities while challenging those institutions to bring indigenous perspectives and practices to the forefront.
URL:https://events.ucsc.edu/event/decolonizing-education-with-annamarie-chavez/
LOCATION:Namaste Lounge\, 615 College Nine Road\, Santa Cruz\, CA\, 95064
CATEGORIES:Meetings & Conferences
ATTACH;FMTTYPE=image/jpeg:https://events.ucsc.edu/wp-content/uploads/2025/12/Decolonizing-Education-with-Annamarie-Chavez.jpg
GEO:37.0009703;-122.0577323
X-APPLE-STRUCTURED-LOCATION;VALUE=URI;X-ADDRESS=Namaste Lounge 615 College Nine Road Santa Cruz CA 95064;X-APPLE-RADIUS=500;X-TITLE=615 College Nine Road:geo:-122.0577323,37.0009703
END:VEVENT
BEGIN:VEVENT
DTSTART;TZID=America/Los_Angeles:20260211T120000
DTEND;TZID=America/Los_Angeles:20260211T130000
DTSTAMP:20260419T190611
CREATED:20251209T205859Z
LAST-MODIFIED:20251210T170401Z
UID:10005758-1770811200-1770814800@events.ucsc.edu
SUMMARY:Research Lunch & Learn: NAGPRA\, CalNAGPRA\, and UC Repatriation policy overview
DESCRIPTION:This presentation provides an overview of the Native American Graves Protection and Repatriation Act (NAGPRA) and UCSC’s responsibilities in compliance with federal law\, CalNAGPRA state-specific law\, and the UCOP policy regarding repatriation. Join Victoria Jennings\, UCSC’s Repatriation and Tribal Collaborations Coordinator\, on February 11\, 2026\, 12-1 p.m.\, to learn more about where NAGPRA intersects with research activities and how we can show respect for tribal sovereignty in our day-to-day actions on and off campus. \nJoin: Zoom link for this session.
URL:https://events.ucsc.edu/event/research-lunch-learn-nagpra-calnagpra-and-uc-repatriation-policy-overview/
LOCATION:https://events.ucsc.edu/event/research-lunch-learn-nagpra-calnagpra-and-uc-repatriation-policy-overview/
CATEGORIES:Training
END:VEVENT
END:VCALENDAR