BEGIN:VCALENDAR
VERSION:2.0
PRODID:-//Events - ECPv6.15.20//NONSGML v1.0//EN
CALSCALE:GREGORIAN
METHOD:PUBLISH
X-ORIGINAL-URL:https://events.ucsc.edu
X-WR-CALDESC:Events for Events
REFRESH-INTERVAL;VALUE=DURATION:PT1H
X-Robots-Tag:noindex
X-PUBLISHED-TTL:PT1H
BEGIN:VTIMEZONE
TZID:America/Los_Angeles
BEGIN:DAYLIGHT
TZOFFSETFROM:-0800
TZOFFSETTO:-0700
TZNAME:PDT
DTSTART:20250309T100000
END:DAYLIGHT
BEGIN:STANDARD
TZOFFSETFROM:-0700
TZOFFSETTO:-0800
TZNAME:PST
DTSTART:20251102T090000
END:STANDARD
BEGIN:DAYLIGHT
TZOFFSETFROM:-0800
TZOFFSETTO:-0700
TZNAME:PDT
DTSTART:20260308T100000
END:DAYLIGHT
BEGIN:STANDARD
TZOFFSETFROM:-0700
TZOFFSETTO:-0800
TZNAME:PST
DTSTART:20261101T090000
END:STANDARD
BEGIN:DAYLIGHT
TZOFFSETFROM:-0800
TZOFFSETTO:-0700
TZNAME:PDT
DTSTART:20270314T100000
END:DAYLIGHT
BEGIN:STANDARD
TZOFFSETFROM:-0700
TZOFFSETTO:-0800
TZNAME:PST
DTSTART:20271107T090000
END:STANDARD
END:VTIMEZONE
BEGIN:VEVENT
DTSTART;TZID=America/Los_Angeles:20260508T170000
DTEND;TZID=America/Los_Angeles:20260508T210000
DTSTAMP:20260421T104716
CREATED:20260105T180510Z
LAST-MODIFIED:20260223T202451Z
UID:10008158-1778259600-1778274000@events.ucsc.edu
SUMMARY:AA/PI/SWANA Heritage Night Market
DESCRIPTION:Save the date and join the Asian American/Pacific Islander Resource Center (AA/PIRC) on Friday\, May 8th from 5-9pm at the Quarry Amphitheater as we celebrate Asian American\, Pacific Islander\, and Southwest Asian & North African Heritage with a Night Market! \nMore details about our second annual AA/PI/SWANA Heritage Night Market are coming soon. This FREE event is open to all UCSC community affiliates and will feature food\, vendors\, games\, activities\, and performances — all showcasing the diverse talents and cultures among our communities. \nRSVP at bit.ly/aapiswana-nm26 to get email reminders for the event\, and please complete our interest form at bit.ly/aapirc-nm26 if you are interested in joining our planning committee\, being a day-of volunteer\, tabling\, performing\, and/or vending. \nYou Belong Here: The programs and services described here are open to all\, consistent with state and federal law\, as well as the University of California’s nondiscrimination policies. Every initiative—whether a student service\, faculty program\, or community event—is designed to be accessible\, inclusive\, and respectful of all identities.
URL:https://events.ucsc.edu/event/aa-pi-swana-heritage-night-market/
LOCATION:Upper Quarry Amphitheater\, 15 McLaughlin Drive\, Santa Cruz\, CA\, 95064
ATTACH;FMTTYPE=image/jpeg:https://events.ucsc.edu/wp-content/uploads/2026/01/Night-Market-54-scaled.jpg
GEO:37.0002415;-122.0571193
X-APPLE-STRUCTURED-LOCATION;VALUE=URI;X-ADDRESS=Upper Quarry Amphitheater 15 McLaughlin Drive Santa Cruz CA 95064;X-APPLE-RADIUS=500;X-TITLE=15 McLaughlin Drive:geo:-122.0571193,37.0002415
END:VEVENT
END:VCALENDAR