BEGIN:VCALENDAR
VERSION:2.0
PRODID:-//Events - ECPv6.15.20//NONSGML v1.0//EN
CALSCALE:GREGORIAN
METHOD:PUBLISH
X-WR-CALNAME:Events
X-ORIGINAL-URL:https://events.ucsc.edu
X-WR-CALDESC:Events for Events
REFRESH-INTERVAL;VALUE=DURATION:PT1H
X-Robots-Tag:noindex
X-PUBLISHED-TTL:PT1H
BEGIN:VTIMEZONE
TZID:America/Los_Angeles
BEGIN:DAYLIGHT
TZOFFSETFROM:-0800
TZOFFSETTO:-0700
TZNAME:PDT
DTSTART:20250309T100000
END:DAYLIGHT
BEGIN:STANDARD
TZOFFSETFROM:-0700
TZOFFSETTO:-0800
TZNAME:PST
DTSTART:20251102T090000
END:STANDARD
BEGIN:DAYLIGHT
TZOFFSETFROM:-0800
TZOFFSETTO:-0700
TZNAME:PDT
DTSTART:20260308T100000
END:DAYLIGHT
BEGIN:STANDARD
TZOFFSETFROM:-0700
TZOFFSETTO:-0800
TZNAME:PST
DTSTART:20261101T090000
END:STANDARD
BEGIN:DAYLIGHT
TZOFFSETFROM:-0800
TZOFFSETTO:-0700
TZNAME:PDT
DTSTART:20270314T100000
END:DAYLIGHT
BEGIN:STANDARD
TZOFFSETFROM:-0700
TZOFFSETTO:-0800
TZNAME:PST
DTSTART:20271107T090000
END:STANDARD
END:VTIMEZONE
BEGIN:VEVENT
DTSTART;TZID=America/Los_Angeles:20260508T170000
DTEND;TZID=America/Los_Angeles:20260508T210000
DTSTAMP:20260424T045113
CREATED:20260105T180510Z
LAST-MODIFIED:20260421T171528Z
UID:10008158-1778259600-1778274000@events.ucsc.edu
SUMMARY:Reflections of Us Evening Bazaar - 2nd annual AA/PI/SWANA Heritage Night Market
DESCRIPTION:It’s time for the 2nd annual AA/PI/SWANA Heritage Night Market on FRIDAY\, MAY 8TH\, from 5-9PM @ the QUARRY AMPHITHEATER! \nIn celebration of AA/PI Heritage Month in May and SWANA Heritage Month in April\, AA/PIRC invites you to join us for the Reflections of Us Evening Bazaar — an evening full of free food\, games\, performances\, and the opportunity to support small student businesses! This year’s special guest\, will be RC Avenue. We can’t wait for you all to come hang out with us and listen to great music! \nBIG THANK YOU to our SPONSORS: The Women’s Center\, Cantú Queer Center\, and College Nine & John R. Lewis College Activities Office! \nRSVP at bit.ly/aapiswana-nm26 to get email reminders for the event\, and please complete our interest form at bit.ly/aapirc-nm26 if you are interested in joining our planning committee\, being a day-of volunteer\, tabling\, performing\, and/or vending.
URL:https://events.ucsc.edu/event/aa-pi-swana-heritage-night-market/
LOCATION:Upper Quarry Amphitheater\, 15 McLaughlin Drive\, Santa Cruz\, CA\, 95064
ATTACH;FMTTYPE=image/png:https://events.ucsc.edu/wp-content/uploads/2026/01/Event-Calendar-photos-5.png
GEO:37.0002415;-122.0571193
X-APPLE-STRUCTURED-LOCATION;VALUE=URI;X-ADDRESS=Upper Quarry Amphitheater 15 McLaughlin Drive Santa Cruz CA 95064;X-APPLE-RADIUS=500;X-TITLE=15 McLaughlin Drive:geo:-122.0571193,37.0002415
END:VEVENT
END:VCALENDAR