BEGIN:VCALENDAR
VERSION:2.0
PRODID:-//Events - ECPv6.15.20//NONSGML v1.0//EN
CALSCALE:GREGORIAN
METHOD:PUBLISH
X-ORIGINAL-URL:https://events.ucsc.edu
X-WR-CALDESC:Events for Events
REFRESH-INTERVAL;VALUE=DURATION:PT1H
X-Robots-Tag:noindex
X-PUBLISHED-TTL:PT1H
BEGIN:VTIMEZONE
TZID:America/Los_Angeles
BEGIN:DAYLIGHT
TZOFFSETFROM:-0800
TZOFFSETTO:-0700
TZNAME:PDT
DTSTART:20240310T100000
END:DAYLIGHT
BEGIN:STANDARD
TZOFFSETFROM:-0700
TZOFFSETTO:-0800
TZNAME:PST
DTSTART:20241103T090000
END:STANDARD
BEGIN:DAYLIGHT
TZOFFSETFROM:-0800
TZOFFSETTO:-0700
TZNAME:PDT
DTSTART:20250309T100000
END:DAYLIGHT
BEGIN:STANDARD
TZOFFSETFROM:-0700
TZOFFSETTO:-0800
TZNAME:PST
DTSTART:20251102T090000
END:STANDARD
BEGIN:DAYLIGHT
TZOFFSETFROM:-0800
TZOFFSETTO:-0700
TZNAME:PDT
DTSTART:20260308T100000
END:DAYLIGHT
BEGIN:STANDARD
TZOFFSETFROM:-0700
TZOFFSETTO:-0800
TZNAME:PST
DTSTART:20261101T090000
END:STANDARD
END:VTIMEZONE
BEGIN:VEVENT
DTSTART;TZID=America/Los_Angeles:20251023T090000
DTEND;TZID=America/Los_Angeles:20251023T110000
DTSTAMP:20260420T061500
CREATED:20251017T152021Z
LAST-MODIFIED:20251017T152021Z
UID:10004904-1761210000-1761217200@events.ucsc.edu
SUMMARY:Innovations in Health Care Virtual Conference
DESCRIPTION:💫 Transform Healthcare with Us! 🧬🏥 \n🌟 5-Day Virtual Summit 2025: “Innovation\, Ethics & the Next Frontier in Healthcare” 🌟 \n🗓️ Oct 20–24 | 9–11AM PST \n💻 100% FREE | Live Online \nMeet visionary leaders shaping the future of healthcare: \n✨ Prof. Henry Greely  \n✨ Dr. James Giordano \n✨ Lisa Berkley\, PhD \n✨ Alice Rathjen \n✨ Christine Von Raesfeld \n✨ Linda MacDonald Glenn\, JD\, LLM \n🤝 Co-hosted by Krzysztof “Kris” Laudanski\, President of @SHCI \nJoin the movement redefining innovation and ethics in modern medicine! 🌍💫 \nRegister at https://www.linkedin.com/company/theshci/posts/ \n💡 #HealthTechRevolution #EthicalInnovation #FutureOfHealthcare #MedTech2025 #SHCI \n🙌 Ready to be part of the change? Drop a comment below!
URL:https://events.ucsc.edu/event/innovations-in-health-care-virtual-conference/2025-10-23/
LOCATION:CA
CATEGORIES:Meetings & Conferences
ATTACH;FMTTYPE=image/jpeg:https://events.ucsc.edu/wp-content/uploads/2025/10/1760634997987.jpeg
END:VEVENT
END:VCALENDAR