BEGIN:VCALENDAR
VERSION:2.0
PRODID:-//Events - ECPv6.15.20//NONSGML v1.0//EN
CALSCALE:GREGORIAN
METHOD:PUBLISH
X-WR-CALNAME:Events
X-ORIGINAL-URL:https://events.ucsc.edu
X-WR-CALDESC:Events for Events
REFRESH-INTERVAL;VALUE=DURATION:PT1H
X-Robots-Tag:noindex
X-PUBLISHED-TTL:PT1H
BEGIN:VTIMEZONE
TZID:America/Los_Angeles
BEGIN:DAYLIGHT
TZOFFSETFROM:-0800
TZOFFSETTO:-0700
TZNAME:PDT
DTSTART:20240310T100000
END:DAYLIGHT
BEGIN:STANDARD
TZOFFSETFROM:-0700
TZOFFSETTO:-0800
TZNAME:PST
DTSTART:20241103T090000
END:STANDARD
BEGIN:DAYLIGHT
TZOFFSETFROM:-0800
TZOFFSETTO:-0700
TZNAME:PDT
DTSTART:20250309T100000
END:DAYLIGHT
BEGIN:STANDARD
TZOFFSETFROM:-0700
TZOFFSETTO:-0800
TZNAME:PST
DTSTART:20251102T090000
END:STANDARD
BEGIN:DAYLIGHT
TZOFFSETFROM:-0800
TZOFFSETTO:-0700
TZNAME:PDT
DTSTART:20260308T100000
END:DAYLIGHT
BEGIN:STANDARD
TZOFFSETFROM:-0700
TZOFFSETTO:-0800
TZNAME:PST
DTSTART:20261101T090000
END:STANDARD
END:VTIMEZONE
BEGIN:VEVENT
DTSTART;TZID=America/Los_Angeles:20251021T120000
DTEND;TZID=America/Los_Angeles:20251021T130000
DTSTAMP:20260423T002056
CREATED:20251013T151834Z
LAST-MODIFIED:20251014T141340Z
UID:10004809-1761048000-1761051600@events.ucsc.edu
SUMMARY:CITRIS Aviation Prize Information Session
DESCRIPTION:Join us for this virtual info session on the 2025–26 CITRIS Aviation Prize\, an exciting multi-campus student competition inviting teams to design innovative solutions for the future of air mobility across the University of California. \nThe session will cover this year’s competition guidelines\, key dates and requirements\, and available resources. Attendees will also have the opportunity for Q&A with members of the CITRIS Aviation Leadership Committee\, composed of aviation research faculty from UC Berkeley\, UC Davis\, UC Merced\, and UC Santa Cruz. \nRegister here to attend. \nFor any questions\, contact aviationprize@citris-uc.org. \n  \nDate: Tuesday\, October 21 \nTime: 12:00 pm – 1:00 pm \nLocation: Zoom (register to attend).
URL:https://events.ucsc.edu/event/citris-aviation-prize-info/
CATEGORIES:Meetings & Conferences
ATTACH;FMTTYPE=image/jpeg:https://events.ucsc.edu/wp-content/uploads/2025/10/2025-Aviation-Prize-graphic.jpg
END:VEVENT
END:VCALENDAR