BEGIN:VCALENDAR
VERSION:2.0
PRODID:-//Events - ECPv6.15.20//NONSGML v1.0//EN
CALSCALE:GREGORIAN
METHOD:PUBLISH
X-WR-CALNAME:Events
X-ORIGINAL-URL:https://events.ucsc.edu
X-WR-CALDESC:Events for Events
REFRESH-INTERVAL;VALUE=DURATION:PT1H
X-Robots-Tag:noindex
X-PUBLISHED-TTL:PT1H
BEGIN:VTIMEZONE
TZID:America/Los_Angeles
BEGIN:DAYLIGHT
TZOFFSETFROM:-0800
TZOFFSETTO:-0700
TZNAME:PDT
DTSTART:20240310T100000
END:DAYLIGHT
BEGIN:STANDARD
TZOFFSETFROM:-0700
TZOFFSETTO:-0800
TZNAME:PST
DTSTART:20241103T090000
END:STANDARD
BEGIN:DAYLIGHT
TZOFFSETFROM:-0800
TZOFFSETTO:-0700
TZNAME:PDT
DTSTART:20250309T100000
END:DAYLIGHT
BEGIN:STANDARD
TZOFFSETFROM:-0700
TZOFFSETTO:-0800
TZNAME:PST
DTSTART:20251102T090000
END:STANDARD
BEGIN:DAYLIGHT
TZOFFSETFROM:-0800
TZOFFSETTO:-0700
TZNAME:PDT
DTSTART:20260308T100000
END:DAYLIGHT
BEGIN:STANDARD
TZOFFSETFROM:-0700
TZOFFSETTO:-0800
TZNAME:PST
DTSTART:20261101T090000
END:STANDARD
BEGIN:DAYLIGHT
TZOFFSETFROM:-0800
TZOFFSETTO:-0700
TZNAME:PDT
DTSTART:20270314T100000
END:DAYLIGHT
BEGIN:STANDARD
TZOFFSETFROM:-0700
TZOFFSETTO:-0800
TZNAME:PST
DTSTART:20271107T090000
END:STANDARD
END:VTIMEZONE
BEGIN:VEVENT
DTSTART;TZID=America/Los_Angeles:20260322T130000
DTEND;TZID=America/Los_Angeles:20260322T150000
DTSTAMP:20260418T212557
CREATED:20251002T180146Z
LAST-MODIFIED:20251002T180146Z
UID:10000461-1774184400-1774191600@events.ucsc.edu
SUMMARY:Santa Cruz Pickwick Club presents: Bleak House
DESCRIPTION:Spontaneous human combustion! Evil lawyers! Detectives! Family intrigue! These all come together in Charles Dickens’s masterwork\, Bleak House. This year\, we will spend the year reading the 2026 Dickens Universe novel. Join Dickens enthusiasts and Pickwick Club members on Zoom for a series of discussions about this beloved book. \nRegister via Zoom \nReading Schedule:  \n\nOCT 26: Chapters 8-13\nNOV 23: Chapters 14-19\nDEC 28: No meeting\nJAN 25: Chapters 20-25\nFEB 22: Chpaters 26-32\nMAR 22: Chapters 33-38\nAPR 26: Chapters 39-46\nMAY 24: Chapters 47-53\nJUN 28: Chapters 54-67 (End)\n\nRecommended Edition: We recommend the Penguin Classics edition of the novel for its appendices and notes\, but other versions are fine. First-time readers should avoid the Introduction if they don’t want spoilers. Download the novel to read at Gutenburg.org or listen to it at LibriVox.org. \nThe Santa Cruz Pickwick (Book) Club\, a branch of the Dickens Fellowship\, is a community of local bookworms\, students\, and teachers who meet monthly to discuss a nineteenth-century novel. The Santa Cruz Public Libraries provide support for the reading group.
URL:https://events.ucsc.edu/event/santa-cruz-pickwick-club-presents-bleak-house-2/2026-03-22/
CATEGORIES:Lectures & Presentations
ATTACH;FMTTYPE=image/png:https://events.ucsc.edu/wp-content/uploads/2025/10/Screenshot-2025-10-02-at-10.58.48-AM.png
END:VEVENT
BEGIN:VEVENT
DTSTART;TZID=America/Los_Angeles:20260222T130000
DTEND;TZID=America/Los_Angeles:20260222T150000
DTSTAMP:20260418T212557
CREATED:20251002T180146Z
LAST-MODIFIED:20251002T180146Z
UID:10000460-1771765200-1771772400@events.ucsc.edu
SUMMARY:Santa Cruz Pickwick Club presents: Bleak House
DESCRIPTION:Spontaneous human combustion! Evil lawyers! Detectives! Family intrigue! These all come together in Charles Dickens’s masterwork\, Bleak House. This year\, we will spend the year reading the 2026 Dickens Universe novel. Join Dickens enthusiasts and Pickwick Club members on Zoom for a series of discussions about this beloved book. \nRegister via Zoom \nReading Schedule:  \n\nOCT 26: Chapters 8-13\nNOV 23: Chapters 14-19\nDEC 28: No meeting\nJAN 25: Chapters 20-25\nFEB 22: Chpaters 26-32\nMAR 22: Chapters 33-38\nAPR 26: Chapters 39-46\nMAY 24: Chapters 47-53\nJUN 28: Chapters 54-67 (End)\n\nRecommended Edition: We recommend the Penguin Classics edition of the novel for its appendices and notes\, but other versions are fine. First-time readers should avoid the Introduction if they don’t want spoilers. Download the novel to read at Gutenburg.org or listen to it at LibriVox.org. \nThe Santa Cruz Pickwick (Book) Club\, a branch of the Dickens Fellowship\, is a community of local bookworms\, students\, and teachers who meet monthly to discuss a nineteenth-century novel. The Santa Cruz Public Libraries provide support for the reading group.
URL:https://events.ucsc.edu/event/santa-cruz-pickwick-club-presents-bleak-house-2/2026-02-22/
CATEGORIES:Lectures & Presentations
ATTACH;FMTTYPE=image/png:https://events.ucsc.edu/wp-content/uploads/2025/10/Screenshot-2025-10-02-at-10.58.48-AM.png
END:VEVENT
BEGIN:VEVENT
DTSTART;TZID=America/Los_Angeles:20260204T080000
DTEND;TZID=America/Los_Angeles:20260204T143000
DTSTAMP:20260418T212557
CREATED:20260114T182011Z
LAST-MODIFIED:20260114T182011Z
UID:10008392-1770192000-1770215400@events.ucsc.edu
SUMMARY:Mentors Needed: Dickens Day of Writing
DESCRIPTION:The Dickens Project is seeking volunteer writing mentors for our to support Santa Cruz-area high school juniors and seniors during a one-day writing retreat and competition at the Museum of Art and History! \nNo prior writing or teaching experience is necessary. Anyone who enjoys working in a creative environment is welcome. For more information about The Dickens Day of Writing please visit https://teachers.ucsc.edu/dickens-day-of-writing/ \nTo register as a mentor\, please fill out the following Google form by January 31st\, 2026.\nhttps://forms.gle/qPK2bMXu7vo4bXwL9
URL:https://events.ucsc.edu/event/mentors-needed-dickens-day-of-writing/
LOCATION:Museum of Art & History\, 705 Front St\, Santa Cruz\, CA\, 95060\, United States
CATEGORIES:Workshop
ATTACH;FMTTYPE=image/jpeg:https://events.ucsc.edu/wp-content/uploads/2026/01/DDOW_16-9.jpg
GEO:36.9745675;-122.0253376
X-APPLE-STRUCTURED-LOCATION;VALUE=URI;X-ADDRESS=Museum of Art & History 705 Front St Santa Cruz CA 95060 United States;X-APPLE-RADIUS=500;X-TITLE=705 Front St:geo:-122.0253376,36.9745675
END:VEVENT
BEGIN:VEVENT
DTSTART;TZID=America/Los_Angeles:20260125T130000
DTEND;TZID=America/Los_Angeles:20260125T150000
DTSTAMP:20260418T212557
CREATED:20251002T180146Z
LAST-MODIFIED:20251002T180146Z
UID:10000459-1769346000-1769353200@events.ucsc.edu
SUMMARY:Santa Cruz Pickwick Club presents: Bleak House
DESCRIPTION:Spontaneous human combustion! Evil lawyers! Detectives! Family intrigue! These all come together in Charles Dickens’s masterwork\, Bleak House. This year\, we will spend the year reading the 2026 Dickens Universe novel. Join Dickens enthusiasts and Pickwick Club members on Zoom for a series of discussions about this beloved book. \nRegister via Zoom \nReading Schedule:  \n\nOCT 26: Chapters 8-13\nNOV 23: Chapters 14-19\nDEC 28: No meeting\nJAN 25: Chapters 20-25\nFEB 22: Chpaters 26-32\nMAR 22: Chapters 33-38\nAPR 26: Chapters 39-46\nMAY 24: Chapters 47-53\nJUN 28: Chapters 54-67 (End)\n\nRecommended Edition: We recommend the Penguin Classics edition of the novel for its appendices and notes\, but other versions are fine. First-time readers should avoid the Introduction if they don’t want spoilers. Download the novel to read at Gutenburg.org or listen to it at LibriVox.org. \nThe Santa Cruz Pickwick (Book) Club\, a branch of the Dickens Fellowship\, is a community of local bookworms\, students\, and teachers who meet monthly to discuss a nineteenth-century novel. The Santa Cruz Public Libraries provide support for the reading group.
URL:https://events.ucsc.edu/event/santa-cruz-pickwick-club-presents-bleak-house-2/2026-01-25/
CATEGORIES:Lectures & Presentations
ATTACH;FMTTYPE=image/png:https://events.ucsc.edu/wp-content/uploads/2025/10/Screenshot-2025-10-02-at-10.58.48-AM.png
END:VEVENT
BEGIN:VEVENT
DTSTART;TZID=America/Los_Angeles:20251207T130000
DTEND;TZID=America/Los_Angeles:20251207T150000
DTSTAMP:20260418T212557
CREATED:20251119T214234Z
LAST-MODIFIED:20251119T214412Z
UID:10005208-1765112400-1765119600@events.ucsc.edu
SUMMARY:John O. Jordan: "Dickens and Soundscape: The Old Curiosity Shop"
DESCRIPTION:Please join the Dickens Project for the rescheduled Dickens Universe talk by John Jordan\, Dickens Project Co-Founder and Co-Director. Delve into the sounds of The Old Curiosity Shop on Sunday\, December 7\, from 1:00-2:30 PM (Pacific time). \nCritics have long recognized and commented on the striking visual quality of Dickens’s writing\, including the ways in which his novels seem to have anticipated and even influenced the development of certain film techniques. With the exception of studies that focus on speech and voice\, relatively little attention has been paid to Dickens’s representation of sound more generally. In this paper\, Professor Jordan takes a sound studies approach to Dickens’s writing\, focusing on The Old Curiosity Shop and examining the various uses to which sound is put in this exceptionally “noisy” book. \nJohn O. Jordan is a research professor of literature at the University of California\, Santa Cruz and the Co-Director of the Dickens Project. His primary research interests include Victorian literature and culture\, Charles Dickens and narrative theory. John is the author of Supposing Bleak House and co-editor\, with Robert Patten and Catherine Waters\, of the Oxford Handbook of Charles Dickens. \nRegister for the talk on Zoom.
URL:https://events.ucsc.edu/event/john-o-jordan-dickens-and-soundscape-the-old-curiosity-shop/
CATEGORIES:Lectures & Presentations
ATTACH;FMTTYPE=image/jpeg:https://events.ucsc.edu/wp-content/uploads/2025/11/JOJ-OCS-Soundscape-copy-800x496-1.jpg
END:VEVENT
BEGIN:VEVENT
DTSTART;TZID=America/Los_Angeles:20251123T130000
DTEND;TZID=America/Los_Angeles:20251123T150000
DTSTAMP:20260418T212557
CREATED:20251002T180146Z
LAST-MODIFIED:20251002T180146Z
UID:10000458-1763902800-1763910000@events.ucsc.edu
SUMMARY:Santa Cruz Pickwick Club presents: Bleak House
DESCRIPTION:Spontaneous human combustion! Evil lawyers! Detectives! Family intrigue! These all come together in Charles Dickens’s masterwork\, Bleak House. This year\, we will spend the year reading the 2026 Dickens Universe novel. Join Dickens enthusiasts and Pickwick Club members on Zoom for a series of discussions about this beloved book. \nRegister via Zoom \nReading Schedule:  \n\nOCT 26: Chapters 8-13\nNOV 23: Chapters 14-19\nDEC 28: No meeting\nJAN 25: Chapters 20-25\nFEB 22: Chpaters 26-32\nMAR 22: Chapters 33-38\nAPR 26: Chapters 39-46\nMAY 24: Chapters 47-53\nJUN 28: Chapters 54-67 (End)\n\nRecommended Edition: We recommend the Penguin Classics edition of the novel for its appendices and notes\, but other versions are fine. First-time readers should avoid the Introduction if they don’t want spoilers. Download the novel to read at Gutenburg.org or listen to it at LibriVox.org. \nThe Santa Cruz Pickwick (Book) Club\, a branch of the Dickens Fellowship\, is a community of local bookworms\, students\, and teachers who meet monthly to discuss a nineteenth-century novel. The Santa Cruz Public Libraries provide support for the reading group.
URL:https://events.ucsc.edu/event/santa-cruz-pickwick-club-presents-bleak-house-2/2025-11-23/
CATEGORIES:Lectures & Presentations
ATTACH;FMTTYPE=image/png:https://events.ucsc.edu/wp-content/uploads/2025/10/Screenshot-2025-10-02-at-10.58.48-AM.png
END:VEVENT
BEGIN:VEVENT
DTSTART;TZID=America/Los_Angeles:20251026T130000
DTEND;TZID=America/Los_Angeles:20251026T150000
DTSTAMP:20260418T212557
CREATED:20251002T180146Z
LAST-MODIFIED:20251002T180146Z
UID:10000457-1761483600-1761490800@events.ucsc.edu
SUMMARY:Santa Cruz Pickwick Club presents: Bleak House
DESCRIPTION:Spontaneous human combustion! Evil lawyers! Detectives! Family intrigue! These all come together in Charles Dickens’s masterwork\, Bleak House. This year\, we will spend the year reading the 2026 Dickens Universe novel. Join Dickens enthusiasts and Pickwick Club members on Zoom for a series of discussions about this beloved book. \nRegister via Zoom \nReading Schedule:  \n\nOCT 26: Chapters 8-13\nNOV 23: Chapters 14-19\nDEC 28: No meeting\nJAN 25: Chapters 20-25\nFEB 22: Chpaters 26-32\nMAR 22: Chapters 33-38\nAPR 26: Chapters 39-46\nMAY 24: Chapters 47-53\nJUN 28: Chapters 54-67 (End)\n\nRecommended Edition: We recommend the Penguin Classics edition of the novel for its appendices and notes\, but other versions are fine. First-time readers should avoid the Introduction if they don’t want spoilers. Download the novel to read at Gutenburg.org or listen to it at LibriVox.org. \nThe Santa Cruz Pickwick (Book) Club\, a branch of the Dickens Fellowship\, is a community of local bookworms\, students\, and teachers who meet monthly to discuss a nineteenth-century novel. The Santa Cruz Public Libraries provide support for the reading group.
URL:https://events.ucsc.edu/event/santa-cruz-pickwick-club-presents-bleak-house-2/2025-10-26/
CATEGORIES:Lectures & Presentations
ATTACH;FMTTYPE=image/png:https://events.ucsc.edu/wp-content/uploads/2025/10/Screenshot-2025-10-02-at-10.58.48-AM.png
END:VEVENT
BEGIN:VEVENT
DTSTART;TZID=America/Los_Angeles:20250928T130000
DTEND;TZID=America/Los_Angeles:20250928T130000
DTSTAMP:20260418T212557
CREATED:20250919T070000Z
LAST-MODIFIED:20250925T231556Z
UID:10000203-1759064400-1759064400@events.ucsc.edu
SUMMARY:Santa Cruz Pickwick Club presents: Bleak House
DESCRIPTION:Spontaneous human combustion! Evil lawyers! Detectives! Family intrigue! These all come together in Charles Dickens’s masterwork\, Bleak House. This year\, we will spend the year reading the 2026 Dickens Universe novel. Join Dickens enthusiasts and Pickwick Club members for a series of discussions about this beloved book. \nReading Schedule:  \n\nSEPT 28: Chapters 1-7\nOCT 26: Chapters 8-13\nNOV 23: Chapters 14-19\nDEC 28: No meeting\nJAN 25: Chapters 20-25\nFEB 22: Chpaters 26-32\nMAR 22: Chapters 33-38\nAPR 26: Chapters 39-46\nMAY 24: Chapters 47-53\nJUN 28: Chapters 54-67 (End)\n\nRecommended Edition: We recommend the Penguin Classics edition of the novel for its appendices and notes\, but other versions are fine. First-time readers should avoid the Introduction if they don’t want spoilers. Download the novel to read at Gutenburg.org or listen to it at LibriVox.org. \nThe Santa Cruz Pickwick (Book) Club\, a branch of the Dickens Fellowship\, is a community of local bookworms\, students\, and teachers who meet monthly to discuss a nineteenth-century novel. The Santa Cruz Public Libraries provide support for the reading group.
URL:https://events.ucsc.edu/event/santa-cruz-pickwick-club-presents-bleak-house/
CATEGORIES:Lectures & Presentations
ATTACH;FMTTYPE=image/jpeg:https://events.ucsc.edu/wp-content/uploads/2025/09/faf3be4f1a7e1f2952110b12a42119446c24d954.jpg
END:VEVENT
BEGIN:VEVENT
DTSTART;TZID=America/Los_Angeles:20250725T183000
DTEND;TZID=America/Los_Angeles:20250725T183000
DTSTAMP:20260418T212557
CREATED:20250702T070000Z
LAST-MODIFIED:20250925T231621Z
UID:10000056-1753468200-1753468200@events.ucsc.edu
SUMMARY:The Curiosity Gala
DESCRIPTION:Join us for The Curiosity Gala on July 25\, 2025\, as we celebrate the 45th Annual Dickens Universe Conference! \nNow open to the public\, this enchanting evening invites community members to don their finest Victorian attire and enjoy a night of lively entertainment—including Victorian dance lessons\, casino tables\, a raffle\, postprandial potations\, and a live auction! \nHosted by the Dickens Project\, the Dickens Universe is a unique cultural event that brings together scholars\, teachers\, students\, and members of the general public for a week of stimulating discussion and festive social activity on the beautiful Santa Cruz campus of the University of California—all focused on one or two Victorian novels\, with this year’s novel being Charels Dickens’s The Old Curiosity Shop. \nThe week-long conference culminates in The Curiosity Gala—a festive celebration that brings together conference attendees and community members. Purchases from the evening’s activities will support the Dickens Project’s educational programs. \nTickets are $50 benefiting the Dickens Project's educational programs.
URL:https://events.ucsc.edu/event/the-curiosity-gala/
END:VEVENT
BEGIN:VEVENT
DTSTART;TZID=America/Los_Angeles:20250720T000000
DTEND;TZID=America/Los_Angeles:20250720T000000
DTSTAMP:20260418T212557
CREATED:20250320T070000Z
LAST-MODIFIED:20250925T231310Z
UID:10000018-1752969600-1752969600@events.ucsc.edu
SUMMARY:45th Annual Dickens Universe featuring 'The Old Curiosity Shop'
DESCRIPTION:The Dickens Universe is a unique cultural event that brings together scholars\, teachers\, students\, and members of the general public for a week of stimulating discussion and festive social activity on the beautiful Santa Cruz campus of the University of California—all focused on one or two Victorian novels\, usually (but not always) one by Charles Dickens. \nIn 2025\, the Dickens Universe will feature The Old Curiosity Shop by Charles Dickens. Most people remember the novel for its famous and climactic death scene\, featuring one of Dickens's most beloved (and reviled) girl heroines\, Little Nell. It is a novel full of interesting scenes\, themes\, and curiosities. Featuring a gallery of Dickens's most grotesque characters\, it explores the idea of deformity\, especially as it contrasts with the angelic innocence and strangely embodied beauty of Little Nell. Its picaresque roots make it an adventure story as well as an allegory of moral journey; its interest in the urban landscape\, its pleasure\, and its dangers suggest Dickens's social concerns.  \nNow in its 45th year of operation\, the Dickens Universe combines features of a scholarly conference\, a festival\, a book club\, and a summer camp. Participants include people of all ages and walks of life—distinguished scholars\, graduate students\, undergraduates\, retirees\, young professionals\, high school teachers\, and anyone who loves reading and enjoys long Victorian novels. \nHere are some things that make the Universe such a memorable experience. \n\nThe college lifestyle: participants live on campus\, eat together in the student dining hall\, and have time to meet and come to know each other in different ways.\nEveryone is reading the same book. We all have this one important thing in common.\nThe activities include formal lectures\, small discussion groups\, films\, daily Victorian teas\, performances\, and Victorian dancing.\n\nThe Universe offers a week of total immersion in the world of Victorian fiction with friendly\, like-minded colleagues in a beautiful setting. Whether we’re returning to a Dickens novel that everyone knows and loves or branching out into a Victorian novel by another author who might be less familiar\, during the Universe\, we build a community out of our passion for reading\, talking with one another\, and bringing Victorian culture to life.
URL:https://events.ucsc.edu/event/45th-annual-dickens-universe-featuring-the-old-curiosity-shop/
LOCATION:Colleges Nine and John R. Lewis College Multi-purpose Room\, 615 College Nine Road\, Santa Cruz\, CA\, 95064
CATEGORIES:Lectures & Presentations,Meetings & Conferences
GEO:37.0009703;-122.0577323
X-APPLE-STRUCTURED-LOCATION;VALUE=URI;X-ADDRESS=Colleges Nine and John R. Lewis College Multi-purpose Room 615 College Nine Road Santa Cruz CA 95064;X-APPLE-RADIUS=500;X-TITLE=615 College Nine Road:geo:-122.0577323,37.0009703
END:VEVENT
END:VCALENDAR