BEGIN:VCALENDAR
VERSION:2.0
PRODID:-//Events - ECPv6.15.20//NONSGML v1.0//EN
CALSCALE:GREGORIAN
METHOD:PUBLISH
X-WR-CALNAME:Events
X-ORIGINAL-URL:https://events.ucsc.edu
X-WR-CALDESC:Events for Events
REFRESH-INTERVAL;VALUE=DURATION:PT1H
X-Robots-Tag:noindex
X-PUBLISHED-TTL:PT1H
BEGIN:VTIMEZONE
TZID:America/Los_Angeles
BEGIN:DAYLIGHT
TZOFFSETFROM:-0800
TZOFFSETTO:-0700
TZNAME:PDT
DTSTART:20240310T100000
END:DAYLIGHT
BEGIN:STANDARD
TZOFFSETFROM:-0700
TZOFFSETTO:-0800
TZNAME:PST
DTSTART:20241103T090000
END:STANDARD
BEGIN:DAYLIGHT
TZOFFSETFROM:-0800
TZOFFSETTO:-0700
TZNAME:PDT
DTSTART:20250309T100000
END:DAYLIGHT
BEGIN:STANDARD
TZOFFSETFROM:-0700
TZOFFSETTO:-0800
TZNAME:PST
DTSTART:20251102T090000
END:STANDARD
BEGIN:DAYLIGHT
TZOFFSETFROM:-0800
TZOFFSETTO:-0700
TZNAME:PDT
DTSTART:20260308T100000
END:DAYLIGHT
BEGIN:STANDARD
TZOFFSETFROM:-0700
TZOFFSETTO:-0800
TZNAME:PST
DTSTART:20261101T090000
END:STANDARD
BEGIN:DAYLIGHT
TZOFFSETFROM:-0800
TZOFFSETTO:-0700
TZNAME:PDT
DTSTART:20270314T100000
END:DAYLIGHT
BEGIN:STANDARD
TZOFFSETFROM:-0700
TZOFFSETTO:-0800
TZNAME:PST
DTSTART:20271107T090000
END:STANDARD
END:VTIMEZONE
BEGIN:VEVENT
DTSTART;TZID=America/Los_Angeles:20260415T120000
DTEND;TZID=America/Los_Angeles:20260415T130000
DTSTAMP:20260418T222345
CREATED:20250923T070000Z
LAST-MODIFIED:20251001T224502Z
UID:10000281-1776254400-1776258000@events.ucsc.edu
SUMMARY:Engineering Teaching Community (Faculty)
DESCRIPTION:During the chaos of a quarter\, is it hard to find time to reflect and improve as an instructor? Would you like to be a part of an inclusive\, supportive group of engineering instructors who do this in community? ETC is for sharing teaching experiences\, classroom ideas\, research on learning\, and methods that support instructors and students. All are welcome\, and lunch is provided. Please reach out to Jenny Quynn with questions.
URL:https://events.ucsc.edu/event/engineering-teaching-community-faculty/2026-04-15/
LOCATION:Jack Baskin Engineering\, Baskin Engineering 1156 High Street\, Santa Cruz\, CA\, 95064
CATEGORIES:Meetings & Conferences,Training
ATTACH;FMTTYPE=image/jpeg:https://events.ucsc.edu/wp-content/uploads/2025/09/b19cd317e2122064e85e5d3d896b4e3426736249.jpg
GEO:37.000369;-122.0632371
X-APPLE-STRUCTURED-LOCATION;VALUE=URI;X-ADDRESS=Jack Baskin Engineering Baskin Engineering 1156 High Street Santa Cruz CA 95064;X-APPLE-RADIUS=500;X-TITLE=Baskin Engineering 1156 High Street:geo:-122.0632371,37.000369
END:VEVENT
BEGIN:VEVENT
DTSTART;TZID=America/Los_Angeles:20260401T120000
DTEND;TZID=America/Los_Angeles:20260401T130000
DTSTAMP:20260418T222345
CREATED:20250923T070000Z
LAST-MODIFIED:20251001T224502Z
UID:10000280-1775044800-1775048400@events.ucsc.edu
SUMMARY:Engineering Teaching Community (Faculty)
DESCRIPTION:During the chaos of a quarter\, is it hard to find time to reflect and improve as an instructor? Would you like to be a part of an inclusive\, supportive group of engineering instructors who do this in community? ETC is for sharing teaching experiences\, classroom ideas\, research on learning\, and methods that support instructors and students. All are welcome\, and lunch is provided. Please reach out to Jenny Quynn with questions.
URL:https://events.ucsc.edu/event/engineering-teaching-community-faculty/2026-04-01/
LOCATION:Jack Baskin Engineering\, Baskin Engineering 1156 High Street\, Santa Cruz\, CA\, 95064
CATEGORIES:Meetings & Conferences,Training
ATTACH;FMTTYPE=image/jpeg:https://events.ucsc.edu/wp-content/uploads/2025/09/b19cd317e2122064e85e5d3d896b4e3426736249.jpg
GEO:37.000369;-122.0632371
X-APPLE-STRUCTURED-LOCATION;VALUE=URI;X-ADDRESS=Jack Baskin Engineering Baskin Engineering 1156 High Street Santa Cruz CA 95064;X-APPLE-RADIUS=500;X-TITLE=Baskin Engineering 1156 High Street:geo:-122.0632371,37.000369
END:VEVENT
BEGIN:VEVENT
DTSTART;TZID=America/Los_Angeles:20260318T120000
DTEND;TZID=America/Los_Angeles:20260318T130000
DTSTAMP:20260418T222345
CREATED:20250923T070000Z
LAST-MODIFIED:20251001T224502Z
UID:10000279-1773835200-1773838800@events.ucsc.edu
SUMMARY:Engineering Teaching Community (Faculty)
DESCRIPTION:During the chaos of a quarter\, is it hard to find time to reflect and improve as an instructor? Would you like to be a part of an inclusive\, supportive group of engineering instructors who do this in community? ETC is for sharing teaching experiences\, classroom ideas\, research on learning\, and methods that support instructors and students. All are welcome\, and lunch is provided. Please reach out to Jenny Quynn with questions.
URL:https://events.ucsc.edu/event/engineering-teaching-community-faculty/2026-03-18/
LOCATION:Jack Baskin Engineering\, Baskin Engineering 1156 High Street\, Santa Cruz\, CA\, 95064
CATEGORIES:Meetings & Conferences,Training
ATTACH;FMTTYPE=image/jpeg:https://events.ucsc.edu/wp-content/uploads/2025/09/b19cd317e2122064e85e5d3d896b4e3426736249.jpg
GEO:37.000369;-122.0632371
X-APPLE-STRUCTURED-LOCATION;VALUE=URI;X-ADDRESS=Jack Baskin Engineering Baskin Engineering 1156 High Street Santa Cruz CA 95064;X-APPLE-RADIUS=500;X-TITLE=Baskin Engineering 1156 High Street:geo:-122.0632371,37.000369
END:VEVENT
BEGIN:VEVENT
DTSTART;TZID=America/Los_Angeles:20260304T120000
DTEND;TZID=America/Los_Angeles:20260304T130000
DTSTAMP:20260418T222345
CREATED:20250923T070000Z
LAST-MODIFIED:20251001T224502Z
UID:10000278-1772625600-1772629200@events.ucsc.edu
SUMMARY:Engineering Teaching Community (Faculty)
DESCRIPTION:During the chaos of a quarter\, is it hard to find time to reflect and improve as an instructor? Would you like to be a part of an inclusive\, supportive group of engineering instructors who do this in community? ETC is for sharing teaching experiences\, classroom ideas\, research on learning\, and methods that support instructors and students. All are welcome\, and lunch is provided. Please reach out to Jenny Quynn with questions.
URL:https://events.ucsc.edu/event/engineering-teaching-community-faculty/2026-03-04/
LOCATION:Jack Baskin Engineering\, Baskin Engineering 1156 High Street\, Santa Cruz\, CA\, 95064
CATEGORIES:Meetings & Conferences,Training
ATTACH;FMTTYPE=image/jpeg:https://events.ucsc.edu/wp-content/uploads/2025/09/b19cd317e2122064e85e5d3d896b4e3426736249.jpg
GEO:37.000369;-122.0632371
X-APPLE-STRUCTURED-LOCATION;VALUE=URI;X-ADDRESS=Jack Baskin Engineering Baskin Engineering 1156 High Street Santa Cruz CA 95064;X-APPLE-RADIUS=500;X-TITLE=Baskin Engineering 1156 High Street:geo:-122.0632371,37.000369
END:VEVENT
BEGIN:VEVENT
DTSTART;TZID=America/Los_Angeles:20260218T120000
DTEND;TZID=America/Los_Angeles:20260218T130000
DTSTAMP:20260418T222345
CREATED:20250923T070000Z
LAST-MODIFIED:20251001T224502Z
UID:10000277-1771416000-1771419600@events.ucsc.edu
SUMMARY:Engineering Teaching Community (Faculty)
DESCRIPTION:During the chaos of a quarter\, is it hard to find time to reflect and improve as an instructor? Would you like to be a part of an inclusive\, supportive group of engineering instructors who do this in community? ETC is for sharing teaching experiences\, classroom ideas\, research on learning\, and methods that support instructors and students. All are welcome\, and lunch is provided. Please reach out to Jenny Quynn with questions.
URL:https://events.ucsc.edu/event/engineering-teaching-community-faculty/2026-02-18/
LOCATION:Jack Baskin Engineering\, Baskin Engineering 1156 High Street\, Santa Cruz\, CA\, 95064
CATEGORIES:Meetings & Conferences,Training
ATTACH;FMTTYPE=image/jpeg:https://events.ucsc.edu/wp-content/uploads/2025/09/b19cd317e2122064e85e5d3d896b4e3426736249.jpg
GEO:37.000369;-122.0632371
X-APPLE-STRUCTURED-LOCATION;VALUE=URI;X-ADDRESS=Jack Baskin Engineering Baskin Engineering 1156 High Street Santa Cruz CA 95064;X-APPLE-RADIUS=500;X-TITLE=Baskin Engineering 1156 High Street:geo:-122.0632371,37.000369
END:VEVENT
BEGIN:VEVENT
DTSTART;TZID=America/Los_Angeles:20260204T120000
DTEND;TZID=America/Los_Angeles:20260204T130000
DTSTAMP:20260418T222345
CREATED:20250923T070000Z
LAST-MODIFIED:20251001T224502Z
UID:10000276-1770206400-1770210000@events.ucsc.edu
SUMMARY:Engineering Teaching Community (Faculty)
DESCRIPTION:During the chaos of a quarter\, is it hard to find time to reflect and improve as an instructor? Would you like to be a part of an inclusive\, supportive group of engineering instructors who do this in community? ETC is for sharing teaching experiences\, classroom ideas\, research on learning\, and methods that support instructors and students. All are welcome\, and lunch is provided. Please reach out to Jenny Quynn with questions.
URL:https://events.ucsc.edu/event/engineering-teaching-community-faculty/2026-02-04/
LOCATION:Jack Baskin Engineering\, Baskin Engineering 1156 High Street\, Santa Cruz\, CA\, 95064
CATEGORIES:Meetings & Conferences,Training
ATTACH;FMTTYPE=image/jpeg:https://events.ucsc.edu/wp-content/uploads/2025/09/b19cd317e2122064e85e5d3d896b4e3426736249.jpg
GEO:37.000369;-122.0632371
X-APPLE-STRUCTURED-LOCATION;VALUE=URI;X-ADDRESS=Jack Baskin Engineering Baskin Engineering 1156 High Street Santa Cruz CA 95064;X-APPLE-RADIUS=500;X-TITLE=Baskin Engineering 1156 High Street:geo:-122.0632371,37.000369
END:VEVENT
BEGIN:VEVENT
DTSTART;TZID=America/Los_Angeles:20260121T120000
DTEND;TZID=America/Los_Angeles:20260121T130000
DTSTAMP:20260418T222345
CREATED:20250923T070000Z
LAST-MODIFIED:20251001T224502Z
UID:10000275-1768996800-1769000400@events.ucsc.edu
SUMMARY:Engineering Teaching Community (Faculty)
DESCRIPTION:During the chaos of a quarter\, is it hard to find time to reflect and improve as an instructor? Would you like to be a part of an inclusive\, supportive group of engineering instructors who do this in community? ETC is for sharing teaching experiences\, classroom ideas\, research on learning\, and methods that support instructors and students. All are welcome\, and lunch is provided. Please reach out to Jenny Quynn with questions.
URL:https://events.ucsc.edu/event/engineering-teaching-community-faculty/2026-01-21/
LOCATION:Jack Baskin Engineering\, Baskin Engineering 1156 High Street\, Santa Cruz\, CA\, 95064
CATEGORIES:Meetings & Conferences,Training
ATTACH;FMTTYPE=image/jpeg:https://events.ucsc.edu/wp-content/uploads/2025/09/b19cd317e2122064e85e5d3d896b4e3426736249.jpg
GEO:37.000369;-122.0632371
X-APPLE-STRUCTURED-LOCATION;VALUE=URI;X-ADDRESS=Jack Baskin Engineering Baskin Engineering 1156 High Street Santa Cruz CA 95064;X-APPLE-RADIUS=500;X-TITLE=Baskin Engineering 1156 High Street:geo:-122.0632371,37.000369
END:VEVENT
BEGIN:VEVENT
DTSTART;TZID=America/Los_Angeles:20260107T120000
DTEND;TZID=America/Los_Angeles:20260107T130000
DTSTAMP:20260418T222345
CREATED:20250923T070000Z
LAST-MODIFIED:20251001T224502Z
UID:10000274-1767787200-1767790800@events.ucsc.edu
SUMMARY:Engineering Teaching Community (Faculty)
DESCRIPTION:During the chaos of a quarter\, is it hard to find time to reflect and improve as an instructor? Would you like to be a part of an inclusive\, supportive group of engineering instructors who do this in community? ETC is for sharing teaching experiences\, classroom ideas\, research on learning\, and methods that support instructors and students. All are welcome\, and lunch is provided. Please reach out to Jenny Quynn with questions.
URL:https://events.ucsc.edu/event/engineering-teaching-community-faculty/2026-01-07/
LOCATION:Jack Baskin Engineering\, Baskin Engineering 1156 High Street\, Santa Cruz\, CA\, 95064
CATEGORIES:Meetings & Conferences,Training
ATTACH;FMTTYPE=image/jpeg:https://events.ucsc.edu/wp-content/uploads/2025/09/b19cd317e2122064e85e5d3d896b4e3426736249.jpg
GEO:37.000369;-122.0632371
X-APPLE-STRUCTURED-LOCATION;VALUE=URI;X-ADDRESS=Jack Baskin Engineering Baskin Engineering 1156 High Street Santa Cruz CA 95064;X-APPLE-RADIUS=500;X-TITLE=Baskin Engineering 1156 High Street:geo:-122.0632371,37.000369
END:VEVENT
BEGIN:VEVENT
DTSTART;TZID=America/Los_Angeles:20251224T120000
DTEND;TZID=America/Los_Angeles:20251224T130000
DTSTAMP:20260418T222345
CREATED:20250923T070000Z
LAST-MODIFIED:20251001T224502Z
UID:10000273-1766577600-1766581200@events.ucsc.edu
SUMMARY:Engineering Teaching Community (Faculty)
DESCRIPTION:During the chaos of a quarter\, is it hard to find time to reflect and improve as an instructor? Would you like to be a part of an inclusive\, supportive group of engineering instructors who do this in community? ETC is for sharing teaching experiences\, classroom ideas\, research on learning\, and methods that support instructors and students. All are welcome\, and lunch is provided. Please reach out to Jenny Quynn with questions.
URL:https://events.ucsc.edu/event/engineering-teaching-community-faculty/2025-12-24/
LOCATION:Jack Baskin Engineering\, Baskin Engineering 1156 High Street\, Santa Cruz\, CA\, 95064
CATEGORIES:Meetings & Conferences,Training
ATTACH;FMTTYPE=image/jpeg:https://events.ucsc.edu/wp-content/uploads/2025/09/b19cd317e2122064e85e5d3d896b4e3426736249.jpg
GEO:37.000369;-122.0632371
X-APPLE-STRUCTURED-LOCATION;VALUE=URI;X-ADDRESS=Jack Baskin Engineering Baskin Engineering 1156 High Street Santa Cruz CA 95064;X-APPLE-RADIUS=500;X-TITLE=Baskin Engineering 1156 High Street:geo:-122.0632371,37.000369
END:VEVENT
BEGIN:VEVENT
DTSTART;TZID=America/Los_Angeles:20251210T120000
DTEND;TZID=America/Los_Angeles:20251210T130000
DTSTAMP:20260418T222345
CREATED:20250923T070000Z
LAST-MODIFIED:20251001T224502Z
UID:10000272-1765368000-1765371600@events.ucsc.edu
SUMMARY:Engineering Teaching Community (Faculty)
DESCRIPTION:During the chaos of a quarter\, is it hard to find time to reflect and improve as an instructor? Would you like to be a part of an inclusive\, supportive group of engineering instructors who do this in community? ETC is for sharing teaching experiences\, classroom ideas\, research on learning\, and methods that support instructors and students. All are welcome\, and lunch is provided. Please reach out to Jenny Quynn with questions.
URL:https://events.ucsc.edu/event/engineering-teaching-community-faculty/2025-12-10/
LOCATION:Jack Baskin Engineering\, Baskin Engineering 1156 High Street\, Santa Cruz\, CA\, 95064
CATEGORIES:Meetings & Conferences,Training
ATTACH;FMTTYPE=image/jpeg:https://events.ucsc.edu/wp-content/uploads/2025/09/b19cd317e2122064e85e5d3d896b4e3426736249.jpg
GEO:37.000369;-122.0632371
X-APPLE-STRUCTURED-LOCATION;VALUE=URI;X-ADDRESS=Jack Baskin Engineering Baskin Engineering 1156 High Street Santa Cruz CA 95064;X-APPLE-RADIUS=500;X-TITLE=Baskin Engineering 1156 High Street:geo:-122.0632371,37.000369
END:VEVENT
BEGIN:VEVENT
DTSTART;TZID=America/Los_Angeles:20251126T120000
DTEND;TZID=America/Los_Angeles:20251126T130000
DTSTAMP:20260418T222345
CREATED:20250923T070000Z
LAST-MODIFIED:20251001T224502Z
UID:10000271-1764158400-1764162000@events.ucsc.edu
SUMMARY:Engineering Teaching Community (Faculty)
DESCRIPTION:During the chaos of a quarter\, is it hard to find time to reflect and improve as an instructor? Would you like to be a part of an inclusive\, supportive group of engineering instructors who do this in community? ETC is for sharing teaching experiences\, classroom ideas\, research on learning\, and methods that support instructors and students. All are welcome\, and lunch is provided. Please reach out to Jenny Quynn with questions.
URL:https://events.ucsc.edu/event/engineering-teaching-community-faculty/2025-11-26/
LOCATION:Jack Baskin Engineering\, Baskin Engineering 1156 High Street\, Santa Cruz\, CA\, 95064
CATEGORIES:Meetings & Conferences,Training
ATTACH;FMTTYPE=image/jpeg:https://events.ucsc.edu/wp-content/uploads/2025/09/b19cd317e2122064e85e5d3d896b4e3426736249.jpg
GEO:37.000369;-122.0632371
X-APPLE-STRUCTURED-LOCATION;VALUE=URI;X-ADDRESS=Jack Baskin Engineering Baskin Engineering 1156 High Street Santa Cruz CA 95064;X-APPLE-RADIUS=500;X-TITLE=Baskin Engineering 1156 High Street:geo:-122.0632371,37.000369
END:VEVENT
BEGIN:VEVENT
DTSTART;TZID=America/Los_Angeles:20251112T120000
DTEND;TZID=America/Los_Angeles:20251112T130000
DTSTAMP:20260418T222345
CREATED:20250923T070000Z
LAST-MODIFIED:20251001T224502Z
UID:10000270-1762948800-1762952400@events.ucsc.edu
SUMMARY:Engineering Teaching Community (Faculty)
DESCRIPTION:During the chaos of a quarter\, is it hard to find time to reflect and improve as an instructor? Would you like to be a part of an inclusive\, supportive group of engineering instructors who do this in community? ETC is for sharing teaching experiences\, classroom ideas\, research on learning\, and methods that support instructors and students. All are welcome\, and lunch is provided. Please reach out to Jenny Quynn with questions.
URL:https://events.ucsc.edu/event/engineering-teaching-community-faculty/2025-11-12/
LOCATION:Jack Baskin Engineering\, Baskin Engineering 1156 High Street\, Santa Cruz\, CA\, 95064
CATEGORIES:Meetings & Conferences,Training
ATTACH;FMTTYPE=image/jpeg:https://events.ucsc.edu/wp-content/uploads/2025/09/b19cd317e2122064e85e5d3d896b4e3426736249.jpg
GEO:37.000369;-122.0632371
X-APPLE-STRUCTURED-LOCATION;VALUE=URI;X-ADDRESS=Jack Baskin Engineering Baskin Engineering 1156 High Street Santa Cruz CA 95064;X-APPLE-RADIUS=500;X-TITLE=Baskin Engineering 1156 High Street:geo:-122.0632371,37.000369
END:VEVENT
BEGIN:VEVENT
DTSTART;TZID=America/Los_Angeles:20251029T120000
DTEND;TZID=America/Los_Angeles:20251029T130000
DTSTAMP:20260418T222345
CREATED:20250923T070000Z
LAST-MODIFIED:20251001T224502Z
UID:10000269-1761739200-1761742800@events.ucsc.edu
SUMMARY:Engineering Teaching Community (Faculty)
DESCRIPTION:During the chaos of a quarter\, is it hard to find time to reflect and improve as an instructor? Would you like to be a part of an inclusive\, supportive group of engineering instructors who do this in community? ETC is for sharing teaching experiences\, classroom ideas\, research on learning\, and methods that support instructors and students. All are welcome\, and lunch is provided. Please reach out to Jenny Quynn with questions.
URL:https://events.ucsc.edu/event/engineering-teaching-community-faculty/2025-10-29/
LOCATION:Jack Baskin Engineering\, Baskin Engineering 1156 High Street\, Santa Cruz\, CA\, 95064
CATEGORIES:Meetings & Conferences,Training
ATTACH;FMTTYPE=image/jpeg:https://events.ucsc.edu/wp-content/uploads/2025/09/b19cd317e2122064e85e5d3d896b4e3426736249.jpg
GEO:37.000369;-122.0632371
X-APPLE-STRUCTURED-LOCATION;VALUE=URI;X-ADDRESS=Jack Baskin Engineering Baskin Engineering 1156 High Street Santa Cruz CA 95064;X-APPLE-RADIUS=500;X-TITLE=Baskin Engineering 1156 High Street:geo:-122.0632371,37.000369
END:VEVENT
BEGIN:VEVENT
DTSTART;TZID=America/Los_Angeles:20251015T120000
DTEND;TZID=America/Los_Angeles:20251015T130000
DTSTAMP:20260418T222345
CREATED:20250923T070000Z
LAST-MODIFIED:20251001T224502Z
UID:10000268-1760529600-1760533200@events.ucsc.edu
SUMMARY:Engineering Teaching Community (Faculty)
DESCRIPTION:During the chaos of a quarter\, is it hard to find time to reflect and improve as an instructor? Would you like to be a part of an inclusive\, supportive group of engineering instructors who do this in community? ETC is for sharing teaching experiences\, classroom ideas\, research on learning\, and methods that support instructors and students. All are welcome\, and lunch is provided. Please reach out to Jenny Quynn with questions.
URL:https://events.ucsc.edu/event/engineering-teaching-community-faculty/2025-10-15/
LOCATION:Jack Baskin Engineering\, Baskin Engineering 1156 High Street\, Santa Cruz\, CA\, 95064
CATEGORIES:Meetings & Conferences,Training
ATTACH;FMTTYPE=image/jpeg:https://events.ucsc.edu/wp-content/uploads/2025/09/b19cd317e2122064e85e5d3d896b4e3426736249.jpg
GEO:37.000369;-122.0632371
X-APPLE-STRUCTURED-LOCATION;VALUE=URI;X-ADDRESS=Jack Baskin Engineering Baskin Engineering 1156 High Street Santa Cruz CA 95064;X-APPLE-RADIUS=500;X-TITLE=Baskin Engineering 1156 High Street:geo:-122.0632371,37.000369
END:VEVENT
BEGIN:VEVENT
DTSTART;TZID=America/Los_Angeles:20251001T120000
DTEND;TZID=America/Los_Angeles:20251001T130000
DTSTAMP:20260418T222345
CREATED:20250923T070000Z
LAST-MODIFIED:20251001T224502Z
UID:10000218-1759320000-1759323600@events.ucsc.edu
SUMMARY:Engineering Teaching Community (Faculty)
DESCRIPTION:During the chaos of a quarter\, is it hard to find time to reflect and improve as an instructor? Would you like to be a part of an inclusive\, supportive group of engineering instructors who do this in community? ETC is for sharing teaching experiences\, classroom ideas\, research on learning\, and methods that support instructors and students. All are welcome\, and lunch is provided. Please reach out to Jenny Quynn with questions.
URL:https://events.ucsc.edu/event/engineering-teaching-community-faculty/2025-10-01/
LOCATION:Jack Baskin Engineering\, Baskin Engineering 1156 High Street\, Santa Cruz\, CA\, 95064
CATEGORIES:Meetings & Conferences,Training
ATTACH;FMTTYPE=image/jpeg:https://events.ucsc.edu/wp-content/uploads/2025/09/b19cd317e2122064e85e5d3d896b4e3426736249.jpg
GEO:37.000369;-122.0632371
X-APPLE-STRUCTURED-LOCATION;VALUE=URI;X-ADDRESS=Jack Baskin Engineering Baskin Engineering 1156 High Street Santa Cruz CA 95064;X-APPLE-RADIUS=500;X-TITLE=Baskin Engineering 1156 High Street:geo:-122.0632371,37.000369
END:VEVENT
END:VCALENDAR