BEGIN:VCALENDAR
VERSION:2.0
PRODID:-//Events - ECPv6.15.20//NONSGML v1.0//EN
CALSCALE:GREGORIAN
METHOD:PUBLISH
X-ORIGINAL-URL:https://events.ucsc.edu
X-WR-CALDESC:Events for Events
REFRESH-INTERVAL;VALUE=DURATION:PT1H
X-Robots-Tag:noindex
X-PUBLISHED-TTL:PT1H
BEGIN:VTIMEZONE
TZID:America/Los_Angeles
BEGIN:DAYLIGHT
TZOFFSETFROM:-0800
TZOFFSETTO:-0700
TZNAME:PDT
DTSTART:20240310T100000
END:DAYLIGHT
BEGIN:STANDARD
TZOFFSETFROM:-0700
TZOFFSETTO:-0800
TZNAME:PST
DTSTART:20241103T090000
END:STANDARD
BEGIN:DAYLIGHT
TZOFFSETFROM:-0800
TZOFFSETTO:-0700
TZNAME:PDT
DTSTART:20250309T100000
END:DAYLIGHT
BEGIN:STANDARD
TZOFFSETFROM:-0700
TZOFFSETTO:-0800
TZNAME:PST
DTSTART:20251102T090000
END:STANDARD
BEGIN:DAYLIGHT
TZOFFSETFROM:-0800
TZOFFSETTO:-0700
TZNAME:PDT
DTSTART:20260308T100000
END:DAYLIGHT
BEGIN:STANDARD
TZOFFSETFROM:-0700
TZOFFSETTO:-0800
TZNAME:PST
DTSTART:20261101T090000
END:STANDARD
END:VTIMEZONE
BEGIN:VEVENT
DTSTART;TZID=America/Los_Angeles:20251014T173000
DTEND;TZID=America/Los_Angeles:20251014T193000
DTSTAMP:20260419T023554
CREATED:20250910T070000Z
LAST-MODIFIED:20251002T202830Z
UID:10000157-1760463000-1760470200@events.ucsc.edu
SUMMARY:Respond\, Don't React: Recognizing and Managing Emotional Triggers
DESCRIPTION:In a world of nonstop change and pressure\, even the most experienced professionals get triggered in ways that throw us off course—hurting performance and straining relationships. In this presentation by the Silicon Valley chapter of the NHRA\, we’ll explore what’s really happening when emotions take over\, why it matters\, and what we can do about it. Through real stories\, group discussion\, and practical tools\, you’ll learn how to spot your own triggers\, make space to respond instead of react\, and better support others in the process. These tools aren’t just for managing stress—they help build trust\, empathy\, and stronger teams. You’ll walk away with simple strategies you can use right away for tough conversations\, conflict\, or just when everything feels like a little too much – both personally and professionally. \nLEARNING OBJECTIVES\n• Spot the signs—learn to recognize how your body and brain react when you’re emotionally triggered. \n• Get curious about cognitive blind spots—where might triggers be getting in the way of how we show up and lead? \n• Build our ability to pause\, regroup\, and respond instead of react. \n• Walk away with simple tools to better support yourself and create more space and trust for others\, too. \nAGENDA \n5:30 PM IN-PERSON NETWORKING (dinner included) \n6:00 PM VIRTUAL SESSION BEGINS \n6:05 PM LEGAL UPDATES \n6:15 PM PROGRAM \n7:15 PM Q&A \nABOUT THE SPEAKER: Jeff Jacobs\nJeff is a recognized leadership development and organizational effectiveness executive who has facilitated and consulted on 500+ engagements over the past 10 years as an employee of top-tier companies like Adobe and Intuit. His diverse experience expands beyond the corporate world to chairing three non-profit boards\, serving as an Assistant Lecturer at Haas School of Business at U.C. Berkeley\, acquiring three certifications in compassionate leadership and mindfulness practices\, including from Stanford Medical School\, and even years of working with maximum-security inmates in California prisons. Jeff is a Contributing Author to the Amazon Best-Seller\, “Leading with Self Awareness\, Starting from the Inside Out\,” and is working on his own first book\, “Still Coming of Age\, Cultivating Compassion for Lifelong Flourishing.” \nThis event is co-sponsored by the UCSC Silicon Valley Professional Education Human Resource Management certificate program.
URL:https://events.ucsc.edu/event/respond-dont-react-recognizing-and-managing-emotional-triggers/
LOCATION:Silicon Valley Campus\, 3175 Bowers Avenue\, Santa Clara\, CA\, 95054\, United States
CATEGORIES:Lectures & Presentations,Meetings & Conferences,Training
ATTACH;FMTTYPE=image/jpeg:https://events.ucsc.edu/wp-content/uploads/2025/09/dae40a03b95581db1dbf12d93097f7a70e6008e0.jpg
GEO:37.3796975;-121.9765484
X-APPLE-STRUCTURED-LOCATION;VALUE=URI;X-ADDRESS=Silicon Valley Campus 3175 Bowers Avenue Santa Clara CA 95054 United States;X-APPLE-RADIUS=500;X-TITLE=3175 Bowers Avenue:geo:-121.9765484,37.3796975
END:VEVENT
BEGIN:VEVENT
DTSTART;TZID=America/Los_Angeles:20251010T073000
DTEND;TZID=America/Los_Angeles:20251010T190000
DTSTAMP:20260419T023554
CREATED:20250819T070000Z
LAST-MODIFIED:20251002T204656Z
UID:10000114-1760081400-1760122800@events.ucsc.edu
SUMMARY:PMI Silicon Valley Symposium
DESCRIPTION:Project managers today are navigating more change than ever—new technologies\, evolving teams\, and rising complexity. To lead effectively\, PMs must blend emotional intelligence with digital fluency\, balancing human connection with AI-driven insights. Join UCSC Silicon Valley partner\, the Project Management Institute Silicon Valley Chapter (PMISV)\, at this year’s symposium as industry leaders explore how modern project managers can adapt\, inspire\, and deliver in a world shaped by innovation and disruption. \nRegistration \n\nPMISV Chapter and PMI members: $99 Early bird: $79\nNon-Chapter and Non-PMI members: $119 Early bird: $99\nContact symposium@pmisv.org for the discount codes for the following:\n\nStudents\nVeterans\nPMISV Chapter active volunteers\n\n\n\nThis event is co-sponsored by the UCSC Silicon Valley Professional Education Project and Program Management certificate program.
URL:https://events.ucsc.edu/event/2025-pmi-silicon-valley-symposium/
LOCATION:Silicon Valley Campus\, 3175 Bowers Avenue\, Santa Clara\, CA\, 95054\, United States
CATEGORIES:Lectures & Presentations,Meetings & Conferences,Training
ATTACH;FMTTYPE=image/jpeg:https://events.ucsc.edu/wp-content/uploads/2025/09/9612c25def45aaf402cca8624e4cf94e41478f49.jpg
GEO:37.3796975;-121.9765484
X-APPLE-STRUCTURED-LOCATION;VALUE=URI;X-ADDRESS=Silicon Valley Campus 3175 Bowers Avenue Santa Clara CA 95054 United States;X-APPLE-RADIUS=500;X-TITLE=3175 Bowers Avenue:geo:-121.9765484,37.3796975
END:VEVENT
BEGIN:VEVENT
DTSTART;TZID=America/Los_Angeles:20251007T143000
DTEND;TZID=America/Los_Angeles:20251007T200000
DTSTAMP:20260419T023554
CREATED:20250909T070000Z
LAST-MODIFIED:20251002T202159Z
UID:10000155-1759847400-1759867200@events.ucsc.edu
SUMMARY:US - India: Normalization or Reset?
DESCRIPTION:The US–India relationship stands at a crossroads balancing strategic pragmatism with shared democratic values. Recent tensions over trade\, tariffs\, and technology have raised questions about whether the partnership is being recalibrated or simply cooling. \nThe 8th annual AIMA US–India Conference examines how the two countries can review their priorities and either restore normalcy or redefine the relationship for a multipolar world. \nJoin thought leaders and decision-makers from across policy\, industry\, and academia where we’ll explore one of the world’s most consequential relationships at a moment of reassessment. As the global landscape shifts and new alliances emerge\, the conference examines how the US and India can navigate economic and strategic tensions while sustaining long-term cooperation. Key sessions will address AI governance\, global conflict dynamics\, and advances in human health and biotechnology. \nAgenda \n\n2:30 pm – Registration\n3–3:55 p.m. – Inaugural Session: US India: Normalisation or Reset?\nThis opening session explores recent shifts in US–India ties and the roots of friction. With global alliances in flux\, the discussion focuses on how leaders might reframe priorities\, manage divergence\, and steer the relationship toward strategic coherence.\n4–4:45 p.m. – Panel 1: The Great AI Race: Who Sets the Rules?\nAI is rapidly transforming global power dynamics. This session delves into the emerging competition over AI standards\, access to critical technologies\, and regulatory influence. Can the world agree on common frameworks before divides become entrenched?\n4:50–5:45 p.m. – Panel 2: War Games and Peace Plans: Geopolitics of a World on Edge\nIn an increasingly polarised world\, nations are turning to pressure and deterrence over diplomacy. This discussion looks at the fragility of global order\, the risks of escalating conflict\, and the role India and the US can play in rebalancing global cooperation.\n5:50 – 6:35 p.m. – Panel 3: Biohacking Human Health\nAs scientific understanding of genetics and immunology grows\, so does the possibility of extending not just life span but health span. The panel examines how AI\, genomics\, and metabolic science are converging to personalise and revolutionise human wellbeing.\n6:35 p.m. – Networking Reception\nAn opportunity for speakers and attendees to connect informally and continue the conversation.\n\nWho should attend \nThe conference will bring together policymakers\, business leaders\, entrepreneurs\, academics\, investors\, and senior professionals to explore new strategies for US–India cooperation in a fast-changing global landscape. \nRegistration \n\nPre-registration is mandatory\nSeats are limited and available on a first-come\, first-served basis
URL:https://events.ucsc.edu/event/8th-us-india-conference-us-india-normalization-or-reset/
LOCATION:Silicon Valley Campus\, 3175 Bowers Avenue\, Santa Clara\, CA\, 95054\, United States
CATEGORIES:Lectures & Presentations,Meetings & Conferences
ATTACH;FMTTYPE=image/jpeg:https://events.ucsc.edu/wp-content/uploads/2025/09/829bffa2ca19996d944d432ca8881d416a23f0c1.jpg
GEO:37.3796975;-121.9765484
X-APPLE-STRUCTURED-LOCATION;VALUE=URI;X-ADDRESS=Silicon Valley Campus 3175 Bowers Avenue Santa Clara CA 95054 United States;X-APPLE-RADIUS=500;X-TITLE=3175 Bowers Avenue:geo:-121.9765484,37.3796975
END:VEVENT
BEGIN:VEVENT
DTSTART;TZID=America/Los_Angeles:20250916T180000
DTEND;TZID=America/Los_Angeles:20250916T180000
DTSTAMP:20260419T023554
CREATED:20250924T211917Z
LAST-MODIFIED:20250924T211917Z
UID:10000022-1758045600-1758045600@events.ucsc.edu
SUMMARY:Insights from AI & Semiconductor Leaders
DESCRIPTION:Join us for two dynamic online panels with industry professionals from top Silicon Valley companies like Google\, Meta\, Amazon\, Cerebras\, and Altera. You’ll hear firsthand from leaders shaping the future of AI and semiconductor innovation\, with dedicated discussions on each field.  \nSchedule:\n6:00–7:00 PM – Semiconductor Panel\n7:00–8:00 PM – AI Panel \nNo matter where you are in your career journey\, this is your chance to dive into cutting-edge tech and gain tools to thrive in the future of work.
URL:https://events.ucsc.edu/event/insights-from-ai-semiconductor-leaders/
CATEGORIES:Lectures & Presentations,Meetings & Conferences,Training
END:VEVENT
BEGIN:VEVENT
DTSTART;TZID=America/Los_Angeles:20250910T080000
DTEND;TZID=America/Los_Angeles:20250910T080000
DTSTAMP:20260419T023554
CREATED:20250905T070000Z
LAST-MODIFIED:20250925T231504Z
UID:10000143-1757491200-1757491200@events.ucsc.edu
SUMMARY:Professional Certificates for International Students
DESCRIPTION:Interested in a professional certificate at UCSC Silicon Valley Extension? \nA professional certificate is a fantastic way to develop your career\, learn from industry experts\, and experience Silicon Valley. We offer numerous exciting programs in technology and business. \nVisit our International site for more information. \nProspective international students \nPlease click here to schedule an online meeting with an advisor. \n\nMondays\, 5-7 p.m. (PT)\nWednesdays\, 8–10 a.m. (PT)\n\nCurrent international students \nAlready studying with us? Please email us: extensioninternational@ucsc.edu to meet with an international advisor in person or online. \nCall: +1 (408) 450-4945 | extensioninternational@ucsc.edu
URL:https://events.ucsc.edu/event/professional-certificates-for-international-students-5081/
CATEGORIES:Meetings & Conferences,Training
ATTACH;FMTTYPE=image/jpeg:https://events.ucsc.edu/wp-content/uploads/2025/09/45a3bbd7f9324113ef24c805ca66c8d05a8315d5.jpg
END:VEVENT
BEGIN:VEVENT
DTSTART;TZID=America/Los_Angeles:20250908T170000
DTEND;TZID=America/Los_Angeles:20250908T170000
DTSTAMP:20260419T023554
CREATED:20250924T212117Z
LAST-MODIFIED:20250924T212117Z
UID:10000064-1757350800-1757350800@events.ucsc.edu
SUMMARY:Silicon Chip Design & Semiconductor Engineering– Free info session
DESCRIPTION:Design the Future of Semiconductors with Arvind Vidyarthi\nCurious about where a career in chip design can take you? Join Program Chair Arvind Vidyarthi for an inside look at our Silicon Chip Design & Semiconductor Engineering certificate—a program built for engineers who want to stay ahead in a rapidly evolving industry. \nWhether you're drawn to Front-End logic and verification or the Back-End world of physical design\, this program offers hands-on training with industry-standard EDA tools and a curriculum shaped by real Silicon Valley demand. Get the skills employers are looking for—and the confidence to step into your next big opportunity. \nHosted by the Silicon Chip Design and Semiconductor Engineering Program at UCSC Silicon Valley Extension.
URL:https://events.ucsc.edu/event/silicon-chip-design-semiconductor-engineering-free-info-session/
CATEGORIES:Lectures & Presentations,Meetings & Conferences,Training
END:VEVENT
END:VCALENDAR