BEGIN:VCALENDAR
VERSION:2.0
PRODID:-//Events - ECPv6.15.20//NONSGML v1.0//EN
CALSCALE:GREGORIAN
METHOD:PUBLISH
X-ORIGINAL-URL:https://events.ucsc.edu
X-WR-CALDESC:Events for Events
REFRESH-INTERVAL;VALUE=DURATION:PT1H
X-Robots-Tag:noindex
X-PUBLISHED-TTL:PT1H
BEGIN:VTIMEZONE
TZID:America/Los_Angeles
BEGIN:DAYLIGHT
TZOFFSETFROM:-0800
TZOFFSETTO:-0700
TZNAME:PDT
DTSTART:20240310T100000
END:DAYLIGHT
BEGIN:STANDARD
TZOFFSETFROM:-0700
TZOFFSETTO:-0800
TZNAME:PST
DTSTART:20241103T090000
END:STANDARD
BEGIN:DAYLIGHT
TZOFFSETFROM:-0800
TZOFFSETTO:-0700
TZNAME:PDT
DTSTART:20250309T100000
END:DAYLIGHT
BEGIN:STANDARD
TZOFFSETFROM:-0700
TZOFFSETTO:-0800
TZNAME:PST
DTSTART:20251102T090000
END:STANDARD
BEGIN:DAYLIGHT
TZOFFSETFROM:-0800
TZOFFSETTO:-0700
TZNAME:PDT
DTSTART:20260308T100000
END:DAYLIGHT
BEGIN:STANDARD
TZOFFSETFROM:-0700
TZOFFSETTO:-0800
TZNAME:PST
DTSTART:20261101T090000
END:STANDARD
END:VTIMEZONE
BEGIN:VEVENT
DTSTART;TZID=America/Los_Angeles:20251113T163000
DTEND;TZID=America/Los_Angeles:20251113T190000
DTSTAMP:20260418T224016
CREATED:20251017T180809Z
LAST-MODIFIED:20251017T180809Z
UID:10004908-1763051400-1763060400@events.ucsc.edu
SUMMARY:Leveraging UC Resources To Launch Your Biotech Company
DESCRIPTION:Are you a UCSC faculty member\, postdoc\, or graduate student with an entrepreneurial mindset? \nJoin us for an insightful panel discussion on how to turn your biotech research into a successful startup. Learn how to tap into the University of California’s robust innovation ecosystem—from research commercialization and funding opportunities to mentorship and startup incubation. \nHear firsthand from UC-affiliated founders\, investors\, and innovation experts who have successfully navigated the path from lab discovery to market launch. Stay afterward for a networking reception to connect with peers\, panelists\, and campus innovation partners. \nOpen to: UCSC faculty\, postdocs\, and graduate studentsLight refreshments provided. \nRegistration requested: https://luma.com/2gmhjlbo
URL:https://events.ucsc.edu/event/uc-resources-to-launch-your-biotech-company/
LOCATION:Hay Barn\, 94 Ranch View Road\, Santa Cruz\, CA\, 95064\, United States
CATEGORIES:Meetings & Conferences
ATTACH;FMTTYPE=image/avif:https://events.ucsc.edu/wp-content/uploads/2025/10/62ed8ba9-33b9-404a-9a18-593d49553502.avif
GEO:36.9817736;-122.0569624
X-APPLE-STRUCTURED-LOCATION;VALUE=URI;X-ADDRESS=Hay Barn 94 Ranch View Road Santa Cruz CA 95064 United States;X-APPLE-RADIUS=500;X-TITLE=94 Ranch View Road:geo:-122.0569624,36.9817736
END:VEVENT
END:VCALENDAR