BEGIN:VCALENDAR
VERSION:2.0
PRODID:-//Events - ECPv6.15.20//NONSGML v1.0//EN
CALSCALE:GREGORIAN
METHOD:PUBLISH
X-ORIGINAL-URL:https://events.ucsc.edu
X-WR-CALDESC:Events for Events
REFRESH-INTERVAL;VALUE=DURATION:PT1H
X-Robots-Tag:noindex
X-PUBLISHED-TTL:PT1H
BEGIN:VTIMEZONE
TZID:America/Los_Angeles
BEGIN:DAYLIGHT
TZOFFSETFROM:-0800
TZOFFSETTO:-0700
TZNAME:PDT
DTSTART:20240310T100000
END:DAYLIGHT
BEGIN:STANDARD
TZOFFSETFROM:-0700
TZOFFSETTO:-0800
TZNAME:PST
DTSTART:20241103T090000
END:STANDARD
BEGIN:DAYLIGHT
TZOFFSETFROM:-0800
TZOFFSETTO:-0700
TZNAME:PDT
DTSTART:20250309T100000
END:DAYLIGHT
BEGIN:STANDARD
TZOFFSETFROM:-0700
TZOFFSETTO:-0800
TZNAME:PST
DTSTART:20251102T090000
END:STANDARD
BEGIN:DAYLIGHT
TZOFFSETFROM:-0800
TZOFFSETTO:-0700
TZNAME:PDT
DTSTART:20260308T100000
END:DAYLIGHT
BEGIN:STANDARD
TZOFFSETFROM:-0700
TZOFFSETTO:-0800
TZNAME:PST
DTSTART:20261101T090000
END:STANDARD
BEGIN:DAYLIGHT
TZOFFSETFROM:-0800
TZOFFSETTO:-0700
TZNAME:PDT
DTSTART:20270314T100000
END:DAYLIGHT
BEGIN:STANDARD
TZOFFSETFROM:-0700
TZOFFSETTO:-0800
TZNAME:PST
DTSTART:20271107T090000
END:STANDARD
END:VTIMEZONE
BEGIN:VEVENT
DTSTART;TZID=America/Los_Angeles:20260315T000000
DTEND;TZID=America/Los_Angeles:20260315T235959
DTSTAMP:20260422T205803
CREATED:20251118T004258Z
LAST-MODIFIED:20251118T004433Z
UID:10005173-1773532800-1773619199@events.ucsc.edu
SUMMARY:Summer Live in the Schedule of Classes
DESCRIPTION:The Summer Session Schedule of Classes goes live today. Explore course descriptions\, prerequisites\, and meeting times to start planning early for summer enrollment. Email summer@ucsc.edu with questions or call 831-459-5373.
URL:https://events.ucsc.edu/event/summer-live-in-the-schedule-of-classes/2026-03-15/
ATTACH;FMTTYPE=image/png:https://events.ucsc.edu/wp-content/uploads/2025/11/Events-Calendar-Enrollment-Open-1-1.png
END:VEVENT
BEGIN:VEVENT
DTSTART;TZID=America/Los_Angeles:20250401T080000
DTEND;TZID=America/Los_Angeles:20250401T080000
DTSTAMP:20260422T205803
CREATED:20250212T080000Z
LAST-MODIFIED:20250925T231310Z
UID:10000010-1743494400-1743494400@events.ucsc.edu
SUMMARY:Visiting Summer-Only Student Registration Open
DESCRIPTION:Anyone can take classes at UC Santa Cruz during Summer Session! Visiting students—including those from other colleges\, universities\, or the community—must register before enrolling. \nRegistration is now open through July. Once registered\, you can enroll in online or in-person courses\, earning UC credits that transfer to your home institution. Explore hundreds of summer courses and start planning today! Got questions? We're here to help—email us at summer@ucsc.edu.
URL:https://events.ucsc.edu/event/visiting-summer-only-student-registration-open/
CATEGORIES:Lectures & Presentations
END:VEVENT
END:VCALENDAR