BEGIN:VCALENDAR
VERSION:2.0
PRODID:-//Events - ECPv6.15.20//NONSGML v1.0//EN
CALSCALE:GREGORIAN
METHOD:PUBLISH
X-WR-CALNAME:Events
X-ORIGINAL-URL:https://events.ucsc.edu
X-WR-CALDESC:Events for Events
REFRESH-INTERVAL;VALUE=DURATION:PT1H
X-Robots-Tag:noindex
X-PUBLISHED-TTL:PT1H
BEGIN:VTIMEZONE
TZID:America/Los_Angeles
BEGIN:DAYLIGHT
TZOFFSETFROM:-0800
TZOFFSETTO:-0700
TZNAME:PDT
DTSTART:20240310T100000
END:DAYLIGHT
BEGIN:STANDARD
TZOFFSETFROM:-0700
TZOFFSETTO:-0800
TZNAME:PST
DTSTART:20241103T090000
END:STANDARD
BEGIN:DAYLIGHT
TZOFFSETFROM:-0800
TZOFFSETTO:-0700
TZNAME:PDT
DTSTART:20250309T100000
END:DAYLIGHT
BEGIN:STANDARD
TZOFFSETFROM:-0700
TZOFFSETTO:-0800
TZNAME:PST
DTSTART:20251102T090000
END:STANDARD
BEGIN:DAYLIGHT
TZOFFSETFROM:-0800
TZOFFSETTO:-0700
TZNAME:PDT
DTSTART:20260308T100000
END:DAYLIGHT
BEGIN:STANDARD
TZOFFSETFROM:-0700
TZOFFSETTO:-0800
TZNAME:PST
DTSTART:20261101T090000
END:STANDARD
BEGIN:DAYLIGHT
TZOFFSETFROM:-0800
TZOFFSETTO:-0700
TZNAME:PDT
DTSTART:20270314T100000
END:DAYLIGHT
BEGIN:STANDARD
TZOFFSETFROM:-0700
TZOFFSETTO:-0800
TZNAME:PST
DTSTART:20271107T090000
END:STANDARD
END:VTIMEZONE
BEGIN:VEVENT
DTSTART;TZID=America/Los_Angeles:20260408T140000
DTEND;TZID=America/Los_Angeles:20260408T160000
DTSTAMP:20260425T071103
CREATED:20260325T202453Z
LAST-MODIFIED:20260325T202453Z
UID:10011768-1775656800-1775664000@events.ucsc.edu
SUMMARY:Global Cafe: Spring 2026
DESCRIPTION:International Student Services & Programming invites you to our monthly Global Cafe\, a space for all international-minded community members to connect. Swing by for some refreshments and an opportunity to meet other international students and scholars\, as well as Global Engagement staff. Feel free to drop in at any time between 14:00 – 16:00 and stay for as long as you’d like. \nOur spring Global Cafe dates: \n\nWednesday\, April 8\nWednesday\, May 6\nWednesday\, June 3
URL:https://events.ucsc.edu/event/global-cafe-spring-2026/2026-04-08/
LOCATION:Classroom Unit\, Classroom Unit\, Santa Cruz\, CA\, 95064\, Select a Country:
CATEGORIES:Drop-In Support
ATTACH;FMTTYPE=image/png:https://events.ucsc.edu/wp-content/uploads/2026/03/Spring-2026-Programming.png
GEO:36.9979122;-122.0568677
X-APPLE-STRUCTURED-LOCATION;VALUE=URI;X-ADDRESS=Classroom Unit Classroom Unit Santa Cruz CA 95064 Select a Country:;X-APPLE-RADIUS=500;X-TITLE=Classroom Unit:geo:-122.0568677,36.9979122
END:VEVENT
BEGIN:VEVENT
DTSTART;TZID=America/Los_Angeles:20260311T140000
DTEND;TZID=America/Los_Angeles:20260311T160000
DTSTAMP:20260425T071103
CREATED:20260105T210327Z
LAST-MODIFIED:20260105T210327Z
UID:10008180-1773237600-1773244800@events.ucsc.edu
SUMMARY:Global Cafe (Winter 2026)
DESCRIPTION:International Student Services & Programming invites you to our monthly Global Cafe\, a space for all international-minded community members to connect. Swing by for some refreshments and an opportunity to meet other international students and scholars\, as well as Global Engagement staff. Feel free to drop in at any time and stay for as long as you’d like. \nOur winter Global Cafe dates: \n\nWednesday\, January 14\nWednesday\, February 11\nWednesday\, March 11
URL:https://events.ucsc.edu/event/global-cafe-winter-2026/2026-03-11/
LOCATION:Classroom Unit\, Classroom Unit\, Santa Cruz\, CA\, 95064\, Select a Country:
CATEGORIES:Drop-In Support,Meetings & Conferences
ATTACH;FMTTYPE=image/png:https://events.ucsc.edu/wp-content/uploads/2026/01/Screenshot-2026-01-05-at-10.12.39.png
GEO:36.9979122;-122.0568677
X-APPLE-STRUCTURED-LOCATION;VALUE=URI;X-ADDRESS=Classroom Unit Classroom Unit Santa Cruz CA 95064 Select a Country:;X-APPLE-RADIUS=500;X-TITLE=Classroom Unit:geo:-122.0568677,36.9979122
END:VEVENT
BEGIN:VEVENT
DTSTART;TZID=America/Los_Angeles:20260211T140000
DTEND;TZID=America/Los_Angeles:20260211T160000
DTSTAMP:20260425T071103
CREATED:20260105T210327Z
LAST-MODIFIED:20260105T210327Z
UID:10008179-1770818400-1770825600@events.ucsc.edu
SUMMARY:Global Cafe (Winter 2026)
DESCRIPTION:International Student Services & Programming invites you to our monthly Global Cafe\, a space for all international-minded community members to connect. Swing by for some refreshments and an opportunity to meet other international students and scholars\, as well as Global Engagement staff. Feel free to drop in at any time and stay for as long as you’d like. \nOur winter Global Cafe dates: \n\nWednesday\, January 14\nWednesday\, February 11\nWednesday\, March 11
URL:https://events.ucsc.edu/event/global-cafe-winter-2026/2026-02-11/
LOCATION:Classroom Unit\, Classroom Unit\, Santa Cruz\, CA\, 95064\, Select a Country:
CATEGORIES:Drop-In Support,Meetings & Conferences
ATTACH;FMTTYPE=image/png:https://events.ucsc.edu/wp-content/uploads/2026/01/Screenshot-2026-01-05-at-10.12.39.png
GEO:36.9979122;-122.0568677
X-APPLE-STRUCTURED-LOCATION;VALUE=URI;X-ADDRESS=Classroom Unit Classroom Unit Santa Cruz CA 95064 Select a Country:;X-APPLE-RADIUS=500;X-TITLE=Classroom Unit:geo:-122.0568677,36.9979122
END:VEVENT
BEGIN:VEVENT
DTSTART;TZID=America/Los_Angeles:20260129T153000
DTEND;TZID=America/Los_Angeles:20260129T163000
DTSTAMP:20260425T071103
CREATED:20260128T170159Z
LAST-MODIFIED:20260128T170159Z
UID:10009123-1769700600-1769704200@events.ucsc.edu
SUMMARY:UC Center Sacramento Information Session
DESCRIPTION:A representative from the UC Center Sacramento (UCCS) program will be at UCSC to host a UCCS overview information session. If you are interested in learning more about this impactful experiential learning opportunity\, we encourage you to join! \n\nLocation: Classroom Unit Bldg.\, Conference Room 101\nDate: Thursday\, January 29\, 2026\nTime: 3:30 – 4:30 p.m.\n\nProgram Quick Facts:\n– Location: Sacramento\, California \n– Courses: UCCS students take a full term’s worth of courses in addition to their internships. Earn 16 units in the fall\, winter\, or spring program; or\, 14 units in the summer program. \n– Dates & Deadlines \n– Eligibility:  \n\nMust be a current\, UC degree-seeking undergraduate student in good academic standing\nJunior or Senior standing. Sophomores with a B or better in upper-division courses (at least two in any subject) may apply.\nTransfer students with 1 completed quarter at their UC campus are eligible to apply.\nInternational students and DACA/AB540/Undocumented students are eligible to apply\n3.0 GPA or above.\n\n– Finances: Financial aid applies\, and scholarships are available! Budget with program fees and expenses are posted on the website. \n– How to apply: Visit here. \n– Get in touch: Email your questions to globallearning@ucsc.edu \nProgram Description:\nUC Center Sacramento is the University of California’s premier teaching\, research\, and public-service site located one block from the State Capitol Building in Sacramento\, California. Operated by UC Davis\, UCCS offers a distinctive academic internship program in public policy\, combining academics\, research\, and public service. The program allows students to engage with public policy and policymaking at all levels of government\, in a diverse number of fields. It is an unparalleled opportunity for students to expand their professional network with University of California peers as well as a range of professionals in a variety of industries!
URL:https://events.ucsc.edu/event/uc-center-sacramento-information-session/
LOCATION:Classroom Unit\, Classroom Unit\, Santa Cruz\, CA\, 95064\, Select a Country:
ATTACH;FMTTYPE=image/png:https://events.ucsc.edu/wp-content/uploads/2026/01/Events_Template_UCCS.png
GEO:36.9979122;-122.0568677
X-APPLE-STRUCTURED-LOCATION;VALUE=URI;X-ADDRESS=Classroom Unit Classroom Unit Santa Cruz CA 95064 Select a Country:;X-APPLE-RADIUS=500;X-TITLE=Classroom Unit:geo:-122.0568677,36.9979122
END:VEVENT
BEGIN:VEVENT
DTSTART;TZID=America/Los_Angeles:20260128T133000
DTEND;TZID=America/Los_Angeles:20260128T150000
DTSTAMP:20260425T071103
CREATED:20260105T230556Z
LAST-MODIFIED:20260105T230556Z
UID:10008282-1769607000-1769612400@events.ucsc.edu
SUMMARY:International Market Fair
DESCRIPTION:Are you feeling cold and missing a piece of nostalgia from your global learning experience? International Student Services and Programming (ISSP) is excited to invite you to drop by our International Market Fair on Wednesday\, January 28 from 13:30 – 15:00 at our office in Classroom Unit 101 (same floor as Global Learning). No RSVP required.\n\nWe’ll be handing out free giveaways of international snacks including:\n\n\nChili snacks from China\nIndomie instant noodles from Indonesia\nKinder chocolate from Italy\nPocky from Japan\nSoybean and Sesame bars from Korea\n…and more!\n\nOur staff will be hosting mini international themed activities for you to earn these prizes. We hope to see you there!
URL:https://events.ucsc.edu/event/international-market-fair/
LOCATION:Classroom Unit\, Classroom Unit\, Santa Cruz\, CA\, 95064\, Select a Country:
CATEGORIES:Drop-In Support,Social Gathering
ATTACH;FMTTYPE=image/png:https://events.ucsc.edu/wp-content/uploads/2026/01/Screenshot-2026-01-05-at-10.13.05.png
GEO:36.9979122;-122.0568677
X-APPLE-STRUCTURED-LOCATION;VALUE=URI;X-ADDRESS=Classroom Unit Classroom Unit Santa Cruz CA 95064 Select a Country:;X-APPLE-RADIUS=500;X-TITLE=Classroom Unit:geo:-122.0568677,36.9979122
END:VEVENT
BEGIN:VEVENT
DTSTART;TZID=America/Los_Angeles:20260114T140000
DTEND;TZID=America/Los_Angeles:20260114T160000
DTSTAMP:20260425T071103
CREATED:20260105T210327Z
LAST-MODIFIED:20260105T210327Z
UID:10008178-1768399200-1768406400@events.ucsc.edu
SUMMARY:Global Cafe (Winter 2026)
DESCRIPTION:International Student Services & Programming invites you to our monthly Global Cafe\, a space for all international-minded community members to connect. Swing by for some refreshments and an opportunity to meet other international students and scholars\, as well as Global Engagement staff. Feel free to drop in at any time and stay for as long as you’d like. \nOur winter Global Cafe dates: \n\nWednesday\, January 14\nWednesday\, February 11\nWednesday\, March 11
URL:https://events.ucsc.edu/event/global-cafe-winter-2026/2026-01-14/
LOCATION:Classroom Unit\, Classroom Unit\, Santa Cruz\, CA\, 95064\, Select a Country:
CATEGORIES:Drop-In Support,Meetings & Conferences
ATTACH;FMTTYPE=image/png:https://events.ucsc.edu/wp-content/uploads/2026/01/Screenshot-2026-01-05-at-10.12.39.png
GEO:36.9979122;-122.0568677
X-APPLE-STRUCTURED-LOCATION;VALUE=URI;X-ADDRESS=Classroom Unit Classroom Unit Santa Cruz CA 95064 Select a Country:;X-APPLE-RADIUS=500;X-TITLE=Classroom Unit:geo:-122.0568677,36.9979122
END:VEVENT
BEGIN:VEVENT
DTSTART;TZID=America/Los_Angeles:20251118T100000
DTEND;TZID=America/Los_Angeles:20251118T110000
DTSTAMP:20260425T071103
CREATED:20251113T004803Z
LAST-MODIFIED:20251113T004803Z
UID:10005143-1763460000-1763463600@events.ucsc.edu
SUMMARY:Going Global at UCSC
DESCRIPTION:Come and learn about how to experience the world through enriching UCSC Global Learning programs. You have many options to engage in domestic and study abroad opportunities that can expand your understanding of new cultures\, academic perspectives\, languages\, and global communities. \nUCSC programs can offer the opportunity to fulfill degree requirements (major\, minor\, GE\, and total units)\, participate in research or internships related to your major/minor\, and financial aid is available. Highlights can include affordable living\, unforgettable adventures\, and the chance to make lifelong connections. Now is the time to begin planning your journey!
URL:https://events.ucsc.edu/event/going-global-at-ucsc/
LOCATION:Classroom Unit\, Classroom Unit\, Santa Cruz\, CA\, 95064\, Select a Country:
CATEGORIES:Meetings & Conferences
ATTACH;FMTTYPE=image/png:https://events.ucsc.edu/wp-content/uploads/2025/11/2025-NEW-IEW-Events-Calendar-Graphics-4.png
GEO:36.9979122;-122.0568677
X-APPLE-STRUCTURED-LOCATION;VALUE=URI;X-ADDRESS=Classroom Unit Classroom Unit Santa Cruz CA 95064 Select a Country:;X-APPLE-RADIUS=500;X-TITLE=Classroom Unit:geo:-122.0568677,36.9979122
END:VEVENT
BEGIN:VEVENT
DTSTART;TZID=America/Los_Angeles:20251022T140000
DTEND;TZID=America/Los_Angeles:20251022T160000
DTSTAMP:20260425T071103
CREATED:20251003T195533Z
LAST-MODIFIED:20251021T204421Z
UID:10003167-1761141600-1761148800@events.ucsc.edu
SUMMARY:Global Cafe (Hosted by Global Engagement)
DESCRIPTION:Global Engagement invites you to join us for our monthly Global Cafe. Come swing by our office for some refreshments\, meet new people\, and share international stories with fellow students\, staff\, and faculty members. \nNo RSVP required. If you have any questions\, please contact us at iprogramming@ucsc.edu
URL:https://events.ucsc.edu/event/global-cafe-hosted-by-global-engagement/
LOCATION:Classroom Unit\, Classroom Unit\, Santa Cruz\, CA\, 95064\, Select a Country:
CATEGORIES:Meetings & Conferences
ATTACH;FMTTYPE=image/png:https://events.ucsc.edu/wp-content/uploads/2025/10/Global-Cafe-Fall-2025.png
GEO:36.9979122;-122.0568677
X-APPLE-STRUCTURED-LOCATION;VALUE=URI;X-ADDRESS=Classroom Unit Classroom Unit Santa Cruz CA 95064 Select a Country:;X-APPLE-RADIUS=500;X-TITLE=Classroom Unit:geo:-122.0568677,36.9979122
END:VEVENT
END:VCALENDAR