BEGIN:VCALENDAR
VERSION:2.0
PRODID:-//Events - ECPv6.15.20//NONSGML v1.0//EN
CALSCALE:GREGORIAN
METHOD:PUBLISH
X-ORIGINAL-URL:https://events.ucsc.edu
X-WR-CALDESC:Events for Events
REFRESH-INTERVAL;VALUE=DURATION:PT1H
X-Robots-Tag:noindex
X-PUBLISHED-TTL:PT1H
BEGIN:VTIMEZONE
TZID:America/Los_Angeles
BEGIN:DAYLIGHT
TZOFFSETFROM:-0800
TZOFFSETTO:-0700
TZNAME:PDT
DTSTART:20240310T100000
END:DAYLIGHT
BEGIN:STANDARD
TZOFFSETFROM:-0700
TZOFFSETTO:-0800
TZNAME:PST
DTSTART:20241103T090000
END:STANDARD
BEGIN:DAYLIGHT
TZOFFSETFROM:-0800
TZOFFSETTO:-0700
TZNAME:PDT
DTSTART:20250309T100000
END:DAYLIGHT
BEGIN:STANDARD
TZOFFSETFROM:-0700
TZOFFSETTO:-0800
TZNAME:PST
DTSTART:20251102T090000
END:STANDARD
BEGIN:DAYLIGHT
TZOFFSETFROM:-0800
TZOFFSETTO:-0700
TZNAME:PDT
DTSTART:20260308T100000
END:DAYLIGHT
BEGIN:STANDARD
TZOFFSETFROM:-0700
TZOFFSETTO:-0800
TZNAME:PST
DTSTART:20261101T090000
END:STANDARD
END:VTIMEZONE
BEGIN:VEVENT
DTSTART;TZID=America/Los_Angeles:20251022T130000
DTEND;TZID=America/Los_Angeles:20251022T160000
DTSTAMP:20260423T031503
CREATED:20251015T195841Z
LAST-MODIFIED:20251015T210123Z
UID:10004823-1761138000-1761148800@events.ucsc.edu
SUMMARY:These Hands Heal: Growing\, Planting\, and Understanding
DESCRIPTION:As part of Relationship\, Dating\, and Domestic Violence Awareness/Action Month (RDDVAM)\, all UC Santa Cruz students\, staff\, and faculty are invited to plant seeds and paint messages of support for survivors—or reflections for themselves. Then\, place these seeds and stones of resilience in your own gardens or shared green spaces for others to discover. Art supplies\, snacks\, and community provided — co-sponsored by College 9’s CoCurricular Programs Office.
URL:https://events.ucsc.edu/event/these-hands-heal-growing-planting-understanding-2/
LOCATION:College 9 & John R. Lewis College Garden
ATTACH;FMTTYPE=image/png:https://events.ucsc.edu/wp-content/uploads/2025/10/thesehandsheal-calendar-scaled-e1760557867173.png
END:VEVENT
END:VCALENDAR