BEGIN:VCALENDAR
VERSION:2.0
PRODID:-//Events - ECPv6.15.20//NONSGML v1.0//EN
CALSCALE:GREGORIAN
METHOD:PUBLISH
X-ORIGINAL-URL:https://events.ucsc.edu
X-WR-CALDESC:Events for Events
REFRESH-INTERVAL;VALUE=DURATION:PT1H
X-Robots-Tag:noindex
X-PUBLISHED-TTL:PT1H
BEGIN:VTIMEZONE
TZID:America/Los_Angeles
BEGIN:DAYLIGHT
TZOFFSETFROM:-0800
TZOFFSETTO:-0700
TZNAME:PDT
DTSTART:20240310T100000
END:DAYLIGHT
BEGIN:STANDARD
TZOFFSETFROM:-0700
TZOFFSETTO:-0800
TZNAME:PST
DTSTART:20241103T090000
END:STANDARD
BEGIN:DAYLIGHT
TZOFFSETFROM:-0800
TZOFFSETTO:-0700
TZNAME:PDT
DTSTART:20250309T100000
END:DAYLIGHT
BEGIN:STANDARD
TZOFFSETFROM:-0700
TZOFFSETTO:-0800
TZNAME:PST
DTSTART:20251102T090000
END:STANDARD
BEGIN:DAYLIGHT
TZOFFSETFROM:-0800
TZOFFSETTO:-0700
TZNAME:PDT
DTSTART:20260308T100000
END:DAYLIGHT
BEGIN:STANDARD
TZOFFSETFROM:-0700
TZOFFSETTO:-0800
TZNAME:PST
DTSTART:20261101T090000
END:STANDARD
BEGIN:DAYLIGHT
TZOFFSETFROM:-0800
TZOFFSETTO:-0700
TZNAME:PDT
DTSTART:20270314T100000
END:DAYLIGHT
BEGIN:STANDARD
TZOFFSETFROM:-0700
TZOFFSETTO:-0800
TZNAME:PST
DTSTART:20271107T090000
END:STANDARD
END:VTIMEZONE
BEGIN:VEVENT
DTSTART;TZID=America/Los_Angeles:20260211T120000
DTEND;TZID=America/Los_Angeles:20260211T130000
DTSTAMP:20260419T025112
CREATED:20260203T232101Z
LAST-MODIFIED:20260203T232101Z
UID:10009136-1770811200-1770814800@events.ucsc.edu
SUMMARY:Centering the Experiences of Undocumented Transfer Students at HSIs: A Brown Bag Presentation by Valeria Alonso Blanco
DESCRIPTION:  \nThe Huerta Center is proud to present a brown bag presentation by Graduate Student Research Awardee Valeria Alonso Blanco. She will present on a qualitative study that explores how undocumented Latinx transfer students navigate institutional support\, belonging\, and barriers at a four-year Hispanic Serving Institution (HSI). Findings reveal gaps between institutional commitments and student realities\, and she offers actionable recommendations for more equitable\, transfer-receptive practices.
URL:https://events.ucsc.edu/event/centering-the-experiences-of-undocumented-transfer-students-at-hsis-a-brown-bag-presentation-by-valeria-alonso-blanco/
LOCATION:Huerta Center Conference Room (Casa Latina)\, 641 Merrill Rd\, Santa Cruz\,\, CA\, 95064
CATEGORIES:Lectures & Presentations,Ph.D. Presentations
ATTACH;FMTTYPE=image/jpeg:https://events.ucsc.edu/wp-content/uploads/2026/01/Picture_AlonsoBlanco-Valeria-J-Alonso-Blanco.jpg
GEO:37.0003908;-122.0534175
X-APPLE-STRUCTURED-LOCATION;VALUE=URI;X-ADDRESS=Huerta Center Conference Room (Casa Latina) 641 Merrill Rd Santa Cruz CA 95064;X-APPLE-RADIUS=500;X-TITLE=641 Merrill Rd:geo:-122.0534175,37.0003908
END:VEVENT
BEGIN:VEVENT
DTSTART;TZID=America/Los_Angeles:20251022T120000
DTEND;TZID=America/Los_Angeles:20251022T130000
DTSTAMP:20260419T025112
CREATED:20251008T195221Z
LAST-MODIFIED:20251016T181905Z
UID:10004393-1761134400-1761138000@events.ucsc.edu
SUMMARY:Penumbra de la memoria: Brown Bag with Maya Scherr-Willson
DESCRIPTION:During this presentation\, Maya Scherr-Willson (PhD Student in the Film and Media Department) will show material and reflect on insights from a research trip that laid the groundwork for Penumbra de la memoria\, a feature documentary to be shot this summer. The project reunites eight women fifty years after they were held as political prisoners together during Argentina’s last military dictatorship to film an adaptation from memory of their prison-era performance of The House of Bernarda Alba by Federico García Lorca. The group\, engaged in collective work\, will be the protagonist of the film that chronicles the political memory that erupts through their creative process.
URL:https://events.ucsc.edu/event/penumbra-de-la-memoria-brown-bag-with-maya-scherr-willson/
LOCATION:Huerta Center Conference Room (Casa Latina)\, 641 Merrill Rd\, Santa Cruz\,\, CA\, 95064
CATEGORIES:Lectures & Presentations,Ph.D. Presentations
ATTACH;FMTTYPE=image/jpeg:https://events.ucsc.edu/wp-content/uploads/2025/10/Maya-SW-cropped.jpg
GEO:37.0003908;-122.0534175
X-APPLE-STRUCTURED-LOCATION;VALUE=URI;X-ADDRESS=Huerta Center Conference Room (Casa Latina) 641 Merrill Rd Santa Cruz CA 95064;X-APPLE-RADIUS=500;X-TITLE=641 Merrill Rd:geo:-122.0534175,37.0003908
END:VEVENT
END:VCALENDAR