BEGIN:VCALENDAR
VERSION:2.0
PRODID:-//Events - ECPv6.15.20//NONSGML v1.0//EN
CALSCALE:GREGORIAN
METHOD:PUBLISH
X-WR-CALNAME:Events
X-ORIGINAL-URL:https://events.ucsc.edu
X-WR-CALDESC:Events for Events
REFRESH-INTERVAL;VALUE=DURATION:PT1H
X-Robots-Tag:noindex
X-PUBLISHED-TTL:PT1H
BEGIN:VTIMEZONE
TZID:America/Los_Angeles
BEGIN:DAYLIGHT
TZOFFSETFROM:-0800
TZOFFSETTO:-0700
TZNAME:PDT
DTSTART:20250309T100000
END:DAYLIGHT
BEGIN:STANDARD
TZOFFSETFROM:-0700
TZOFFSETTO:-0800
TZNAME:PST
DTSTART:20251102T090000
END:STANDARD
BEGIN:DAYLIGHT
TZOFFSETFROM:-0800
TZOFFSETTO:-0700
TZNAME:PDT
DTSTART:20260308T100000
END:DAYLIGHT
BEGIN:STANDARD
TZOFFSETFROM:-0700
TZOFFSETTO:-0800
TZNAME:PST
DTSTART:20261101T090000
END:STANDARD
BEGIN:DAYLIGHT
TZOFFSETFROM:-0800
TZOFFSETTO:-0700
TZNAME:PDT
DTSTART:20270314T100000
END:DAYLIGHT
BEGIN:STANDARD
TZOFFSETFROM:-0700
TZOFFSETTO:-0800
TZNAME:PST
DTSTART:20271107T090000
END:STANDARD
END:VTIMEZONE
BEGIN:VEVENT
DTSTART;TZID=America/Los_Angeles:20260605T150000
DTEND;TZID=America/Los_Angeles:20260605T170000
DTSTAMP:20260420T225441
CREATED:20260420T224407Z
LAST-MODIFIED:20260420T224407Z
UID:10013348-1780671600-1780678800@events.ucsc.edu
SUMMARY:GCH190 Taskforce Showcase
DESCRIPTION:Please join us in celebrating the past year’s offerings of the Global and Community Health Task Force! There will be student ambassadors presenting on each topic\, along with faculty giving a sneak peek on their courses for next academic year. This will be a great way to both honor the research from this year and orient incoming seniors to what the Task Force is all about. \nThe showcase will be held at Stevenson Event Center on Friday\, June 5th from 3:00 – 5:00 PM. There will be hot and cold appetizers\, along with refreshments. It’s going to be a great time!
URL:https://events.ucsc.edu/event/gch190-taskforce-showcase/
LOCATION:Stevenson Event Center\, Stevenson Service Road\, Santa Cruz\, CA\, 95064
ATTACH;FMTTYPE=image/jpeg:https://events.ucsc.edu/wp-content/uploads/2026/04/Orange-and-White-Modern-Public-Speaking-Workshop-Flyer.jpg
GEO:36.996897;-122.0512963
X-APPLE-STRUCTURED-LOCATION;VALUE=URI;X-ADDRESS=Stevenson Event Center Stevenson Service Road Santa Cruz CA 95064;X-APPLE-RADIUS=500;X-TITLE=Stevenson Service Road:geo:-122.0512963,36.996897
END:VEVENT
END:VCALENDAR